BEGIN:VCALENDAR
VERSION:2.0
PRODID:-//Kamloops Vineyard Church - ECPv6.15.16//NONSGML v1.0//EN
CALSCALE:GREGORIAN
METHOD:PUBLISH
X-ORIGINAL-URL:https://kamloopsvineyard.com
X-WR-CALDESC:Events for Kamloops Vineyard Church
REFRESH-INTERVAL;VALUE=DURATION:PT1H
X-Robots-Tag:noindex
X-PUBLISHED-TTL:PT1H
BEGIN:VTIMEZONE
TZID:America/Vancouver
BEGIN:DAYLIGHT
TZOFFSETFROM:-0800
TZOFFSETTO:-0700
TZNAME:PDT
DTSTART:20220313T100000
END:DAYLIGHT
BEGIN:STANDARD
TZOFFSETFROM:-0700
TZOFFSETTO:-0800
TZNAME:PST
DTSTART:20221106T090000
END:STANDARD
BEGIN:DAYLIGHT
TZOFFSETFROM:-0800
TZOFFSETTO:-0700
TZNAME:PDT
DTSTART:20230312T100000
END:DAYLIGHT
BEGIN:STANDARD
TZOFFSETFROM:-0700
TZOFFSETTO:-0800
TZNAME:PST
DTSTART:20231105T090000
END:STANDARD
BEGIN:DAYLIGHT
TZOFFSETFROM:-0800
TZOFFSETTO:-0700
TZNAME:PDT
DTSTART:20240310T100000
END:DAYLIGHT
BEGIN:STANDARD
TZOFFSETFROM:-0700
TZOFFSETTO:-0800
TZNAME:PST
DTSTART:20241103T090000
END:STANDARD
END:VTIMEZONE
BEGIN:VEVENT
DTSTART;VALUE=DATE:20231108
DTEND;VALUE=DATE:20231109
DTSTAMP:20260419T123716
CREATED:20231101T223702Z
LAST-MODIFIED:20231101T223725Z
UID:5341-1699401600-1699487999@kamloopsvineyard.com
SUMMARY:The Breakfast Links. Wednesday morning @ 9 am.  The Salvation Army Church
DESCRIPTION:The Breakfast Links.\nWednesday mornings from 9 am – 10:30 am.\nThe Salvation Army Church \nEnjoy a hot breakfast\, sit with old and new friends.\nFeaturing a short story time for children. \nThe Kamloops Salvation Army Church\n344 Poplar St\nKamloops BC \nFor more information please contact Connie Smith\, connie@kamloopsvineyard.com
URL:https://kamloopsvineyard.com/event/the-breakfast-links-wednesday-morning-9-am-the-salvation-army-church/2023-11-08/
LOCATION:Kamloops Salvation Army Church\, 344 Poplar St\, Kamloops\, British Columbia\, V2B 4B8\, Canada
ATTACH;FMTTYPE=image/jpeg:https://kamloopsvineyard.com/wp-content/uploads/2023/11/TheBreakfastLink@1000.jpeg
END:VEVENT
END:VCALENDAR