BEGIN:VCALENDAR
VERSION:2.0
PRODID:-//Kamloops Vineyard Church - ECPv6.15.16//NONSGML v1.0//EN
CALSCALE:GREGORIAN
METHOD:PUBLISH
X-ORIGINAL-URL:https://kamloopsvineyard.com
X-WR-CALDESC:Events for Kamloops Vineyard Church
REFRESH-INTERVAL;VALUE=DURATION:PT1H
X-Robots-Tag:noindex
X-PUBLISHED-TTL:PT1H
BEGIN:VTIMEZONE
TZID:America/Vancouver
BEGIN:DAYLIGHT
TZOFFSETFROM:-0800
TZOFFSETTO:-0700
TZNAME:PDT
DTSTART:20210314T100000
END:DAYLIGHT
BEGIN:STANDARD
TZOFFSETFROM:-0700
TZOFFSETTO:-0800
TZNAME:PST
DTSTART:20211107T090000
END:STANDARD
BEGIN:DAYLIGHT
TZOFFSETFROM:-0800
TZOFFSETTO:-0700
TZNAME:PDT
DTSTART:20220313T100000
END:DAYLIGHT
BEGIN:STANDARD
TZOFFSETFROM:-0700
TZOFFSETTO:-0800
TZNAME:PST
DTSTART:20221106T090000
END:STANDARD
BEGIN:DAYLIGHT
TZOFFSETFROM:-0800
TZOFFSETTO:-0700
TZNAME:PDT
DTSTART:20230312T100000
END:DAYLIGHT
BEGIN:STANDARD
TZOFFSETFROM:-0700
TZOFFSETTO:-0800
TZNAME:PST
DTSTART:20231105T090000
END:STANDARD
END:VTIMEZONE
BEGIN:VEVENT
DTSTART;VALUE=DATE:20221020
DTEND;VALUE=DATE:20221024
DTSTAMP:20260423T160731
CREATED:20220907T180836Z
LAST-MODIFIED:20220921T184528Z
UID:3842-1666224000-1666569599@kamloopsvineyard.com
SUMMARY:BC Vineyard Regional Gathering 2022 (Penticton BC). Oct 20th - Oct 22nd.
DESCRIPTION:We’re throwing the doors open.\nEveryone is invited!\nBC VINEYARD REGIONAL GATHERING 2022 (Penticton)\nOCTOBER 20th to 22nd.\nPurchase your tickets today! EVENTBRITE.\nJoin the Penticton and Kelowna Vineyard churches on October 23rd for their Sunday Morning Worship Service. \nCOST for attendance is $25 a person or $5 per session\, 17 yrs of age and under are FREE.\nREGISTRY to be made available through Eventbrite\nVenue: Penticton Vineyard Community Church\, 1825 Main St\, Penticton\, BC V2A 5H2. \nFeaturing the ministry of keynote speakers Noel Isaacs (National Director of the Himalayan Vineyards) and David Ruis (National Director of Vineyard Canada)\, and the worship leading and oversight of worship artist and leader Andy Park (BC Vineyard). \nBrief caputre of BC Vineyard Regional Gathering (see Eventbrite for more information) \nThursday\, October 20th \nEvening\n6:00 – 7:00 pm: Coffee\, Registration\n7:00 pm: Worship & Session #1\n8:45 pm: Third Space\, hang out with friends. (onsite coffee shop will be open) \nFriday\, October 21st \nMorning\n9:30 am: Coffee & Registration\n10:00 am: Worship & Session #2\n11:30 am: Session #3\n1:00 pm: Lunch Break \nAfternoon\n1:00 pm – 6:30 pm: Free Time \nOptional Session\n2:30 – 3:30pm: An interview with our National Directors\, David and Anita Ruis \nEvening\n6:30 pm: Coffee\, Registration\n7:00 pm: Worship Celebration\, Session # 4\n9:00 pm: Third Space\, hang out with friends. (onsite coffee shop will be open) \nSaturday October 22nd \nMorning\n9:30 am: Coffee & Registration\n10:00 am: Session #5\n11:00 am: Coffee Break\n11:30 am: Session #6 Worship & Communion\n1:00 pm – Official end of gathering \nRegistration fee is $25.00 per person\n17 and under are free\nPer session rates available at the door for $5.00 per person \n*NO CHILDCARE AVAILABLE / NURSING ROOM AVAILABLE \nSunday October 23rd : Open to all\nOpen invite to join Penticton Vineyard’s Sunday Service at 10AM with Mike Fornwald\, David Ruis and Noel Isaacs.
URL:https://kamloopsvineyard.com/event/bc-vineyard-regional-gathering-2022-penticton-bc-oct-20th-oct-22nd/
LOCATION:Penticton Vineyard Church\, 1825 Main St\, Penticton\, British Columbia\, Canada
CATEGORIES:BC Vineyard Churches,Special Event,Vineyard Canada Gathering
ATTACH;FMTTYPE=image/jpeg:https://kamloopsvineyard.com/wp-content/uploads/2022/09/BC-VINEYARD-GATHERING-2022-@-960.jpeg
END:VEVENT
BEGIN:VEVENT
DTSTART;VALUE=DATE:20221028
DTEND;VALUE=DATE:20221031
DTSTAMP:20260423T160731
CREATED:20220916T193859Z
LAST-MODIFIED:20220916T215027Z
UID:3904-1666915200-1667174399@kamloopsvineyard.com
SUMMARY:BC Vineyard Youth Conference. Converge Refresh. Oct 28th - 30th 2022.
DESCRIPTION:BC Vineyard Youth Conference\nConverge Refresh.\nOct 28th – 30th 2022.\nCamp Squeah\nWorship and Ministry\nEngaging Speakers\nSerious Fun\nGood Food\nTickets are $140\nGrades 6 – 12. \nHere is something that is in the works! It’s a BC Vineyard Youth Event being held in CAMP SQUEAH on October 28th – 30th. We’re putting it out there to our youth (Grades 6 – 10) and to our parents as something to consider. Our contact and point person for this event is Bonnie Bylsma\, bonnie@kamloopsvineyard.com. IF this is something you or your youth might be interested in attending\, we want to hear from you. \nFor links to Converge promotional video\, click here.\nDownload Converge 2022 Flyer and Signup Sheet\, click here. \n  \n 
URL:https://kamloopsvineyard.com/event/bc-vineyard-youth-conference-converge-refresh-oct-28th-30th-2022/
LOCATION:Camp Squeah\, 27915 Trans-Canada Hwy\, Hope\, BC\, V0X 1L3\, Canada
CATEGORIES:BC Vineyard Churches,Special Event,Youth
ATTACH;FMTTYPE=image/jpeg:https://kamloopsvineyard.com/wp-content/uploads/2022/09/Converge2022_ScreenSplash@1000.jpeg
ORGANIZER;CN="Penticton Vineyard Church":MAILTO:office@pentictonvineyard.com
END:VEVENT
END:VCALENDAR