BEGIN:VCALENDAR
VERSION:2.0
PRODID:-//Kamloops Vineyard Church - ECPv6.15.16//NONSGML v1.0//EN
CALSCALE:GREGORIAN
METHOD:PUBLISH
X-ORIGINAL-URL:https://kamloopsvineyard.com
X-WR-CALDESC:Events for Kamloops Vineyard Church
REFRESH-INTERVAL;VALUE=DURATION:PT1H
X-Robots-Tag:noindex
X-PUBLISHED-TTL:PT1H
BEGIN:VTIMEZONE
TZID:America/Vancouver
BEGIN:DAYLIGHT
TZOFFSETFROM:-0800
TZOFFSETTO:-0700
TZNAME:PDT
DTSTART:20240310T100000
END:DAYLIGHT
BEGIN:STANDARD
TZOFFSETFROM:-0700
TZOFFSETTO:-0800
TZNAME:PST
DTSTART:20241103T090000
END:STANDARD
BEGIN:DAYLIGHT
TZOFFSETFROM:-0800
TZOFFSETTO:-0700
TZNAME:PDT
DTSTART:20250309T100000
END:DAYLIGHT
BEGIN:STANDARD
TZOFFSETFROM:-0700
TZOFFSETTO:-0800
TZNAME:PST
DTSTART:20251102T090000
END:STANDARD
BEGIN:DAYLIGHT
TZOFFSETFROM:-0800
TZOFFSETTO:-0700
TZNAME:PDT
DTSTART:20260308T100000
END:DAYLIGHT
BEGIN:STANDARD
TZOFFSETFROM:-0700
TZOFFSETTO:-0800
TZNAME:PST
DTSTART:20261101T090000
END:STANDARD
END:VTIMEZONE
BEGIN:VEVENT
DTSTART;VALUE=DATE:20251031
DTEND;VALUE=DATE:20251103
DTSTAMP:20260420T162553
CREATED:20250809T212650Z
LAST-MODIFIED:20250809T213210Z
UID:7671-1761868800-1762127999@kamloopsvineyard.com
SUMMARY:BC Vineyard Youth Retreat. Converge Awake 2025. Oct 31st - Nov 2nd.
DESCRIPTION:BC Vineyard Youth Retreat.\nConverge AWAKE 2025\nOct 31st – Nov 2nd\nCamp Squeah\nWorship and Ministry\nEngaging Speakers\nSerious Fun\nGood Food\nTickets are $150 per student\nGrades 6 – 12. \nHere is something that is in the works! It’s a BC Vineyard Youth Event being held in CAMP SQUEAH on Oct 31st – Nov 2nd.. We’re putting it out there to our youth (Grades 6 – 10) and to our parents as something to consider. Is this something as a youth that you’re interested in attending? Or as a parent or guardian\, providing leadership? There might be a couple hoops to jump\, but we’d love to speak with you. For more information contact David or Debbie\, info@kamloopsvineyard.com. \nFor links to the Converge 2022 promotional video\, click here.\nClick here to register online! \n  \n 
URL:https://kamloopsvineyard.com/event/bc-vineyard-youth-conference-converge-refresh-oct-30th-nov-2nd/
LOCATION:Camp Squeah\, 27915 Trans-Canada Hwy\, Hope\, BC\, V0X 1L3\, Canada
CATEGORIES:BC Vineyard Churches,Special Event,Youth
ATTACH;FMTTYPE=image/png:https://kamloopsvineyard.com/wp-content/uploads/2025/08/Converge25_Website-1024x435-1.png
ORGANIZER;CN="Penticton Vineyard Church":MAILTO:office@pentictonvineyard.com
END:VEVENT
END:VCALENDAR