BEGIN:VCALENDAR
VERSION:2.0
PRODID:-//Kamloops Vineyard Church - ECPv6.15.16//NONSGML v1.0//EN
CALSCALE:GREGORIAN
METHOD:PUBLISH
X-WR-CALNAME:Kamloops Vineyard Church
X-ORIGINAL-URL:https://kamloopsvineyard.com
X-WR-CALDESC:Events for Kamloops Vineyard Church
REFRESH-INTERVAL;VALUE=DURATION:PT1H
X-Robots-Tag:noindex
X-PUBLISHED-TTL:PT1H
BEGIN:VTIMEZONE
TZID:America/Vancouver
BEGIN:DAYLIGHT
TZOFFSETFROM:-0800
TZOFFSETTO:-0700
TZNAME:PDT
DTSTART:20230312T100000
END:DAYLIGHT
BEGIN:STANDARD
TZOFFSETFROM:-0700
TZOFFSETTO:-0800
TZNAME:PST
DTSTART:20231105T090000
END:STANDARD
BEGIN:DAYLIGHT
TZOFFSETFROM:-0800
TZOFFSETTO:-0700
TZNAME:PDT
DTSTART:20240310T100000
END:DAYLIGHT
BEGIN:STANDARD
TZOFFSETFROM:-0700
TZOFFSETTO:-0800
TZNAME:PST
DTSTART:20241103T090000
END:STANDARD
BEGIN:DAYLIGHT
TZOFFSETFROM:-0800
TZOFFSETTO:-0700
TZNAME:PDT
DTSTART:20250309T100000
END:DAYLIGHT
BEGIN:STANDARD
TZOFFSETFROM:-0700
TZOFFSETTO:-0800
TZNAME:PST
DTSTART:20251102T090000
END:STANDARD
END:VTIMEZONE
BEGIN:VEVENT
DTSTART;VALUE=DATE:20241224
DTEND;VALUE=DATE:20241225
DTSTAMP:20260422T001157
CREATED:20241122T171840Z
LAST-MODIFIED:20241122T171840Z
UID:6804-1734998400-1735084799@kamloopsvineyard.com
SUMMARY:Vineyard\, Lighthouse and Methodist Christmas Eve Candlelight Service. Tuesday Dec 24th @ 4 pm.
DESCRIPTION:You’re invited to a Christmas Eve Candlelight Service\nSunday Dec 24th @ 4 pm. \nThe Vineyard is joining together with the Free Methodist Church and Lighthouse Christian Fellowship to celebrate the beautiful coming of the CHRIST CHILD into our lives. \nVenue: The Free Methodist Church\n975 Windbreak St\, Kamloops\, BC V2B 5P5 \nFor more information please contact our office\, info@kamloopsvineyard.com.
URL:https://kamloopsvineyard.com/event/vineyard-lighthouse-and-methodist-christmas-eve-candlelight-service-tuesday-dec-24th-4-pm/
LOCATION:Kamloops Free Methodist Church\, 975 Windbreak St\, Kamloops\, BC\, V2B 5P5\, Canada
CATEGORIES:Christmas Eve
ATTACH;FMTTYPE=image/jpeg:https://kamloopsvineyard.com/wp-content/uploads/2024/11/candle@1000.jpg
END:VEVENT
END:VCALENDAR