BEGIN:VCALENDAR
VERSION:2.0
PRODID:-//Kamloops Vineyard Church - ECPv6.15.16//NONSGML v1.0//EN
CALSCALE:GREGORIAN
METHOD:PUBLISH
X-ORIGINAL-URL:https://kamloopsvineyard.com
X-WR-CALDESC:Events for Kamloops Vineyard Church
REFRESH-INTERVAL;VALUE=DURATION:PT1H
X-Robots-Tag:noindex
X-PUBLISHED-TTL:PT1H
BEGIN:VTIMEZONE
TZID:America/Vancouver
BEGIN:DAYLIGHT
TZOFFSETFROM:-0800
TZOFFSETTO:-0700
TZNAME:PDT
DTSTART:20230312T100000
END:DAYLIGHT
BEGIN:STANDARD
TZOFFSETFROM:-0700
TZOFFSETTO:-0800
TZNAME:PST
DTSTART:20231105T090000
END:STANDARD
BEGIN:DAYLIGHT
TZOFFSETFROM:-0800
TZOFFSETTO:-0700
TZNAME:PDT
DTSTART:20240310T100000
END:DAYLIGHT
BEGIN:STANDARD
TZOFFSETFROM:-0700
TZOFFSETTO:-0800
TZNAME:PST
DTSTART:20241103T090000
END:STANDARD
BEGIN:DAYLIGHT
TZOFFSETFROM:-0800
TZOFFSETTO:-0700
TZNAME:PDT
DTSTART:20250309T100000
END:DAYLIGHT
BEGIN:STANDARD
TZOFFSETFROM:-0700
TZOFFSETTO:-0800
TZNAME:PST
DTSTART:20251102T090000
END:STANDARD
END:VTIMEZONE
BEGIN:VEVENT
DTSTART;VALUE=DATE:20240102
DTEND;VALUE=DATE:20240103
DTSTAMP:20260422T112717
CREATED:20231231T150957Z
LAST-MODIFIED:20231231T150957Z
UID:5836-1704153600-1704239999@kamloopsvineyard.com
SUMMARY:Moms Group.  Tuesdays from 9:30 am - 11:30 am.
DESCRIPTION:Mom’s Group meets every Tuesday morning 9:30am to 11:30am\nMoms of young children gather (almost) every Tues morning to grow in friendship and practical support with one another. \nContact Bonnie Bylsma at 250-318-9377 or bonnie@kamloopsvineyard.com for more details and location information.
URL:https://kamloopsvineyard.com/event/moms-group-tuesdays-from-930-am-1130-am-2/2024-01-02/
LOCATION:British Columbia
CATEGORIES:Children,Families,Moms Group
ATTACH;FMTTYPE=image/jpeg:https://kamloopsvineyard.com/wp-content/uploads/2022/10/MomsGroup@1000.jpeg
END:VEVENT
BEGIN:VEVENT
DTSTART;VALUE=DATE:20240114
DTEND;VALUE=DATE:20240115
DTSTAMP:20260422T112717
CREATED:20231228T190517Z
LAST-MODIFIED:20231228T190517Z
UID:5808-1705190400-1705276799@kamloopsvineyard.com
SUMMARY:Kids' Church Every 2nd and 4th Sunday @ 3 pm.
DESCRIPTION:Hello Vineyard family and new-comers\, \nWe’re excited to offer a breakout session for Kids’ Church on the 2nd and 4th Sunday of every month. For more information on how you can enroll your children and/or help participate with our team of snack-makers\, teachers\, and helpers please contact our leaders and organizers\, \nConnie Smith\, Kid’s Church Overseer\nconnie@kamloopsvineyard.com\n(250) 319-6831‬ \nDebbie Tombe\, Kids’ Church Registrations and Snack-coordinator\ndebbie@kamloopsvineyard.com\n(250) 320-4563
URL:https://kamloopsvineyard.com/event/kids-church-every-2nd-and-4th-sunday-3-pm-3/
LOCATION:Kamloops Free Methodist Church\, 975 Windbreak St\, Kamloops\, BC\, V2B 5P5\, Canada
CATEGORIES:Children,Families,Kids' Church
ATTACH;FMTTYPE=image/png:https://kamloopsvineyard.com/wp-content/uploads/2022/09/KidsChurch_2022_BANNER@1000.png
END:VEVENT
BEGIN:VEVENT
DTSTART;VALUE=DATE:20240121
DTEND;VALUE=DATE:20240122
DTSTAMP:20260422T112717
CREATED:20231228T183417Z
LAST-MODIFIED:20231228T200352Z
UID:5769-1705795200-1705881599@kamloopsvineyard.com
SUMMARY:Kids Activity Table. Every 3rd and 5th Sunday @ 3 pm.
DESCRIPTION:Hello Vineyard family and new-comers\, \nWe’re presenting creative activities to involve families every Sunday of the month. \nWe’re excited to share that we’re setting a Kids Activity Table @ the rear\nof the sanctuary on the 3rd and 5th Sunday of every month. \nMaybe you can share in the oversight of the table from time-to-time\, or simply enjoy the opportunity to participate in any given worship service. \nConnie Smith\, Kid’s Church Overseer\nconnie@kamloopsvineyard.com\n(250) 319-6831‬ \nDebbie Tombe\, Kids’ Church Registrations and Snack-coordinator\ndebbie@kamloopsvineyard.com\n(250) 320-4563
URL:https://kamloopsvineyard.com/event/kids-activity-table-every-3rd-and-5th-sunday-3-pm-4/
LOCATION:Kamloops Free Methodist Church\, 975 Windbreak St\, Kamloops\, BC\, V2B 5P5\, Canada
CATEGORIES:Children,Families,Kids' Church
ATTACH;FMTTYPE=image/jpeg:https://kamloopsvineyard.com/wp-content/uploads/2023/11/KidsActivityTable@1000.jpg
END:VEVENT
BEGIN:VEVENT
DTSTART;VALUE=DATE:20240128
DTEND;VALUE=DATE:20240129
DTSTAMP:20260422T112717
CREATED:20231228T190707Z
LAST-MODIFIED:20231228T190707Z
UID:5810-1706400000-1706486399@kamloopsvineyard.com
SUMMARY:Kids' Church Every 2nd and 4th Sunday @ 3 pm.
DESCRIPTION:Hello Vineyard family and new-comers\, \nWe’re excited to offer a breakout session for Kids’ Church on the 2nd and 4th Sunday of every month. For more information on how you can enroll your children and/or help participate with our team of snack-makers\, teachers\, and helpers please contact our leaders and organizers\, \nConnie Smith\, Kid’s Church Overseer\nconnie@kamloopsvineyard.com\n(250) 319-6831‬ \nDebbie Tombe\, Kids’ Church Registrations and Snack-coordinator\ndebbie@kamloopsvineyard.com\n(250) 320-4563
URL:https://kamloopsvineyard.com/event/kids-church-every-2nd-and-4th-sunday-3-pm-4/
LOCATION:Kamloops Free Methodist Church\, 975 Windbreak St\, Kamloops\, BC\, V2B 5P5\, Canada
CATEGORIES:Children,Families,Kids' Church
ATTACH;FMTTYPE=image/png:https://kamloopsvineyard.com/wp-content/uploads/2022/09/KidsChurch_2022_BANNER@1000.png
END:VEVENT
END:VCALENDAR