BEGIN:VCALENDAR
VERSION:2.0
PRODID:-//Kamloops Vineyard Church - ECPv6.15.16//NONSGML v1.0//EN
CALSCALE:GREGORIAN
METHOD:PUBLISH
X-ORIGINAL-URL:https://kamloopsvineyard.com
X-WR-CALDESC:Events for Kamloops Vineyard Church
REFRESH-INTERVAL;VALUE=DURATION:PT1H
X-Robots-Tag:noindex
X-PUBLISHED-TTL:PT1H
BEGIN:VTIMEZONE
TZID:America/Vancouver
BEGIN:DAYLIGHT
TZOFFSETFROM:-0800
TZOFFSETTO:-0700
TZNAME:PDT
DTSTART:20240310T100000
END:DAYLIGHT
BEGIN:STANDARD
TZOFFSETFROM:-0700
TZOFFSETTO:-0800
TZNAME:PST
DTSTART:20241103T090000
END:STANDARD
BEGIN:DAYLIGHT
TZOFFSETFROM:-0800
TZOFFSETTO:-0700
TZNAME:PDT
DTSTART:20250309T100000
END:DAYLIGHT
BEGIN:STANDARD
TZOFFSETFROM:-0700
TZOFFSETTO:-0800
TZNAME:PST
DTSTART:20251102T090000
END:STANDARD
BEGIN:DAYLIGHT
TZOFFSETFROM:-0800
TZOFFSETTO:-0700
TZNAME:PDT
DTSTART:20260308T100000
END:DAYLIGHT
BEGIN:STANDARD
TZOFFSETFROM:-0700
TZOFFSETTO:-0800
TZNAME:PST
DTSTART:20261101T090000
END:STANDARD
END:VTIMEZONE
BEGIN:VEVENT
DTSTART;VALUE=DATE:20250601
DTEND;VALUE=DATE:20250602
DTSTAMP:20260421T010915
CREATED:20250425T154320Z
LAST-MODIFIED:20250509T154553Z
UID:7243-1748736000-1748822399@kamloopsvineyard.com
SUMMARY:Vineyard House Church and Feast Sunday @ the Tombe's (Barnhartvale). Sunday June 1st @ 10 am.
DESCRIPTION:Kamloops Vineyard House Church and Feast Sunday\n\n\nCelebrations begin at 10 am. Please bring whatever you would like to share. We’re looking forward to connecting with you all! Everyone is welcome!*’ \n“Consider preparing a main meal\, side-dish\, and salad or dessert to share. What comes to mind? Run it by me if you’re not certain!” — Debbie \nClick here for a schedule and directions to get you there! \nHave you got any questions? You can reach out to Debbie\, by emailing debbie@kamloopsvineyard.com. \nHave you got any questions? You can reach out to Debbie Tombe\, by emailing her debbie@kamloopsvineyard.com. \n* Are you new to area\, new to church\, or merely wanting to check things out? By all means we’d love to connect with you\, please reach out to us\, David and Debbie Tombe @ info@kamloopsvineyard.com.
URL:https://kamloopsvineyard.com/event/vineyard-house-church-and-feast-sunday-tbd-sunday-june-1st-10-am/
LOCATION:Tombe’s Home\, 1266 Pine Grove Rd\, Kamloops\, British Columbia\, V2C 6V6\, Canada
CATEGORIES:Families,Feast Sunday,House Church,In-House Connections,In-Person Worship Service,Sunday In-Person Worship,Vineyard House Church
ATTACH;FMTTYPE=image/jpeg:https://kamloopsvineyard.com/wp-content/uploads/2025/01/FeastSundays2025@1000.jpeg
END:VEVENT
BEGIN:VEVENT
DTSTART;VALUE=DATE:20250608
DTEND;VALUE=DATE:20250609
DTSTAMP:20260421T010915
CREATED:20250425T153945Z
LAST-MODIFIED:20250605T000018Z
UID:7240-1749340800-1749427199@kamloopsvineyard.com
SUMMARY:Vineyard House Church @ the Kleywegt's (Rose Hill). Sunday June 8th @ 10 am.
DESCRIPTION:Kamloops Vineyard House Church\nSunday mornings @ 10 am\nWe meet in various houses and venues week-to-week.\n\n\n\nWe’re fostering a meaningful connectedness with Jesus and one-another throughout the week and House Church gatherings on Sunday mornings. Keep checking in on our calendar of events to stay current with information on events taking place through the week. \n\n\nIF you would like to make more personal connections then you can contact us @ info@kamloopsvineyard.com or call us @ 250-828-1690. \n\n\nAre you receiving weekly emails? If you’re not already receiving a weekly update (Vineyard newsletter called the Vineline) then we encourage you to SUBSCRIBE to receive a Vineyard newsletter that we like to call Vineline.
URL:https://kamloopsvineyard.com/event/vineyard-house-church-sunday-jun-8th-10-am/
LOCATION:Kleywegt’s Home\, 1422 Rose Hill Rd\, Kamloops\, BC\, V2E 1L4\, Canada
CATEGORIES:Families,House Church,In-House Connections,In-Person Worship Service,Sunday In-Person Worship,Vineyard House Church
ATTACH;FMTTYPE=image/jpeg:https://kamloopsvineyard.com/wp-content/uploads/2024/05/KVCHouseChurch_2024@1000.jpeg
END:VEVENT
BEGIN:VEVENT
DTSTART;VALUE=DATE:20250615
DTEND;VALUE=DATE:20250616
DTSTAMP:20260421T010915
CREATED:20250508T191710Z
LAST-MODIFIED:20250605T000506Z
UID:7354-1749945600-1750031999@kamloopsvineyard.com
SUMMARY:Vineyard House Church @ the Tombe's (Barnhartvale). Sunday June 15th @ 10 am.
DESCRIPTION:Kamloops Vineyard House Church\nSunday mornings @ 10 am (throughout the balance of June)\nWe meet in various houses and venues week-to-week.\n\n\n\nWe’re fostering a meaningful connectedness with Jesus and one-another throughout the week and House Church gatherings on Sunday mornings. Keep checking in on our calendar of events to stay current with information on events taking place through the week. \n\n\nIF you would like to make more personal connections then you can contact us @ info@kamloopsvineyard.com or call us @ 250-828-1690. \n\n\nAre you receiving weekly emails? If you’re not already receiving a weekly update (Vineyard newsletter called the Vineline) then we encourage you to SUBSCRIBE to receive a Vineyard newsletter that we like to call Vineline.
URL:https://kamloopsvineyard.com/event/vineyard-house-church-tbd-sunday-june-15th-10-am/
LOCATION:Tombe’s Home\, 1266 Pine Grove Rd\, Kamloops\, British Columbia\, V2C 6V6\, Canada
CATEGORIES:Families,House Church,In-House Connections,In-Person Worship Service,Sunday In-Person Worship,Vineyard House Church
ATTACH;FMTTYPE=image/jpeg:https://kamloopsvineyard.com/wp-content/uploads/2024/05/KVCHouseChurch_2024@1000.jpeg
END:VEVENT
BEGIN:VEVENT
DTSTART;VALUE=DATE:20250622
DTEND;VALUE=DATE:20250623
DTSTAMP:20260421T010915
CREATED:20250508T191806Z
LAST-MODIFIED:20250605T000559Z
UID:7356-1750550400-1750636799@kamloopsvineyard.com
SUMMARY:Vineyard House Church @ the Tombe's (Barnhartvale). Sunday June 22nd @ 10 am.
DESCRIPTION:Kamloops Vineyard House Church\nSunday mornings @ 10 am (throughout the balance of June)\nWe meet in various houses and venues week-to-week.\n\n\n\nWe’re fostering a meaningful connectedness with Jesus and one-another throughout the week and House Church gatherings on Sunday mornings. Keep checking in on our calendar of events to stay current with information on events taking place through the week. \n\n\nIF you would like to make more personal connections then you can contact us @ info@kamloopsvineyard.com or call us @ 250-828-1690. \n\n\nAre you receiving weekly emails? If you’re not already receiving a weekly update (Vineyard newsletter called the Vineline) then we encourage you to SUBSCRIBE to receive a Vineyard newsletter that we like to call Vineline.
URL:https://kamloopsvineyard.com/event/vineyard-house-church-tbd-sunday-june-22nd-10-am/
LOCATION:Tombe’s Home\, 1266 Pine Grove Rd\, Kamloops\, British Columbia\, V2C 6V6\, Canada
CATEGORIES:Families,House Church,In-House Connections,In-Person Worship Service,Sunday In-Person Worship,Vineyard House Church
ATTACH;FMTTYPE=image/jpeg:https://kamloopsvineyard.com/wp-content/uploads/2024/05/KVCHouseChurch_2024@1000.jpeg
END:VEVENT
BEGIN:VEVENT
DTSTART;VALUE=DATE:20250629
DTEND;VALUE=DATE:20250630
DTSTAMP:20260421T010915
CREATED:20250508T191908Z
LAST-MODIFIED:20250605T000628Z
UID:7358-1751155200-1751241599@kamloopsvineyard.com
SUMMARY:Vineyard House Church @ the Tombe's (Barnhartvale). Sunday June 29th @ 10 am.
DESCRIPTION:Kamloops Vineyard House Church\nSunday mornings @ 10 am (throughout the balance of June)\nWe meet in various houses and venues week-to-week.\n\n\n\nWe’re fostering a meaningful connectedness with Jesus and one-another throughout the week and House Church gatherings on Sunday mornings. Keep checking in on our calendar of events to stay current with information on events taking place through the week. \n\n\nIF you would like to make more personal connections then you can contact us @ info@kamloopsvineyard.com or call us @ 250-828-1690. \n\n\nAre you receiving weekly emails? If you’re not already receiving a weekly update (Vineyard newsletter called the Vineline) then we encourage you to SUBSCRIBE to receive a Vineyard newsletter that we like to call Vineline.
URL:https://kamloopsvineyard.com/event/vineyard-house-church-tbd-sunday-june-29th-10-am/
LOCATION:To Be Determined\, Kamloops\, British Columbia\, Canada
CATEGORIES:Families,House Church,In-House Connections,In-Person Worship Service,Sunday In-Person Worship,Vineyard House Church
ATTACH;FMTTYPE=image/jpeg:https://kamloopsvineyard.com/wp-content/uploads/2024/05/KVCHouseChurch_2024@1000.jpeg
END:VEVENT
END:VCALENDAR