BEGIN:VCALENDAR
VERSION:2.0
PRODID:-//Kamloops Vineyard Church - ECPv6.15.16//NONSGML v1.0//EN
CALSCALE:GREGORIAN
METHOD:PUBLISH
X-ORIGINAL-URL:https://kamloopsvineyard.com
X-WR-CALDESC:Events for Kamloops Vineyard Church
REFRESH-INTERVAL;VALUE=DURATION:PT1H
X-Robots-Tag:noindex
X-PUBLISHED-TTL:PT1H
BEGIN:VTIMEZONE
TZID:America/Vancouver
BEGIN:DAYLIGHT
TZOFFSETFROM:-0800
TZOFFSETTO:-0700
TZNAME:PDT
DTSTART:20250309T100000
END:DAYLIGHT
BEGIN:STANDARD
TZOFFSETFROM:-0700
TZOFFSETTO:-0800
TZNAME:PST
DTSTART:20251102T090000
END:STANDARD
BEGIN:DAYLIGHT
TZOFFSETFROM:-0800
TZOFFSETTO:-0700
TZNAME:PDT
DTSTART:20260308T100000
END:DAYLIGHT
BEGIN:STANDARD
TZOFFSETFROM:-0700
TZOFFSETTO:-0800
TZNAME:PST
DTSTART:20261101T090000
END:STANDARD
BEGIN:DAYLIGHT
TZOFFSETFROM:-0800
TZOFFSETTO:-0700
TZNAME:PDT
DTSTART:20270314T100000
END:DAYLIGHT
BEGIN:STANDARD
TZOFFSETFROM:-0700
TZOFFSETTO:-0800
TZNAME:PST
DTSTART:20271107T090000
END:STANDARD
END:VTIMEZONE
BEGIN:VEVENT
DTSTART;VALUE=DATE:20260802
DTEND;VALUE=DATE:20260803
DTSTAMP:20260420T131316
CREATED:20260415T000412Z
LAST-MODIFIED:20260415T000444Z
UID:8301-1785628800-1785715199@kamloopsvineyard.com
SUMMARY:Vineyard House Church 'ON PAUSE One (1) Week Only'. Sunday Aug 2nd. (Summer Schedule)
DESCRIPTION:Kamloops Vineyard House Church\nSummer schedule (July — Sept 7th)\nBe sure to check the online schedule.\nVenues and schedules may vary.\n\n\n\n\nWe’re fostering deep relational connectedness with Jesus and one-another in home gatherings throughout the week and Sunday mornings. Keep checking in on our calendar of events to stay current with information on events taking place through the week. \n\n\nIF you would like to make more personal connections then you can contact us @ info@kamloopsvineyard.com or call us @ 250-828-1690. \n\n\nAre you receiving weekly emails? If you’re not already receiving a weekly update (Vineyard newsletter called the Vineline) then we encourage you to SUBSCRIBE to receive a Vineyard newsletter that we like to call Vineline.
URL:https://kamloopsvineyard.com/event/vineyard-house-church-on-pause-one-1-week-only-sunday-july-19th-summer-schedule-2/
LOCATION:British Columbia
CATEGORIES:Families,House Church,In-House Connections,In-Person Worship Service,Sunday In-Person Worship,Vineyard House Church
ATTACH;FMTTYPE=image/jpeg:https://kamloopsvineyard.com/wp-content/uploads/2025/05/HouseChurch_onpause1weekonly@1000.jpeg
END:VEVENT
BEGIN:VEVENT
DTSTART;VALUE=DATE:20260809
DTEND;VALUE=DATE:20260810
DTSTAMP:20260420T131316
CREATED:20260415T001016Z
LAST-MODIFIED:20260415T001016Z
UID:8313-1786233600-1786319999@kamloopsvineyard.com
SUMMARY:Vineyard House Church @ TBD. Sunday Aug 9th @ 10 am.
DESCRIPTION:Kamloops Vineyard House Church\nSummer schedule (July — Sept 7th)\nBe sure to check the online schedule.\nVenues and schedules may vary.\n\n\n\nWe’re fostering a meaningful connectedness with Jesus and one-another throughout the week and House Church gatherings on Sunday mornings. Keep checking in on our calendar of events to stay current with information on events taking place through the week. \n\n\nIF you would like to make more personal connections then you can contact us @ info@kamloopsvineyard.com or call us @ 250-202-5686.
URL:https://kamloopsvineyard.com/event/vineyard-house-church-tbd-sunday-aug-9th-10-am/
LOCATION:Fast’s Home\, 1660 Mt Dufferin Drive\, Kamloops\, British Columbia\, V2E 1A2\, Canada
CATEGORIES:Families,Feast Sunday,House Church,In-House Connections,In-Person Worship Service,Sunday In-Person Worship,Vineyard House Church
ATTACH;FMTTYPE=image/jpeg:https://kamloopsvineyard.com/wp-content/uploads/2024/05/KVCHouseChurch_2024@1000.jpeg
END:VEVENT
BEGIN:VEVENT
DTSTART;VALUE=DATE:20260816
DTEND;VALUE=DATE:20260817
DTSTAMP:20260420T131316
CREATED:20260415T000528Z
LAST-MODIFIED:20260415T000528Z
UID:8304-1786838400-1786924799@kamloopsvineyard.com
SUMMARY:Vineyard House Church 'ON PAUSE One (1) Week Only'. Sunday Aug16th. (Summer Schedule)
DESCRIPTION:Kamloops Vineyard House Church\nSummer schedule (July — Sept 7th)\nBe sure to check the online schedule.\nVenues and schedules may vary.\n\n\n\n\nWe’re fostering deep relational connectedness with Jesus and one-another in home gatherings throughout the week and Sunday mornings. Keep checking in on our calendar of events to stay current with information on events taking place through the week. \n\n\nIF you would like to make more personal connections then you can contact us @ info@kamloopsvineyard.com or call us @ 250-828-1690. \n\n\nAre you receiving weekly emails? If you’re not already receiving a weekly update (Vineyard newsletter called the Vineline) then we encourage you to SUBSCRIBE to receive a Vineyard newsletter that we like to call Vineline.
URL:https://kamloopsvineyard.com/event/vineyard-house-church-on-pause-one-1-week-only-sunday-aug16th-summer-schedule/
LOCATION:British Columbia
CATEGORIES:Families,House Church,In-House Connections,In-Person Worship Service,Sunday In-Person Worship,Vineyard House Church
ATTACH;FMTTYPE=image/jpeg:https://kamloopsvineyard.com/wp-content/uploads/2025/05/HouseChurch_onpause1weekonly@1000.jpeg
END:VEVENT
BEGIN:VEVENT
DTSTART;VALUE=DATE:20260823
DTEND;VALUE=DATE:20260824
DTSTAMP:20260420T131316
CREATED:20260415T001056Z
LAST-MODIFIED:20260415T001056Z
UID:8315-1787443200-1787529599@kamloopsvineyard.com
SUMMARY:Vineyard House Church @ TBD. Sunday Aug 23rd @ 10 am.
DESCRIPTION:Kamloops Vineyard House Church\nSummer schedule (July — Sept 7th)\nBe sure to check the online schedule.\nVenues and schedules may vary.\n\n\n\nWe’re fostering a meaningful connectedness with Jesus and one-another throughout the week and House Church gatherings on Sunday mornings. Keep checking in on our calendar of events to stay current with information on events taking place through the week. \n\n\nIF you would like to make more personal connections then you can contact us @ info@kamloopsvineyard.com or call us @ 250-202-5686.
URL:https://kamloopsvineyard.com/event/vineyard-house-church-tbd-sunday-aug-23rd-10-am/
LOCATION:Fast’s Home\, 1660 Mt Dufferin Drive\, Kamloops\, British Columbia\, V2E 1A2\, Canada
CATEGORIES:Families,Feast Sunday,House Church,In-House Connections,In-Person Worship Service,Sunday In-Person Worship,Vineyard House Church
ATTACH;FMTTYPE=image/jpeg:https://kamloopsvineyard.com/wp-content/uploads/2024/05/KVCHouseChurch_2024@1000.jpeg
END:VEVENT
BEGIN:VEVENT
DTSTART;VALUE=DATE:20260830
DTEND;VALUE=DATE:20260831
DTSTAMP:20260420T131316
CREATED:20260415T000602Z
LAST-MODIFIED:20260415T000602Z
UID:8306-1788048000-1788134399@kamloopsvineyard.com
SUMMARY:Vineyard House Church 'ON PAUSE One (1) Week Only'. Sunday Aug30th. (Summer Schedule)
DESCRIPTION:Kamloops Vineyard House Church\nSummer schedule (July — Sept 7th)\nBe sure to check the online schedule.\nVenues and schedules may vary.\n\n\n\n\nWe’re fostering deep relational connectedness with Jesus and one-another in home gatherings throughout the week and Sunday mornings. Keep checking in on our calendar of events to stay current with information on events taking place through the week. \n\n\nIF you would like to make more personal connections then you can contact us @ info@kamloopsvineyard.com or call us @ 250-828-1690. \n\n\nAre you receiving weekly emails? If you’re not already receiving a weekly update (Vineyard newsletter called the Vineline) then we encourage you to SUBSCRIBE to receive a Vineyard newsletter that we like to call Vineline.
URL:https://kamloopsvineyard.com/event/vineyard-house-church-on-pause-one-1-week-only-sunday-aug30th-summer-schedule/
LOCATION:British Columbia
CATEGORIES:Families,House Church,In-House Connections,In-Person Worship Service,Sunday In-Person Worship,Vineyard House Church
ATTACH;FMTTYPE=image/jpeg:https://kamloopsvineyard.com/wp-content/uploads/2025/05/HouseChurch_onpause1weekonly@1000.jpeg
END:VEVENT
END:VCALENDAR