BEGIN:VCALENDAR
VERSION:2.0
PRODID:-//Kamloops Vineyard Church - ECPv6.15.16//NONSGML v1.0//EN
CALSCALE:GREGORIAN
METHOD:PUBLISH
X-ORIGINAL-URL:https://kamloopsvineyard.com
X-WR-CALDESC:Events for Kamloops Vineyard Church
REFRESH-INTERVAL;VALUE=DURATION:PT1H
X-Robots-Tag:noindex
X-PUBLISHED-TTL:PT1H
BEGIN:VTIMEZONE
TZID:America/Vancouver
BEGIN:DAYLIGHT
TZOFFSETFROM:-0800
TZOFFSETTO:-0700
TZNAME:PDT
DTSTART:20250309T100000
END:DAYLIGHT
BEGIN:STANDARD
TZOFFSETFROM:-0700
TZOFFSETTO:-0800
TZNAME:PST
DTSTART:20251102T090000
END:STANDARD
BEGIN:DAYLIGHT
TZOFFSETFROM:-0800
TZOFFSETTO:-0700
TZNAME:PDT
DTSTART:20260308T100000
END:DAYLIGHT
BEGIN:STANDARD
TZOFFSETFROM:-0700
TZOFFSETTO:-0800
TZNAME:PST
DTSTART:20261101T090000
END:STANDARD
BEGIN:DAYLIGHT
TZOFFSETFROM:-0800
TZOFFSETTO:-0700
TZNAME:PDT
DTSTART:20270314T100000
END:DAYLIGHT
BEGIN:STANDARD
TZOFFSETFROM:-0700
TZOFFSETTO:-0800
TZNAME:PST
DTSTART:20271107T090000
END:STANDARD
END:VTIMEZONE
BEGIN:VEVENT
DTSTART;VALUE=DATE:20260712
DTEND;VALUE=DATE:20260713
DTSTAMP:20260420T130130
CREATED:20260415T000830Z
LAST-MODIFIED:20260415T000845Z
UID:8308-1783814400-1783900799@kamloopsvineyard.com
SUMMARY:Vineyard House Church @ TBD. Sunday July 12th @ 10 am.
DESCRIPTION:Kamloops Vineyard House Church\nSummer schedule (July — Sept 7th)\nBe sure to check the online schedule.\nVenues and schedules may vary.\n\n\n\nWe’re fostering a meaningful connectedness with Jesus and one-another throughout the week and House Church gatherings on Sunday mornings. Keep checking in on our calendar of events to stay current with information on events taking place through the week. \n\n\nIF you would like to make more personal connections then you can contact us @ info@kamloopsvineyard.com or call us @ 250-202-5686.
URL:https://kamloopsvineyard.com/event/vineyard-house-church-tbd-sunday-apr-12th-10-am/
LOCATION:Fast’s Home\, 1660 Mt Dufferin Drive\, Kamloops\, British Columbia\, V2E 1A2\, Canada
CATEGORIES:Families,Feast Sunday,House Church,In-House Connections,In-Person Worship Service,Sunday In-Person Worship,Vineyard House Church
ATTACH;FMTTYPE=image/jpeg:https://kamloopsvineyard.com/wp-content/uploads/2024/05/KVCHouseChurch_2024@1000.jpeg
END:VEVENT
BEGIN:VEVENT
DTSTART;VALUE=DATE:20260726
DTEND;VALUE=DATE:20260727
DTSTAMP:20260420T130130
CREATED:20260415T000926Z
LAST-MODIFIED:20260415T000926Z
UID:8311-1785024000-1785110399@kamloopsvineyard.com
SUMMARY:Vineyard House Church @ TBD. Sunday July 26th @ 10 am.
DESCRIPTION:Kamloops Vineyard House Church\nSummer schedule (July — Sept 7th)\nBe sure to check the online schedule.\nVenues and schedules may vary.\n\n\n\nWe’re fostering a meaningful connectedness with Jesus and one-another throughout the week and House Church gatherings on Sunday mornings. Keep checking in on our calendar of events to stay current with information on events taking place through the week. \n\n\nIF you would like to make more personal connections then you can contact us @ info@kamloopsvineyard.com or call us @ 250-202-5686.
URL:https://kamloopsvineyard.com/event/vineyard-house-church-tbd-sunday-july-26th-10-am/
LOCATION:Fast’s Home\, 1660 Mt Dufferin Drive\, Kamloops\, British Columbia\, V2E 1A2\, Canada
CATEGORIES:Families,Feast Sunday,House Church,In-House Connections,In-Person Worship Service,Sunday In-Person Worship,Vineyard House Church
ATTACH;FMTTYPE=image/jpeg:https://kamloopsvineyard.com/wp-content/uploads/2024/05/KVCHouseChurch_2024@1000.jpeg
END:VEVENT
END:VCALENDAR