BEGIN:VCALENDAR
VERSION:2.0
PRODID:-//Kamloops Vineyard Church - ECPv6.15.16//NONSGML v1.0//EN
CALSCALE:GREGORIAN
METHOD:PUBLISH
X-WR-CALNAME:Kamloops Vineyard Church
X-ORIGINAL-URL:https://kamloopsvineyard.com
X-WR-CALDESC:Events for Kamloops Vineyard Church
REFRESH-INTERVAL;VALUE=DURATION:PT1H
X-Robots-Tag:noindex
X-PUBLISHED-TTL:PT1H
BEGIN:VTIMEZONE
TZID:America/Vancouver
BEGIN:DAYLIGHT
TZOFFSETFROM:-0800
TZOFFSETTO:-0700
TZNAME:PDT
DTSTART:20210314T100000
END:DAYLIGHT
BEGIN:STANDARD
TZOFFSETFROM:-0700
TZOFFSETTO:-0800
TZNAME:PST
DTSTART:20211107T090000
END:STANDARD
BEGIN:DAYLIGHT
TZOFFSETFROM:-0800
TZOFFSETTO:-0700
TZNAME:PDT
DTSTART:20220313T100000
END:DAYLIGHT
BEGIN:STANDARD
TZOFFSETFROM:-0700
TZOFFSETTO:-0800
TZNAME:PST
DTSTART:20221106T090000
END:STANDARD
BEGIN:DAYLIGHT
TZOFFSETFROM:-0800
TZOFFSETTO:-0700
TZNAME:PDT
DTSTART:20230312T100000
END:DAYLIGHT
BEGIN:STANDARD
TZOFFSETFROM:-0700
TZOFFSETTO:-0800
TZNAME:PST
DTSTART:20231105T090000
END:STANDARD
BEGIN:DAYLIGHT
TZOFFSETFROM:-0800
TZOFFSETTO:-0700
TZNAME:PDT
DTSTART:20240310T100000
END:DAYLIGHT
BEGIN:STANDARD
TZOFFSETFROM:-0700
TZOFFSETTO:-0800
TZNAME:PST
DTSTART:20241103T090000
END:STANDARD
END:VTIMEZONE
BEGIN:VEVENT
DTSTART;VALUE=DATE:20230505
DTEND;VALUE=DATE:20230506
DTSTAMP:20260421T034811
CREATED:20230420T173024Z
LAST-MODIFIED:20230420T174151Z
UID:4471-1683244800-1683331199@kamloopsvineyard.com
SUMMARY:The Power of Group Prayer. Book Study and Group Prayer. Session 2. Friday May 5th @ 10 am.
DESCRIPTION:We’re gathering for a daytime book study and group prayer\non the 1st and 3rd Fridays of every month @ 10 am.\nClick here to download Promotional Information Sheet! \nVenue: Connie Smith’s home on the South Shore\n \nContact Connie or Debbie for directions.\nconnie@kamloopsvineyard.com\ndebbie@kamloopsvineyard.com \nOrder your copy of ‘The Power of Group Prayer’ from Amazon \nI want you to join David and I for a shared read and a weekly in-person group study of Carolyn Carney’s book ‘The Power of Group Intercession.’ In her book Carolyn addressed how intercession transforms us and the world we live in. \nPlease email me with your communicated desire to join our daytime study or to include your name as a possibility for an evening study\, debbie@kamloopsvineyard.com. \nPrevious to each session we will read a chapter at home.\nComing together we will review 2 – 3 thoughtful questions\,\nfollowed a time of group prayer. \n_____ \nOur hearts are renewed and transformed when we pray.\nThe revival of whole communities begins when God’s people pray together.\n_____ \nChristians often dream about the possibility of revival. But revival doesn’t come because we wish or plan for it. Revival occurs when groups of people pray together. However\, praying together effectively doesn’t come easily\, and we’re often left wondering how to best engage in the work of intercession. \nCarolyn Carney offers a practical guide for those who want something more than just another prayer meeting. Drawing from decades of ministry experience\, The Power of Group Prayer includes stories and practices for corporate prayer\, reflection questions\, and supplemental resources to help build powerful intercession groups. Pastors\, small group leaders\, and campus ministry leaders–or anyone who wants a deeper prayer life will be equipped to lead others in the kind of prayer that is necessary for effective\, resilient ministry. \nPraying together has the power to transform you and the world around you. Come to a place of deep intimacy with God as you learn ways to pray in community. \nOrder your copy of ‘The Power of Group Prayer’ from Amazon \n_____ \nWhat about forming an evening group? \nIf you are unable to meet through the day\, but you are keen to join an evening study\, given enough names we can see about forming a second group. \nIn summary\, I am excited about this opportunity. It will be so good to grow in our aware of God’s presence and to experience the Spirit moving through us all. Please email me with your communicated desire to join our daytime study or to include your name as a possibility for an evening study\, debbie@kamloopsvineyard.com
URL:https://kamloopsvineyard.com/event/the-power-of-group-prayer-book-study-and-group-prayer-session-2-friday-may-5th-10-am/
CATEGORIES:Home Group,Prayer
ATTACH;FMTTYPE=image/jpeg:https://kamloopsvineyard.com/wp-content/uploads/2023/04/ThePowerOfGroupPrayer_withDebbie@1000.jpeg
END:VEVENT
BEGIN:VEVENT
DTSTART;VALUE=DATE:20230421
DTEND;VALUE=DATE:20230422
DTSTAMP:20260421T034811
CREATED:20230409T025844Z
LAST-MODIFIED:20230420T173124Z
UID:4445-1682035200-1682121599@kamloopsvineyard.com
SUMMARY:The Power of Group Prayer. Book Study and Group Prayer. Session 1. Friday April 21st @ 10 am.
DESCRIPTION:We’re gathering for a daytime book study and group prayer\non the 1st and 3rd Fridays of every month\nbeginning April 21st @ 10 am.\nClick here to download Promotional Information Sheet! \nVenue: Connie Smith’s home on the South Shore\n \nContact Connie or Debbie for directions.\nconnie@kamloopsvineyard.com\ndebbie@kamloopsvineyard.com \nOrder your copy of ‘The Power of Group Prayer’ from Amazon \nI want you to join David and I for a shared read and a weekly in-person group study of Carolyn Carney’s book ‘The Power of Group Intercession.’ In her book Carolyn addressed how intercession transforms us and the world we live in. \nPlease email me with your communicated desire to join our daytime study or to include your name as a possibility for an evening study\, debbie@kamloopsvineyard.com. \nPrevious to each session we will read a chapter at home.\nComing together we will review 2 – 3 thoughtful questions\,\nfollowed a time of group prayer. \n_____ \nOur hearts are renewed and transformed when we pray.\nThe revival of whole communities begins when God’s people pray together.\n_____ \nChristians often dream about the possibility of revival. But revival doesn’t come because we wish or plan for it. Revival occurs when groups of people pray together. However\, praying together effectively doesn’t come easily\, and we’re often left wondering how to best engage in the work of intercession. \nCarolyn Carney offers a practical guide for those who want something more than just another prayer meeting. Drawing from decades of ministry experience\, The Power of Group Prayer includes stories and practices for corporate prayer\, reflection questions\, and supplemental resources to help build powerful intercession groups. Pastors\, small group leaders\, and campus ministry leaders–or anyone who wants a deeper prayer life will be equipped to lead others in the kind of prayer that is necessary for effective\, resilient ministry. \nPraying together has the power to transform you and the world around you. Come to a place of deep intimacy with God as you learn ways to pray in community. \nOrder your copy of ‘The Power of Group Prayer’ from Amazon \n_____ \nWhat about forming an evening group? \nIf you are unable to meet through the day\, but you are keen to join an evening study\, given enough names we can see about forming a second group. \nIn summary\, I am excited about this opportunity. It will be so good to grow in our aware of God’s presence and to experience the Spirit moving through us all. Please email me with your communicated desire to join our daytime study or to include your name as a possibility for an evening study\, debbie@kamloopsvineyard.com
URL:https://kamloopsvineyard.com/event/the-power-of-group-prayer-book-study-and-group-prayer-friday-april-21st-10-am/
CATEGORIES:Home Group,Prayer
ATTACH;FMTTYPE=image/jpeg:https://kamloopsvineyard.com/wp-content/uploads/2023/04/ThePowerOfGroupPrayer_withDebbie@1000.jpeg
END:VEVENT
BEGIN:VEVENT
DTSTART;VALUE=DATE:20230416
DTEND;VALUE=DATE:20230417
DTSTAMP:20260421T034811
CREATED:20230330T155218Z
LAST-MODIFIED:20230414T195541Z
UID:4429-1681603200-1681689599@kamloopsvineyard.com
SUMMARY:Vineyard Family Home Group (Knutsford). THIRD SUNDAY April 16th @ 10 am.
DESCRIPTION:Vineyard Family Home Group is meeting\non the 3rd Sunday in April.\n\nSunday April 16th 10am – 12pm\nat the Bylsma’s home in Knutsford.\nFamilies are gathering at the Bylsma’s home (2650 Long Lake Road) to share a brunch meal together.  After the meal\, a short time of worship is followed by prayer.  Kids spend some time outside playing while adults gather to learn practical tools in spiritually raising their families in their home environments.\n\n\nContact Bonnie Bylsma at 250-318-9377 or bonnie@kamloopsvineyard.com for more details and location information.\n 
URL:https://kamloopsvineyard.com/event/vineyard-family-home-group-knutsford-third-sunday-april-16th-10-am/
LOCATION:Bylsma’s Home\, 2650 Long Lake Rd\, Kamloops\, BC\, Canada
CATEGORIES:Families,Home Group,Third Sundays
ATTACH;FMTTYPE=image/jpeg:https://kamloopsvineyard.com/wp-content/uploads/2023/03/KVC_FamilyHomeGroup@1000.jpeg
END:VEVENT
BEGIN:VEVENT
DTSTART;VALUE=DATE:20230416
DTEND;VALUE=DATE:20230417
DTSTAMP:20260421T034811
CREATED:20230414T195808Z
LAST-MODIFIED:20230414T231245Z
UID:4450-1681603200-1681689599@kamloopsvineyard.com
SUMMARY:Third Sunday Vineyard House Church (Barnhartvale). April 16th @ 11:30 am.
DESCRIPTION:Address: 1266 Pine Grove Rd. Kamloops\, BC  V2C 6V6 \nEveryone is welcome.\nFood and worship with your Vineyard family.\nIt’s a pot-luck so bring whatever you would like to share together. Or just come! \nSunday April 16th @ 11:30 am\nThe Tombe’s home in Barnhartvale\nLunch serves @ 12 noon.\n(Shared Meal. Fellowship. Worship and Prayer). \nAre you planning to attend?\nDebbie would appreciate knowing that you are coming. Please email her at debbie@kamloopsvineyard.com. \n__________________________
URL:https://kamloopsvineyard.com/event/third-sunday-vineyard-house-church-barnhartvale-april-16th-1130-am/
LOCATION:Tombe’s Home\, 1266 Pine Grove Rd\, Kamloops\, British Columbia\, V2C 6V6\, Canada
CATEGORIES:Home Group,In-House Connections,Sunday In-Person Family Service,Third Sundays
ATTACH;FMTTYPE=image/jpeg:https://kamloopsvineyard.com/wp-content/uploads/2023/04/HouseChurchApr16_2023@1000.jpeg
END:VEVENT
BEGIN:VEVENT
DTSTART;VALUE=DATE:20230319
DTEND;VALUE=DATE:20230320
DTSTAMP:20260421T034811
CREATED:20230304T000022Z
LAST-MODIFIED:20230311T011531Z
UID:4371-1679184000-1679270399@kamloopsvineyard.com
SUMMARY:Vineyard Family Home Group (Knutsford). THIRD SUNDAY Mar 19th @ 10 am. (CANCELLED)
DESCRIPTION:Vineyard Family Home Group meets on the 3rd Sunday of this month.\nSunday March 19th 10am – 12pm (CANCELLED)*\nat the Bylsma’s home in Knutsford.\nFamilies are gathering at the Bylsma’s home (2650 Long Lake Road) to share a brunch meal together.  After the meal\, a short time of worship is followed by prayer.  Kids spend some time outside playing while adults gather to learn practical tools in spiritually raising their families in their home environments.\n\n\nContact Bonnie Bylsma at 250-318-9377 or bonnie@kamloopsvineyard.com for more details and location information.\n\n* SPRING BREAK means ‘a handful of our families are out-of-town!’ We’ll catch you next time around.\n\n___\n\n\nThird Sundays\nWhen we are not meeting at Gateway City Church in Valleyview\, we are generally meeting for house church gatherings in homes across our city. \n\n 
URL:https://kamloopsvineyard.com/event/vineyard-family-home-group-knutsford-third-sunday-mar-19th-10-am/
LOCATION:Bylsma’s Home\, 2650 Long Lake Rd\, Kamloops\, BC\, Canada
CATEGORIES:Families,Home Group,Third Sundays
ATTACH;FMTTYPE=image/jpeg:https://kamloopsvineyard.com/wp-content/uploads/2022/09/FamilyHomeGroup_2022b@1000.jpeg
END:VEVENT
BEGIN:VEVENT
DTSTART;VALUE=DATE:20230219
DTEND;VALUE=DATE:20230220
DTSTAMP:20260421T034811
CREATED:20230121T004428Z
LAST-MODIFIED:20230218T192830Z
UID:4203-1676764800-1676851199@kamloopsvineyard.com
SUMMARY:Vineyard Family Home Group (Knutsford). THIRD SUNDAY Feb 19th @ 10 am. (CANCELLED)
DESCRIPTION:Vineyard Family Home Group meets on the 3rd Sunday of this month.\nSunday February 19th 10am – 12pm\nat the Bylsma’s home in Knutsford.\nFamilies are gathering at the Bylsma’s home (2650 Long Lake Road) to share a brunch meal together.  After the meal\, a short time of worship is followed by prayer.  Kids spend some time outside playing while adults gather to learn practical tools in spiritually raising their families in their home environments.\n\n\nContact Bonnie Bylsma at 250-318-9377 or bonnie@kamloopsvineyard.com for more details and location information.\n\n___\n\n\nThird Sundays\nThis Sunday Feb 19th — We are not meeting at Gateway City Church in Valleyview\, but we are meeting for in-person gatherings at two countryside homes in our city\, Knutsford and Barnhartvale. Both venues provide an opportunity for people to enjoy meaningful in-person connections. \nVineyard Family Home Group (Knutsford)\nTHIRD SUNDAY Feb 19th @ 10am\n(CANCELLED) \nVineyard House Church (Barnhartvale)\nTHIRD SUNDAY Feb 19th @ 12 noon \n\n 
URL:https://kamloopsvineyard.com/event/vineyard-family-home-group-knutsford-third-sunday-feb-19th-10-am/
LOCATION:Bylsma’s Home\, 2650 Long Lake Rd\, Kamloops\, BC\, Canada
CATEGORIES:Families,Home Group,Third Sundays
ATTACH;FMTTYPE=image/jpeg:https://kamloopsvineyard.com/wp-content/uploads/2022/09/FamilyHomeGroup_2022b@1000.jpeg
END:VEVENT
BEGIN:VEVENT
DTSTART;VALUE=DATE:20230219
DTEND;VALUE=DATE:20230220
DTSTAMP:20260421T034811
CREATED:20230217T180856Z
LAST-MODIFIED:20230218T192922Z
UID:4320-1676764800-1676851199@kamloopsvineyard.com
SUMMARY:Third Sunday Vineyard House Church (Barnhartvale). Feb 19th @ 11:30 am.
DESCRIPTION:Address: 1266 Pine Grove Rd. Kamloops\, BC  V2C 6V6 \nEveryone is welcome.\nFood and worship with your Vineyard family.\nIt’s a pot-luck so bring whatever you would like to share together. Or just come! \nSunday Feb 19th @ 11:30 am the Tombe’s home in Barnhartvale\nLunch serves @ 12 noon.\n(Shared Meal. Fellowship. Worship and Prayer). \nAre you planning to attend?\nDebbie would appreciate knowing that you are coming. Please email her at debbie@kamloopsvineyard.com. \n__________________________ \nThird Sundays\nThis Sunday Feb 19th — We are not meeting at Gateway City Church in Valleyview\, but we are meeting for in-person gatherings at two countryside homes in our city\, Knutsford and Barnhartvale. Both venues provide an opportunity for people to enjoy meaningful in-person connections. \n\nVineyard Family Home Group (Knutsford)\nTHIRD SUNDAY Feb 19th @ 10am\n(CANCELLED) \nVineyard House Church (Barnhartvale)\nTHIRD SUNDAY Feb 19th @ 12 noon
URL:https://kamloopsvineyard.com/event/third-sunday-vineyard-house-church-barnhartvale-feb-19th-1130-am/
LOCATION:Tombe’s Home\, 1266 Pine Grove Rd\, Kamloops\, British Columbia\, V2C 6V6\, Canada
CATEGORIES:Home Group,In-House Connections,Sunday In-Person Family Service,Third Sundays
ATTACH;FMTTYPE=image/jpeg:https://kamloopsvineyard.com/wp-content/uploads/2023/02/ThirdSundayHouseChurch@1000_021523.jpeg
END:VEVENT
BEGIN:VEVENT
DTSTART;VALUE=DATE:20230115
DTEND;VALUE=DATE:20230116
DTSTAMP:20260421T034811
CREATED:20221217T164551Z
LAST-MODIFIED:20221217T164653Z
UID:4116-1673740800-1673827199@kamloopsvineyard.com
SUMMARY:Vineyard Family Home Group (Knutsford). THIRD SUNDAY Jan 15th @ 10 am.
DESCRIPTION:Vineyard Family Home Group is meeting again\non the 3rd Sunday in the NEW YEAR.\nSunday January 15th 10am – 12pm\nat the Bylsma’s home in Knutsford.\nFamilies are gathering at the Bylsma’s home (2650 Long Lake Road) to share a brunch meal together.  After the meal\, a short time of worship is followed by prayer.  Kids spend some time outside playing while adults gather to learn practical tools in spiritually raising their families in their home environments.\n\n\nContact Bonnie Bylsma at 250-318-9377 or bonnie@kamloopsvineyard.com for more details and location information.\n 
URL:https://kamloopsvineyard.com/event/vineyard-family-home-group-knutsford-sunday-jan-15th-10-am/
LOCATION:Bylsma’s Home\, 2650 Long Lake Rd\, Kamloops\, BC\, Canada
CATEGORIES:Families,Home Group,Third Sundays
ATTACH;FMTTYPE=image/jpeg:https://kamloopsvineyard.com/wp-content/uploads/2022/09/FamilyHomeGroup_2022b@1000.jpeg
END:VEVENT
BEGIN:VEVENT
DTSTART;VALUE=DATE:20230115
DTEND;VALUE=DATE:20230116
DTSTAMP:20260421T034811
CREATED:20230113T173332Z
LAST-MODIFIED:20230113T173447Z
UID:4198-1673740800-1673827199@kamloopsvineyard.com
SUMMARY:Third Sunday Vineyard House Church (Barnhartvale). Jan 15th @ 12 noon.
DESCRIPTION:Address: 1266 Pine Grove Rd. Kamloops\, BC  V2C 6V6 \nEveryone is welcome.\nFood and worship with your Vineyard family.\nIt’s a pot-luck so bring whatever you would like to share together. Or just come! \nSunday Jan 15th @ 12 noon the Tombe’s home in Barnhartvale\n(Shared Meal. Fellowship. Worship. Prayer).*\nCoincidental with Vineyard Canada hosting and leading a time for a National Fast and Prayer\, David and Debbie are hosting prayers @ their home in Barnhartvale. David and Debbie will be sharing from themes presenting during their daily prayers and connections with Vineyard churches from across the nation. \nAre you planning to attend? Debbie would appreciate knowing that you are coming. Please email her at debbie@kamloopsvineyard.com. \n__________________________ \nThird Sundays\nThis Sunday Jan 15th — We are not meeting at Gateway City Church in Valleyview\, but we are meeting for in-person gatherings at two countryside homes in our city\, Knutsford and Barnhartvale. Both venues provide an opportunity for people to enjoy meaningful in-person connections. \nVineyard Family Home Group (Knutsford)\nTHIRD SUNDAY Jan 15th @ 10am \nVineyard House Church (Barnhartvale)\nTHIRD SUNDAY Jan 15th @ 12 noon
URL:https://kamloopsvineyard.com/event/third-sunday-vineyard-house-church-barnhartvale-jan-15th-12-noon/
LOCATION:Tombe’s Home\, 1266 Pine Grove Rd\, Kamloops\, British Columbia\, V2C 6V6\, Canada
CATEGORIES:Home Group,In-House Connections,Sunday In-Person Family Service,Third Sundays
ATTACH;FMTTYPE=image/jpeg:https://kamloopsvineyard.com/wp-content/uploads/2023/01/HouseChurchBarnhartvale_jan15@1000.jpeg
END:VEVENT
BEGIN:VEVENT
DTSTART;VALUE=DATE:20230101
DTEND;VALUE=DATE:20230102
DTSTAMP:20260421T034811
CREATED:20221215T195750Z
LAST-MODIFIED:20221215T195750Z
UID:4085-1672531200-1672617599@kamloopsvineyard.com
SUMMARY:Vineyard House Church (Barnhartvale). New Year Sunday Jan 1st @ 4 pm.
DESCRIPTION:Address: 1266 Pine Grove Rd. Kamloops\, BC  V2C 6V6 \nEveryone is welcome.\nFood and worship with your Vineyard family. \nSunday Jan 1st @ 4 pm\nThe Tombe’s home in Barnhartvale \nDavid and I are opening our house for the first Sunday of 2023.\nWe’re coming together to celebrate Jesus (Shared Meal. Worship. Prayer).\nIt’s a pot-luck so bring whatever you would like to share together. Or just come! \nAre you planning to attend? I’d sure appreciate knowing that you are coming. Please email me debbie@kamloopsvineyard.com. \n__________________________
URL:https://kamloopsvineyard.com/event/vineyard-house-church-barnhartvale-new-year-sunday-jan-1st-4-pm/
LOCATION:Tombe’s Home\, 1266 Pine Grove Rd\, Kamloops\, British Columbia\, V2C 6V6\, Canada
CATEGORIES:Home Group,In-House Connections,Third Sundays
ATTACH;FMTTYPE=image/jpeg:https://kamloopsvineyard.com/wp-content/uploads/2022/12/Jan01_NewYearSundayGathering_2023.jpeg
END:VEVENT
BEGIN:VEVENT
DTSTART;VALUE=DATE:20221120
DTEND;VALUE=DATE:20221121
DTSTAMP:20260421T034811
CREATED:20221007T195947Z
LAST-MODIFIED:20221116T212356Z
UID:4001-1668902400-1668988799@kamloopsvineyard.com
SUMMARY:Vineyard Family Home Group Nov 20th (CANCELLED this month).
DESCRIPTION:Vineyard Family Home will not meet Sunday Nov 20th.\nCheck back in next month. A special celebration is in the works!\n\n\nContact Bonnie Bylsma at 250-318-9377 or bonnie@kamloopsvineyard.com for more information.\n 
URL:https://kamloopsvineyard.com/event/vineyard-family-home-group-nov-20th-10-am-every-third-sunday/
LOCATION:Bylsma’s Home\, 2650 Long Lake Rd\, Kamloops\, BC\, Canada
CATEGORIES:Families,Home Group,Third Sundays
ATTACH;FMTTYPE=image/jpeg:https://kamloopsvineyard.com/wp-content/uploads/2022/09/FamilyHomeGroup_2022b@1000.jpeg
END:VEVENT
BEGIN:VEVENT
DTSTART;VALUE=DATE:20221016
DTEND;VALUE=DATE:20221017
DTSTAMP:20260421T034811
CREATED:20220924T154332Z
LAST-MODIFIED:20221015T003452Z
UID:3943-1665878400-1665964799@kamloopsvineyard.com
SUMMARY:Vineyard Family Home Group (Knutsford). Sunday Oct 16th @ 10 am.
DESCRIPTION:Vineyard Family Home Group meets on the 3rd Sunday of every month.\nSunday Oct 16th 10am – 12pm\nat the Bylsma’s home in Knutsford.\nFamilies are gathering at the Bylsma’s home (2650 Long Lake Road) to share a brunch meal together.  After the meal\, a short time of worship is followed by prayer.  Kids spend some time outside playing while adults gather to learn practical tools in spiritually raising their families in their home environments.\n\n\nContact Bonnie Bylsma at 250-318-9377 or bonnie@kamloopsvineyard.com for more details and location information.\n 
URL:https://kamloopsvineyard.com/event/vineyard-family-home-group-oct-16th-10-am-every-third-sunday/
LOCATION:Bylsma’s Home\, 2650 Long Lake Rd\, Kamloops\, BC\, Canada
CATEGORIES:Families,Home Group,Third Sundays
ATTACH;FMTTYPE=image/jpeg:https://kamloopsvineyard.com/wp-content/uploads/2022/09/FamilyHomeGroup_2022b@1000.jpeg
END:VEVENT
BEGIN:VEVENT
DTSTART;VALUE=DATE:20221016
DTEND;VALUE=DATE:20221017
DTSTAMP:20260421T034811
CREATED:20220911T013206Z
LAST-MODIFIED:20221015T002636Z
UID:3869-1665878400-1665964799@kamloopsvineyard.com
SUMMARY:Vineyard House Fellowship (Barnhartvale). Sunday Oct 16th @ 12 Noon.
DESCRIPTION:Address: 1266 Pine Grove Rd. Kamloops\, BC  V2C 6V6 \nEveryone is welcome.\nLunch and worship with your Vineyard family. \nThis Sunday Oct 16th @ 12 noon\nThe Tombe’s home in Barnhartvale \nDavid and I are opening our house this Sunday for homemade turkey soup\, homemade biscuits and worship! It’s a pot-luck so bring whatever you would like to share together. Or just come! \nAre you planning to attend? I’d sure appreciate knowing that you are coming. Please email me debbie@kamloopsvineyard.com. \n__________________________
URL:https://kamloopsvineyard.com/event/vineyard-house-fellowship-to-be-announced-tba-sunday-oct-16th/
LOCATION:Tombe’s Home\, 1266 Pine Grove Rd\, Kamloops\, British Columbia\, V2C 6V6\, Canada
CATEGORIES:Home Group,In-House Connections,Third Sundays
ATTACH;FMTTYPE=image/jpeg:https://kamloopsvineyard.com/wp-content/uploads/2022/09/soupandbiscuits.jpg
END:VEVENT
BEGIN:VEVENT
DTSTART;VALUE=DATE:20220918
DTEND;VALUE=DATE:20220919
DTSTAMP:20260421T034811
CREATED:20220914T230633Z
LAST-MODIFIED:20220916T233944Z
UID:3883-1663459200-1663545599@kamloopsvineyard.com
SUMMARY:Vineyard Family Home Group Sept 18th @ 10 am (every Third Sunday).
DESCRIPTION:Vineyard Family Home begins meeting the Third Sunday of every month.\nThis Sunday\, September 18th\, 10am – 12pm\nat the Bylsmas’ home in Knutsford.\nWe’ll begin with brunch (please bring something to contribute) and then have a short time of worship and prayer. Later\, we’ll have a focused time with the adults while the kids play outside or downstairs. Please RSVP if you can come to help us determine food quantities. See below for Google Maps for directions! Visit our Family Home Group Facebook Page for updates and information.\n\nContact:\n\nBonnie Bylsma\n‭(250) 318-9377‬\nbonnie@kamloopsvineyard.com \nKaren Enns\nkaren@kamloopsvineyard.com
URL:https://kamloopsvineyard.com/event/vineyard-family-home-group-sept-18th-every-third-sunday/
LOCATION:Bylsma’s Home\, 2650 Long Lake Rd\, Kamloops\, BC\, Canada
CATEGORIES:Families,Home Group,Third Sundays
ATTACH;FMTTYPE=image/jpeg:https://kamloopsvineyard.com/wp-content/uploads/2022/09/FamilyHomeGroup_2022b@1000.jpeg
END:VEVENT
BEGIN:VEVENT
DTSTART;VALUE=DATE:20220918
DTEND;VALUE=DATE:20220919
DTSTAMP:20260421T034811
CREATED:20220915T185553Z
LAST-MODIFIED:20220916T000755Z
UID:3889-1663459200-1663545599@kamloopsvineyard.com
SUMMARY:Newcomers' Luncheon. Sunday Sept 18th @ 12 Noon.
DESCRIPTION:The Vineyard welcomes you to an opportunity for more personal connection. \nVineyard Newcomers’ Luncheon\nSunday Sept 18th @ 12 Noon.\nThe Tombe’s Home in Barnhartvale\nWe’re NOT GATHERING on Third Sundays of every month at Gateway Community\, but we are beginning to gather again in House Churches across our city.* \nTHIS Third Sunday (Sept 18th @ 12 Noon)\, David and Debbie are welcoming Elders\, Leaders\, and NEWCOMERS to their home for a luncheon and social. Nothing is required but your presence. We’ll be serving soup\, buns and yummy fruit crisp with whipping cream! \nInvitations are being sent directly to various people in the fellowship\, IF you’re reading this message and thinking ‘Wow. I would LOVE to attend!’ then don’t waste any time\, please contact Connie Smith or Debbie Tombe. \nconnie@kamloopsvineyard.com\ndebbie@kamloopsvineyard.com \nAddress: 1266 Pine Grove Rd. Kamloops BC V2C 6V6\n(see Google Maps information below) \n___ \n* Beginning Sunday Sept 18th\, Family Home Group\, as one example\, will be meeting ‘Every Third Sunday’\, at Bylsma’s home in Knutsford. See events or contact Bonnie Bylsma or Karen Enns for more information.
URL:https://kamloopsvineyard.com/event/newcomers-luncheon-sunday-sept-18th-12-noon/
LOCATION:Tombe’s Home\, 1266 Pine Grove Rd\, Kamloops\, British Columbia\, V2C 6V6\, Canada
CATEGORIES:Home Group,Newcomers,Special Event,Third Sundays
ATTACH;FMTTYPE=image/jpeg:https://kamloopsvineyard.com/wp-content/uploads/2022/09/Newcomers_091822B@1000.jpeg
END:VEVENT
BEGIN:VEVENT
DTSTART;VALUE=DATE:20220329
DTEND;VALUE=DATE:20220330
DTSTAMP:20260421T034811
CREATED:20220217T223742Z
LAST-MODIFIED:20220217T223742Z
UID:3405-1648512000-1648598399@kamloopsvineyard.com
SUMMARY:Vineyard Home Group. Tuesday evening March 29th @ 7 pm.
DESCRIPTION:[VHG] Vineyard Home Group. \nDavid and Debbie Tombe have begun opening their home to host and oversee a [VHG] Vineyard Home Group on Tuesday evenings @ 7 pm. \nWe’re better together. \nGathering together in our homes presents us with an invaluable opportunity to meaningfully connect and grow as a community. Here in their home\, the Tombe’s are throwing open the door for people to share in fellowship\, worship and prayer for one another. Meetings generally begin @ 7 pm and finish up around 9 pm. \nIF this is something you’d like to attend\, please contact Debbie for information and directions\, debbie@kamloopsvineyard.com or call 250-828-1690. \n 
URL:https://kamloopsvineyard.com/event/vineyard-home-group-tuesday-evening-march-29th-7-pm/
CATEGORIES:Home Group,In-House Connections
ATTACH;FMTTYPE=image/jpeg:https://kamloopsvineyard.com/wp-content/uploads/2022/01/VHG_icon@1000.jpg
END:VEVENT
BEGIN:VEVENT
DTSTART;VALUE=DATE:20220322
DTEND;VALUE=DATE:20220323
DTSTAMP:20260421T034811
CREATED:20220217T223622Z
LAST-MODIFIED:20220217T223622Z
UID:3402-1647907200-1647993599@kamloopsvineyard.com
SUMMARY:Vineyard Home Group. Tuesday evening March 22nd @ 7 pm.
DESCRIPTION:[VHG] Vineyard Home Group. \nDavid and Debbie Tombe have begun opening their home to host and oversee a [VHG] Vineyard Home Group on Tuesday evenings @ 7 pm. \nWe’re better together. \nGathering together in our homes presents us with an invaluable opportunity to meaningfully connect and grow as a community. Here in their home\, the Tombe’s are throwing open the door for people to share in fellowship\, worship and prayer for one another. Meetings generally begin @ 7 pm and finish up around 9 pm. \nIF this is something you’d like to attend\, please contact Debbie for information and directions\, debbie@kamloopsvineyard.com or call 250-828-1690. \n 
URL:https://kamloopsvineyard.com/event/vineyard-home-group-tuesday-evening-march-22nd-7-pm/
CATEGORIES:Home Group,In-House Connections
ATTACH;FMTTYPE=image/jpeg:https://kamloopsvineyard.com/wp-content/uploads/2022/01/VHG_icon@1000.jpg
END:VEVENT
BEGIN:VEVENT
DTSTART;VALUE=DATE:20220315
DTEND;VALUE=DATE:20220316
DTSTAMP:20260421T034811
CREATED:20220217T223419Z
LAST-MODIFIED:20220217T223509Z
UID:3401-1647302400-1647388799@kamloopsvineyard.com
SUMMARY:Vineyard Home Group. Tuesday evening March 15th @ 7 pm.
DESCRIPTION:[VHG] Vineyard Home Group. \nDavid and Debbie Tombe have begun opening their home to host and oversee a [VHG] Vineyard Home Group on Tuesday evenings @ 7 pm. \nWe’re better together. \nGathering together in our homes presents us with an invaluable opportunity to meaningfully connect and grow as a community. Here in their home\, the Tombe’s are throwing open the door for people to share in fellowship\, worship and prayer for one another. Meetings generally begin @ 7 pm and finish up around 9 pm. \nIF this is something you’d like to attend\, please contact Debbie for information and directions\, debbie@kamloopsvineyard.com or call 250-828-1690. \n 
URL:https://kamloopsvineyard.com/event/vineyard-home-group-tuesday-evening-march-15th-7-pm/
CATEGORIES:Home Group,In-House Connections
ATTACH;FMTTYPE=image/jpeg:https://kamloopsvineyard.com/wp-content/uploads/2022/01/VHG_icon@1000.jpg
END:VEVENT
END:VCALENDAR