BEGIN:VCALENDAR
VERSION:2.0
PRODID:-//Kamloops Vineyard Church - ECPv6.15.16//NONSGML v1.0//EN
CALSCALE:GREGORIAN
METHOD:PUBLISH
X-WR-CALNAME:Kamloops Vineyard Church
X-ORIGINAL-URL:https://kamloopsvineyard.com
X-WR-CALDESC:Events for Kamloops Vineyard Church
REFRESH-INTERVAL;VALUE=DURATION:PT1H
X-Robots-Tag:noindex
X-PUBLISHED-TTL:PT1H
BEGIN:VTIMEZONE
TZID:America/Vancouver
BEGIN:DAYLIGHT
TZOFFSETFROM:-0800
TZOFFSETTO:-0700
TZNAME:PDT
DTSTART:20240310T100000
END:DAYLIGHT
BEGIN:STANDARD
TZOFFSETFROM:-0700
TZOFFSETTO:-0800
TZNAME:PST
DTSTART:20241103T090000
END:STANDARD
BEGIN:DAYLIGHT
TZOFFSETFROM:-0800
TZOFFSETTO:-0700
TZNAME:PDT
DTSTART:20250309T100000
END:DAYLIGHT
BEGIN:STANDARD
TZOFFSETFROM:-0700
TZOFFSETTO:-0800
TZNAME:PST
DTSTART:20251102T090000
END:STANDARD
BEGIN:DAYLIGHT
TZOFFSETFROM:-0800
TZOFFSETTO:-0700
TZNAME:PDT
DTSTART:20260308T100000
END:DAYLIGHT
BEGIN:STANDARD
TZOFFSETFROM:-0700
TZOFFSETTO:-0800
TZNAME:PST
DTSTART:20261101T090000
END:STANDARD
END:VTIMEZONE
BEGIN:VEVENT
DTSTART;VALUE=DATE:20250803
DTEND;VALUE=DATE:20250804
DTSTAMP:20260420T211135
CREATED:20250722T173915Z
LAST-MODIFIED:20250722T173958Z
UID:7629-1754179200-1754265599@kamloopsvineyard.com
SUMMARY:Vineyard House Church 'ON PAUSE One (1) More Week Only'. Sunday Aug 3rd. (Summer Schedule)
DESCRIPTION:Kamloops Vineyard House Church\nSummer schedule (July — Sept 14th)\nBe sure to check the online schedule.\nVenues and schedules may vary.\n\n\n\n\nWe’re fostering deep relational connectedness with Jesus and one-another in home gatherings throughout the week and Sunday mornings. Keep checking in on our calendar of events to stay current with information on events taking place through the week. \n\n\nIF you would like to make more personal connections then you can contact us @ info@kamloopsvineyard.com or call us @ 250-828-1690. \n\n\nAre you receiving weekly emails? If you’re not already receiving a weekly update (Vineyard newsletter called the Vineline) then we encourage you to SUBSCRIBE to receive a Vineyard newsletter that we like to call Vineline.
URL:https://kamloopsvineyard.com/event/vineyard-house-church-on-pause-one-1-more-week-only-sunday-aug-3rdth-summer-schedule-2/
LOCATION:British Columbia
CATEGORIES:Families,House Church,In-House Connections,In-Person Worship Service,Sunday In-Person Worship,Vineyard House Church
ATTACH;FMTTYPE=image/jpeg:https://kamloopsvineyard.com/wp-content/uploads/2025/05/HouseChurch_onpause1weekonly@1000.jpeg
END:VEVENT
BEGIN:VEVENT
DTSTART;VALUE=DATE:20250810
DTEND;VALUE=DATE:20250811
DTSTAMP:20260420T211135
CREATED:20250508T192846Z
LAST-MODIFIED:20250509T154259Z
UID:7364-1754784000-1754870399@kamloopsvineyard.com
SUMMARY:Vineyard House Church @ the Tombe's (Barnhartvale). Sunday Aug 10th @ 10 am. (Summer Schedule)
DESCRIPTION:Kamloops Vineyard House Church\nSummer schedule (July — Sept 14th)\nBe sure to check the online schedule.\nVenues and schedules may vary.\n\n\n\nWe’re fostering a meaningful connectedness with Jesus and one-another throughout the week and House Church gatherings on Sunday mornings. Keep checking in on our calendar of events to stay current with information on events taking place through the week. \n\n\nIF you would like to make more personal connections then you can contact us @ info@kamloopsvineyard.com or call us @ 250-828-1690. \n\n\nAre you receiving weekly emails? If you’re not already receiving a weekly update (Vineyard newsletter called the Vineline) then we encourage you to SUBSCRIBE to receive a Vineyard newsletter that we like to call Vineline.
URL:https://kamloopsvineyard.com/event/vineyard-house-church-the-tombes-in-barnhartvale-sunday-aug-10th-10-am-summer-schedule/
LOCATION:Tombe’s Home\, 1266 Pine Grove Rd\, Kamloops\, British Columbia\, V2C 6V6\, Canada
CATEGORIES:Families,House Church,In-House Connections,In-Person Worship Service,Sunday In-Person Worship,Vineyard House Church
ATTACH;FMTTYPE=image/jpeg:https://kamloopsvineyard.com/wp-content/uploads/2024/05/KVCHouseChurch_2024@1000.jpeg
END:VEVENT
BEGIN:VEVENT
DTSTART;VALUE=DATE:20250817
DTEND;VALUE=DATE:20250818
DTSTAMP:20260420T211135
CREATED:20250508T210740Z
LAST-MODIFIED:20250508T210740Z
UID:7375-1755388800-1755475199@kamloopsvineyard.com
SUMMARY:Vineyard House Church 'ON PAUSE One (1) Week Only'. Sunday Aug 17th. (Summer Schedule)
DESCRIPTION:Kamloops Vineyard House Church\nSummer schedule (July — Sept 14th)\nBe sure to check the online schedule.\nVenues and schedules may vary.\n\n\n\n\nWe’re fostering deep relational connectedness with Jesus and one-another in home gatherings throughout the week and Sunday mornings. Keep checking in on our calendar of events to stay current with information on events taking place through the week. \n\n\nIF you would like to make more personal connections then you can contact us @ info@kamloopsvineyard.com or call us @ 250-828-1690. \n\n\nAre you receiving weekly emails? If you’re not already receiving a weekly update (Vineyard newsletter called the Vineline) then we encourage you to SUBSCRIBE to receive a Vineyard newsletter that we like to call Vineline.
URL:https://kamloopsvineyard.com/event/vineyard-house-church-on-pause-one-1-week-only-sunday-aug-17th-summer-schedule/
LOCATION:British Columbia
CATEGORIES:Families,House Church,In-House Connections,In-Person Worship Service,Sunday In-Person Worship,Vineyard House Church
ATTACH;FMTTYPE=image/jpeg:https://kamloopsvineyard.com/wp-content/uploads/2025/05/HouseChurch_onpause1weekonly@1000.jpeg
END:VEVENT
BEGIN:VEVENT
DTSTART;VALUE=DATE:20250824
DTEND;VALUE=DATE:20250825
DTSTAMP:20260420T211135
CREATED:20250508T192933Z
LAST-MODIFIED:20250509T154328Z
UID:7366-1755993600-1756079999@kamloopsvineyard.com
SUMMARY:Vineyard House Church @ the Tombe's (Barnhartvale). Sunday Aug 24th @ 10 am. (Summer Schedule)
DESCRIPTION:Kamloops Vineyard House Church\nSummer schedule (July — Sept 14th)\nBe sure to check the online schedule.\nVenues and schedules may vary.\n\n\n\nWe’re fostering a meaningful connectedness with Jesus and one-another throughout the week and House Church gatherings on Sunday mornings. Keep checking in on our calendar of events to stay current with information on events taking place through the week. \n\n\nIF you would like to make more personal connections then you can contact us @ info@kamloopsvineyard.com or call us @ 250-828-1690. \n\n\nAre you receiving weekly emails? If you’re not already receiving a weekly update (Vineyard newsletter called the Vineline) then we encourage you to SUBSCRIBE to receive a Vineyard newsletter that we like to call Vineline.
URL:https://kamloopsvineyard.com/event/vineyard-house-church-the-tombes-in-barnhartvale-sunday-aug-24th-10-am-summer-schedule/
LOCATION:Tombe’s Home\, 1266 Pine Grove Rd\, Kamloops\, British Columbia\, V2C 6V6\, Canada
CATEGORIES:Families,House Church,In-House Connections,In-Person Worship Service,Sunday In-Person Worship,Vineyard House Church
ATTACH;FMTTYPE=image/jpeg:https://kamloopsvineyard.com/wp-content/uploads/2024/05/KVCHouseChurch_2024@1000.jpeg
END:VEVENT
BEGIN:VEVENT
DTSTART;VALUE=DATE:20250831
DTEND;VALUE=DATE:20250901
DTSTAMP:20260420T211135
CREATED:20250508T210827Z
LAST-MODIFIED:20250508T210827Z
UID:7377-1756598400-1756684799@kamloopsvineyard.com
SUMMARY:Vineyard House Church 'ON PAUSE One (1) Week Only'. Sunday Aug 31st. (Summer Schedule)
DESCRIPTION:Kamloops Vineyard House Church\nSummer schedule (July — Sept 14th)\nBe sure to check the online schedule.\nVenues and schedules may vary.\n\n\n\n\nWe’re fostering deep relational connectedness with Jesus and one-another in home gatherings throughout the week and Sunday mornings. Keep checking in on our calendar of events to stay current with information on events taking place through the week. \n\n\nIF you would like to make more personal connections then you can contact us @ info@kamloopsvineyard.com or call us @ 250-828-1690. \n\n\nAre you receiving weekly emails? If you’re not already receiving a weekly update (Vineyard newsletter called the Vineline) then we encourage you to SUBSCRIBE to receive a Vineyard newsletter that we like to call Vineline.
URL:https://kamloopsvineyard.com/event/vineyard-house-church-on-pause-one-1-week-only-sunday-aug-31st-summer-schedule/
LOCATION:British Columbia
CATEGORIES:Families,House Church,In-House Connections,In-Person Worship Service,Sunday In-Person Worship,Vineyard House Church
ATTACH;FMTTYPE=image/jpeg:https://kamloopsvineyard.com/wp-content/uploads/2025/05/HouseChurch_onpause1weekonly@1000.jpeg
END:VEVENT
END:VCALENDAR