BEGIN:VCALENDAR
VERSION:2.0
PRODID:-//Kamloops Vineyard Church - ECPv6.15.16//NONSGML v1.0//EN
CALSCALE:GREGORIAN
METHOD:PUBLISH
X-ORIGINAL-URL:https://kamloopsvineyard.com
X-WR-CALDESC:Events for Kamloops Vineyard Church
REFRESH-INTERVAL;VALUE=DURATION:PT1H
X-Robots-Tag:noindex
X-PUBLISHED-TTL:PT1H
BEGIN:VTIMEZONE
TZID:America/Vancouver
BEGIN:DAYLIGHT
TZOFFSETFROM:-0800
TZOFFSETTO:-0700
TZNAME:PDT
DTSTART:20230312T100000
END:DAYLIGHT
BEGIN:STANDARD
TZOFFSETFROM:-0700
TZOFFSETTO:-0800
TZNAME:PST
DTSTART:20231105T090000
END:STANDARD
BEGIN:DAYLIGHT
TZOFFSETFROM:-0800
TZOFFSETTO:-0700
TZNAME:PDT
DTSTART:20240310T100000
END:DAYLIGHT
BEGIN:STANDARD
TZOFFSETFROM:-0700
TZOFFSETTO:-0800
TZNAME:PST
DTSTART:20241103T090000
END:STANDARD
BEGIN:DAYLIGHT
TZOFFSETFROM:-0800
TZOFFSETTO:-0700
TZNAME:PDT
DTSTART:20250309T100000
END:DAYLIGHT
BEGIN:STANDARD
TZOFFSETFROM:-0700
TZOFFSETTO:-0800
TZNAME:PST
DTSTART:20251102T090000
END:STANDARD
END:VTIMEZONE
BEGIN:VEVENT
DTSTART;VALUE=DATE:20241124
DTEND;VALUE=DATE:20241125
DTSTAMP:20260421T180912
CREATED:20241115T185340Z
LAST-MODIFIED:20241115T185340Z
UID:6776-1732406400-1732492799@kamloopsvineyard.com
SUMMARY:Vineyard House Church @ the Tombe's in Barnhartvale. Sunday Nov 24th @ 10 am.
DESCRIPTION:Kamloops Vineyard House Church\nSunday mornings @ 10 am\nWe meet in various houses and venues week-to-week.\n\n\n\nWe’re fostering deep relational connectedness with Jesus and one-another in home gatherings throughout the week and Sunday mornings. Keep checking in on our calendar of events to stay current with information on events taking place through the week. \n\n\nIF you would like to make more personal connections then you can contact us @ info@kamloopsvineyard.com or call us @ 250-828-1690. \n\n\nAre you receiving weekly emails? If you’re not already receiving a weekly update (Vineyard newsletter called the Vineline) then we encourage you to SUBSCRIBE to receive a Vineyard newsletter that we like to call Vineline.
URL:https://kamloopsvineyard.com/event/vineyard-house-church-the-tombes-in-barnhartvale-sunday-nov-24th-10-am/
LOCATION:Tombe’s Home\, 1266 Pine Grove Rd\, Kamloops\, British Columbia\, V2C 6V6\, Canada
CATEGORIES:Families,House Church,In-House Connections,In-Person Worship Service,Sunday In-Person Worship,Vineyard House Church
ATTACH;FMTTYPE=image/jpeg:https://kamloopsvineyard.com/wp-content/uploads/2024/05/KVCHouseChurch_2024@1000.jpeg
END:VEVENT
BEGIN:VEVENT
DTSTART;VALUE=DATE:20241110
DTEND;VALUE=DATE:20241111
DTSTAMP:20260421T180912
CREATED:20241024T235031Z
LAST-MODIFIED:20241024T235038Z
UID:6681-1731196800-1731283199@kamloopsvineyard.com
SUMMARY:Vineyard House Church @ the Tombe's in Barnhartvale. Sunday Nov 10th @ 10 am.
DESCRIPTION:Kamloops Vineyard House Church\nSunday mornings @ 10 am\nWe meet in various houses and venues week-to-week.\n\n\n\nWe’re fostering deep relational connectedness with Jesus and one-another in home gatherings throughout the week and Sunday mornings. Keep checking in on our calendar of events to stay current with information on events taking place through the week. \n\n\nIF you would like to make more personal connections then you can contact us @ info@kamloopsvineyard.com or call us @ 250-828-1690. \n\n\nAre you receiving weekly emails? If you’re not already receiving a weekly update (Vineyard newsletter called the Vineline) then we encourage you to SUBSCRIBE to receive a Vineyard newsletter that we like to call Vineline.
URL:https://kamloopsvineyard.com/event/vineyard-house-church-the-tombes-in-barnhartvale-sunday-nov-10th-10-am/
LOCATION:Tombe’s Home\, 1266 Pine Grove Rd\, Kamloops\, British Columbia\, V2C 6V6\, Canada
CATEGORIES:Families,House Church,In-House Connections,In-Person Worship Service,Sunday In-Person Worship,Vineyard House Church
ATTACH;FMTTYPE=image/jpeg:https://kamloopsvineyard.com/wp-content/uploads/2024/05/KVCHouseChurch_2024@1000.jpeg
END:VEVENT
BEGIN:VEVENT
DTSTART;VALUE=DATE:20241027
DTEND;VALUE=DATE:20241028
DTSTAMP:20260421T180912
CREATED:20240906T221136Z
LAST-MODIFIED:20241009T150910Z
UID:6578-1729987200-1730073599@kamloopsvineyard.com
SUMMARY:Vineyard House Church @ the Tombe's in Barnhartvale. Sunday Oct 27th @ 10 am.
DESCRIPTION:Kamloops Vineyard House Church\nSunday mornings @ 10 am\nWe meet in various houses and venues week-to-week.\n\n\n\nWe’re fostering deep relational connectedness with Jesus and one-another in home gatherings throughout the week and Sunday mornings. Keep checking in on our calendar of events to stay current with information on events taking place through the week. \n\n\nIF you would like to make more personal connections then you can contact us @ info@kamloopsvineyard.com or call us @ 250-828-1690. \n\n\nAre you receiving weekly emails? If you’re not already receiving a weekly update (Vineyard newsletter called the Vineline) then we encourage you to SUBSCRIBE to receive a Vineyard newsletter that we like to call Vineline.
URL:https://kamloopsvineyard.com/event/vineyard-house-church-sunday-oct-27th-10-am-location-tba/
LOCATION:Tombe’s Home\, 1266 Pine Grove Rd\, Kamloops\, British Columbia\, V2C 6V6\, Canada
CATEGORIES:Families,House Church,In-House Connections,In-Person Worship Service,Sunday In-Person Worship,Vineyard House Church
ATTACH;FMTTYPE=image/jpeg:https://kamloopsvineyard.com/wp-content/uploads/2024/05/KVCHouseChurch_2024@1000.jpeg
END:VEVENT
BEGIN:VEVENT
DTSTART;VALUE=DATE:20241013
DTEND;VALUE=DATE:20241014
DTSTAMP:20260421T180912
CREATED:20240906T220947Z
LAST-MODIFIED:20240927T163904Z
UID:6574-1728777600-1728863999@kamloopsvineyard.com
SUMMARY:Vineyard House Church @ the Tombe's in Barnhartvale. Sunday Oct 13th @ 10 am.
DESCRIPTION:Kamloops Vineyard House Church\nSunday mornings @ 10 am\nWe meet in various houses and venues week-to-week.\n\n\n\nWe’re fostering deep relational connectedness with Jesus and one-another in home gatherings throughout the week and Sunday mornings. Keep checking in on our calendar of events to stay current with information on events taking place through the week. \n\n\nIF you would like to make more personal connections then you can contact us @ info@kamloopsvineyard.com or call us @ 250-828-1690. \n\n\nAre you receiving weekly emails? If you’re not already receiving a weekly update (Vineyard newsletter called the Vineline) then we encourage you to SUBSCRIBE to receive a Vineyard newsletter that we like to call Vineline.
URL:https://kamloopsvineyard.com/event/vineyard-house-church-sunday-oct-13th-10-am-location-tba/
LOCATION:Tombe’s Home\, 1266 Pine Grove Rd\, Kamloops\, British Columbia\, V2C 6V6\, Canada
CATEGORIES:Families,House Church,In-House Connections,In-Person Worship Service,Sunday In-Person Worship,Vineyard House Church
ATTACH;FMTTYPE=image/jpeg:https://kamloopsvineyard.com/wp-content/uploads/2024/05/KVCHouseChurch_2024@1000.jpeg
END:VEVENT
BEGIN:VEVENT
DTSTART;VALUE=DATE:20240929
DTEND;VALUE=DATE:20240930
DTSTAMP:20260421T180912
CREATED:20240827T182543Z
LAST-MODIFIED:20240917T201831Z
UID:6431-1727568000-1727654399@kamloopsvineyard.com
SUMMARY:Vineyard House Church @ the Tombe's in Barnhartvale. Sunday Sept 29th @ 10 am.
DESCRIPTION:Kamloops Vineyard House Church\nSunday mornings @ 10 am\nWe meet in various houses and venues week-to-week.\n\n\n\nWe’re fostering deep relational connectedness with Jesus and one-another in home gatherings throughout the week and Sunday mornings. Keep checking in on our calendar of events to stay current with information on events taking place through the week. \n\n\nIF you would like to make more personal connections then you can contact us @ info@kamloopsvineyard.com or call us @ 250-828-1690. \n\n\nAre you receiving weekly emails? If you’re not already receiving a weekly update (Vineyard newsletter called the Vineline) then we encourage you to SUBSCRIBE to receive a Vineyard newsletter that we like to call Vineline.
URL:https://kamloopsvineyard.com/event/vineyard-house-church-sunday-sept-29th-10-am-location-tba/
LOCATION:Tombe’s Home\, 1266 Pine Grove Rd\, Kamloops\, British Columbia\, V2C 6V6\, Canada
CATEGORIES:Families,House Church,In-House Connections,In-Person Worship Service,Sunday In-Person Worship,Vineyard House Church
ATTACH;FMTTYPE=image/jpeg:https://kamloopsvineyard.com/wp-content/uploads/2024/05/KVCHouseChurch_2024@1000.jpeg
END:VEVENT
END:VCALENDAR