BEGIN:VCALENDAR
VERSION:2.0
PRODID:-//Kamloops Vineyard Church - ECPv6.15.16//NONSGML v1.0//EN
CALSCALE:GREGORIAN
METHOD:PUBLISH
X-WR-CALNAME:Kamloops Vineyard Church
X-ORIGINAL-URL:https://kamloopsvineyard.com
X-WR-CALDESC:Events for Kamloops Vineyard Church
REFRESH-INTERVAL;VALUE=DURATION:PT1H
X-Robots-Tag:noindex
X-PUBLISHED-TTL:PT1H
BEGIN:VTIMEZONE
TZID:America/Vancouver
BEGIN:DAYLIGHT
TZOFFSETFROM:-0800
TZOFFSETTO:-0700
TZNAME:PDT
DTSTART:20230312T100000
END:DAYLIGHT
BEGIN:STANDARD
TZOFFSETFROM:-0700
TZOFFSETTO:-0800
TZNAME:PST
DTSTART:20231105T090000
END:STANDARD
BEGIN:DAYLIGHT
TZOFFSETFROM:-0800
TZOFFSETTO:-0700
TZNAME:PDT
DTSTART:20240310T100000
END:DAYLIGHT
BEGIN:STANDARD
TZOFFSETFROM:-0700
TZOFFSETTO:-0800
TZNAME:PST
DTSTART:20241103T090000
END:STANDARD
BEGIN:DAYLIGHT
TZOFFSETFROM:-0800
TZOFFSETTO:-0700
TZNAME:PDT
DTSTART:20250309T100000
END:DAYLIGHT
BEGIN:STANDARD
TZOFFSETFROM:-0700
TZOFFSETTO:-0800
TZNAME:PST
DTSTART:20251102T090000
END:STANDARD
END:VTIMEZONE
BEGIN:VEVENT
DTSTART;VALUE=DATE:20240204
DTEND;VALUE=DATE:20240205
DTSTAMP:20260422T110407
CREATED:20231228T195127Z
LAST-MODIFIED:20240103T221001Z
UID:5820-1707004800-1707091199@kamloopsvineyard.com
SUMMARY:Vineyard Feast Sunday. Feb 4th @ 3 pm.
DESCRIPTION:Feast Sunday. Feb 4th @ 3 pm.\nConnections Cáfe begins serving @ 2:45 pm.\nEveryone is welcome! Invite your friends and neighbours.\nVenue: Free Methodist Church\n\n\n\n\nWe welcome you to join us in an time of celebration and worship on the first Sunday of every month. Setting our sights on Jesus — we lean into a short communal reflection from God’s Word\, corporate worship and a shared meal.\n\n\n\n\n\nInvite your friends\, extended family and neighbours.\nThe meal will be potluck.\n\n\n\nSignup! Can you share what you are hoping to bring?\nA main dish/salad\, and/or Dessert?\n_________________\n\n\n\nMany hands help lighten the workload.\nWe’re looking for people to help with setup\, takedown\, or cleanup.\n\n\n\nPlease email Connie Smith. Let them know what you’re providing and where you might hope to provide some help\, info@kamloopsvineyard.com
URL:https://kamloopsvineyard.com/event/first-of-2024-vineyard-feast-sunday-feb-14th-3-pm/
LOCATION:Kamloops Free Methodist Church\, 975 Windbreak St\, Kamloops\, BC\, V2B 5P5\, Canada
CATEGORIES:Feast Sunday,In-Person Worship Service,Streaming LIVE,Sunday In-Person Worship
ATTACH;FMTTYPE=image/jpeg:https://kamloopsvineyard.com/wp-content/uploads/2023/12/FeastSunday_Feb4@1000.jpeg
END:VEVENT
BEGIN:VEVENT
DTSTART;VALUE=DATE:20240211
DTEND;VALUE=DATE:20240212
DTSTAMP:20260422T110407
CREATED:20231228T185841Z
LAST-MODIFIED:20231228T185841Z
UID:5800-1707609600-1707695999@kamloopsvineyard.com
SUMMARY:Worship Service and Kids' Church. Sunday Feb 11th @ 3 pm.
DESCRIPTION:Sunday Worship Service and Kids’ Church begins @ 3 pm\nConnections Cáfe begins serving @ 2:45 pm\nEveryone is welcome!\nVenue: Free Methodist Church\n\n\nKids’ Church breaks out to meet following corporate worship and finishes up at the close of the message (typically 40 min) and during the close of any shared testimonies or corporate ministry.\n\n\nMany hands lighten the workload. We’re looking for people to help with setup\, takedown\, cleanup\, greeting. Please contact Connie Smith and Debbie Tombe to find out how you can help serve. Please email\, info@kamloopsvineyard.com or call the office at 250-828-1690.
URL:https://kamloopsvineyard.com/event/worship-service-and-kids-church-sunday-feb-11th-3-pm/
LOCATION:Kamloops Free Methodist Church\, 975 Windbreak St\, Kamloops\, BC\, V2B 5P5\, Canada
CATEGORIES:In-Person Worship Service,Streaming LIVE,Sunday In-Person Worship
ATTACH;FMTTYPE=image/jpeg:https://kamloopsvineyard.com/wp-content/uploads/2023/09/Sunday@3pm_brocklehurst@1000.jpeg
END:VEVENT
BEGIN:VEVENT
DTSTART;VALUE=DATE:20240218
DTEND;VALUE=DATE:20240219
DTSTAMP:20260422T110407
CREATED:20231228T184727Z
LAST-MODIFIED:20231228T184847Z
UID:5790-1708214400-1708300799@kamloopsvineyard.com
SUMMARY:Worship and Communion Service. Feb 18th @ 3 pm
DESCRIPTION:Sunday Worship and Communion Service @ 3 pm\nConnections Cáfe begins serving @ 2:45 pm\nVenue: Free Methodist Church\n\n\nKids’ activity table will be setup at the back of the sanctuary.\n\n\nWhile the Communion Table is present every Sunday but the 1st Sunday of every month\, on the 3rd Sunday we gather to focus our affections toward JESUS and to the worship of our LORD through corporate song\, Communion and prayer.
URL:https://kamloopsvineyard.com/event/worship-and-communion-service-feb-18st-3-pm/
LOCATION:Kamloops Free Methodist Church\, 975 Windbreak St\, Kamloops\, BC\, V2B 5P5\, Canada
CATEGORIES:In-Person Worship Service,Streaming LIVE,Sunday In-Person Worship
ATTACH;FMTTYPE=image/jpeg:https://kamloopsvineyard.com/wp-content/uploads/2023/09/Sunday@3pm_brocklehurst@1000.jpeg
END:VEVENT
BEGIN:VEVENT
DTSTART;VALUE=DATE:20240225
DTEND;VALUE=DATE:20240226
DTSTAMP:20260422T110407
CREATED:20231228T185928Z
LAST-MODIFIED:20231228T185939Z
UID:5802-1708819200-1708905599@kamloopsvineyard.com
SUMMARY:Worship Service and Kids' Church. Sunday Feb 25th @ 3 pm.
DESCRIPTION:Sunday Worship Service and Kids’ Church begins @ 3 pm\nConnections Cáfe begins serving @ 2:45 pm\nEveryone is welcome!\nVenue: Free Methodist Church\n\n\nKids’ Church breaks out to meet following corporate worship and finishes up at the close of the message (typically 40 min) and during the close of any shared testimonies or corporate ministry.\n\n\nMany hands lighten the workload. We’re looking for people to help with setup\, takedown\, cleanup\, greeting. Please contact Connie Smith and Debbie Tombe to find out how you can help serve. Please email\, info@kamloopsvineyard.com or call the office at 250-828-1690.
URL:https://kamloopsvineyard.com/event/worship-service-and-kids-church-sunday-feb-25th-3-pm/
LOCATION:Kamloops Free Methodist Church\, 975 Windbreak St\, Kamloops\, BC\, V2B 5P5\, Canada
CATEGORIES:In-Person Worship Service,Streaming LIVE,Sunday In-Person Worship
ATTACH;FMTTYPE=image/jpeg:https://kamloopsvineyard.com/wp-content/uploads/2023/09/Sunday@3pm_brocklehurst@1000.jpeg
END:VEVENT
END:VCALENDAR