BEGIN:VCALENDAR
VERSION:2.0
PRODID:-//Kamloops Vineyard Church - ECPv6.15.16//NONSGML v1.0//EN
CALSCALE:GREGORIAN
METHOD:PUBLISH
X-ORIGINAL-URL:https://kamloopsvineyard.com
X-WR-CALDESC:Events for Kamloops Vineyard Church
REFRESH-INTERVAL;VALUE=DURATION:PT1H
X-Robots-Tag:noindex
X-PUBLISHED-TTL:PT1H
BEGIN:VTIMEZONE
TZID:America/Vancouver
BEGIN:DAYLIGHT
TZOFFSETFROM:-0800
TZOFFSETTO:-0700
TZNAME:PDT
DTSTART:20230312T100000
END:DAYLIGHT
BEGIN:STANDARD
TZOFFSETFROM:-0700
TZOFFSETTO:-0800
TZNAME:PST
DTSTART:20231105T090000
END:STANDARD
BEGIN:DAYLIGHT
TZOFFSETFROM:-0800
TZOFFSETTO:-0700
TZNAME:PDT
DTSTART:20240310T100000
END:DAYLIGHT
BEGIN:STANDARD
TZOFFSETFROM:-0700
TZOFFSETTO:-0800
TZNAME:PST
DTSTART:20241103T090000
END:STANDARD
BEGIN:DAYLIGHT
TZOFFSETFROM:-0800
TZOFFSETTO:-0700
TZNAME:PDT
DTSTART:20250309T100000
END:DAYLIGHT
BEGIN:STANDARD
TZOFFSETFROM:-0700
TZOFFSETTO:-0800
TZNAME:PST
DTSTART:20251102T090000
END:STANDARD
END:VTIMEZONE
BEGIN:VEVENT
DTSTART;VALUE=DATE:20240303
DTEND;VALUE=DATE:20240304
DTSTAMP:20260422T090330
CREATED:20240103T221151Z
LAST-MODIFIED:20240218T174755Z
UID:5877-1709424000-1709510399@kamloopsvineyard.com
SUMMARY:Vineyard Feast Sunday March 3rd @ 3 pm. This meal is on us! — a thank you from Vineyard Elders and Directors!
DESCRIPTION:Feast Sunday. Mar 3rd @ 3 pm.\nIt’s our way of thanking all of you for faithfully staying the course with us.\nDirectors and Elders are providing and serving up our Feast Sunday Meal.\nEveryone is welcome! Invite your friends and neighbours.\nVenue: Free Methodist Church\n\n\n\n\nWe welcome you to join us in an time of celebration and worship on the first Sunday of every month. Setting our sights on Jesus — we lean into a short communal reflection from God’s Word\, corporate worship and a shared meal.\n\n\n\n\n\nInvite your friends\, extended family and neighbours.\nThe meal will be potluck.\n\n\n\n_________________\n\n\n\nWe’re looking for people to help with setup\, takedown\, or cleanup.\n\n\n\nPlease email Connie Smith. Let them know what you’re providing and where you might hope to provide some help\, info@kamloopsvineyard.com
URL:https://kamloopsvineyard.com/event/vineyard-feast-sunday-mar-3rd-3-pm/
LOCATION:Kamloops Free Methodist Church\, 975 Windbreak St\, Kamloops\, BC\, V2B 5P5\, Canada
CATEGORIES:Feast Sunday,In-Person Worship Service,Streaming LIVE,Sunday In-Person Worship
ATTACH;FMTTYPE=image/jpeg:https://kamloopsvineyard.com/wp-content/uploads/2024/01/FeastSunday_Mar2024B@1000.jpeg
END:VEVENT
BEGIN:VEVENT
DTSTART;VALUE=DATE:20240310
DTEND;VALUE=DATE:20240311
DTSTAMP:20260422T090330
CREATED:20231228T190148Z
LAST-MODIFIED:20231228T190148Z
UID:5804-1710028800-1710115199@kamloopsvineyard.com
SUMMARY:Worship Service and Kids' Church. Sunday Mar 10th @ 3 pm.
DESCRIPTION:Sunday Worship Service and Kids’ Church begins @ 3 pm\nConnections Cáfe begins serving @ 2:45 pm\nEveryone is welcome!\nVenue: Free Methodist Church\n\n\nKids’ Church breaks out to meet following corporate worship and finishes up at the close of the message (typically 40 min) and during the close of any shared testimonies or corporate ministry.\n\n\nMany hands lighten the workload. We’re looking for people to help with setup\, takedown\, cleanup\, greeting. Please contact Connie Smith and Debbie Tombe to find out how you can help serve. Please email\, info@kamloopsvineyard.com or call the office at 250-828-1690.
URL:https://kamloopsvineyard.com/event/worship-service-and-kids-church-sunday-mar-10th-3-pm/
LOCATION:Kamloops Free Methodist Church\, 975 Windbreak St\, Kamloops\, BC\, V2B 5P5\, Canada
CATEGORIES:In-Person Worship Service,Streaming LIVE,Sunday In-Person Worship
ATTACH;FMTTYPE=image/jpeg:https://kamloopsvineyard.com/wp-content/uploads/2023/09/Sunday@3pm_brocklehurst@1000.jpeg
END:VEVENT
BEGIN:VEVENT
DTSTART;VALUE=DATE:20240317
DTEND;VALUE=DATE:20240318
DTSTAMP:20260422T090330
CREATED:20231228T184824Z
LAST-MODIFIED:20231228T184824Z
UID:5792-1710633600-1710719999@kamloopsvineyard.com
SUMMARY:Worship and Communion Service. March 17th @ 3 pm
DESCRIPTION:Sunday Worship and Communion Service @ 3 pm\nConnections Cáfe begins serving @ 2:45 pm\nVenue: Free Methodist Church\n\n\nKids’ activity table will be setup at the back of the sanctuary.\n\n\nWhile the Communion Table is present every Sunday but the 1st Sunday of every month\, on the 3rd Sunday we gather to focus our affections toward JESUS and to the worship of our LORD through corporate song\, Communion and prayer.
URL:https://kamloopsvineyard.com/event/worship-and-communion-service-march-17th-3-pm/
LOCATION:Kamloops Free Methodist Church\, 975 Windbreak St\, Kamloops\, BC\, V2B 5P5\, Canada
CATEGORIES:In-Person Worship Service,Streaming LIVE,Sunday In-Person Worship
ATTACH;FMTTYPE=image/jpeg:https://kamloopsvineyard.com/wp-content/uploads/2023/09/Sunday@3pm_brocklehurst@1000.jpeg
END:VEVENT
BEGIN:VEVENT
DTSTART;VALUE=DATE:20240324
DTEND;VALUE=DATE:20240325
DTSTAMP:20260422T090330
CREATED:20231228T190239Z
LAST-MODIFIED:20231228T190239Z
UID:5806-1711238400-1711324799@kamloopsvineyard.com
SUMMARY:Worship Service and Kids' Church. Sunday Mar 24th @ 3 pm.
DESCRIPTION:Sunday Worship Service and Kids’ Church begins @ 3 pm\nConnections Cáfe begins serving @ 2:45 pm\nEveryone is welcome!\nVenue: Free Methodist Church\n\n\nKids’ Church breaks out to meet following corporate worship and finishes up at the close of the message (typically 40 min) and during the close of any shared testimonies or corporate ministry.\n\n\nMany hands lighten the workload. We’re looking for people to help with setup\, takedown\, cleanup\, greeting. Please contact Connie Smith and Debbie Tombe to find out how you can help serve. Please email\, info@kamloopsvineyard.com or call the office at 250-828-1690.
URL:https://kamloopsvineyard.com/event/worship-service-and-kids-church-sunday-mar-24th-3-pm/
LOCATION:Kamloops Free Methodist Church\, 975 Windbreak St\, Kamloops\, BC\, V2B 5P5\, Canada
CATEGORIES:In-Person Worship Service,Streaming LIVE,Sunday In-Person Worship
ATTACH;FMTTYPE=image/jpeg:https://kamloopsvineyard.com/wp-content/uploads/2023/09/Sunday@3pm_brocklehurst@1000.jpeg
END:VEVENT
BEGIN:VEVENT
DTSTART;VALUE=DATE:20240329
DTEND;VALUE=DATE:20240330
DTSTAMP:20260422T090330
CREATED:20240217T172529Z
LAST-MODIFIED:20240217T172529Z
UID:5929-1711670400-1711756799@kamloopsvineyard.com
SUMMARY:Good Friday Shared Worship Service. March 29th @ 10:30 am. (Free Methodist\, Lighthouse and Vineyard)
DESCRIPTION:Good Friday Shared Worship Service.\nMarch 29th @ 10:30 am with the Free Methodist\, Lighthouse and Vineyard Churches.\nVenue: The Kamloops Free Methodist Church (Brocklehurst) \nCome join us for a Good Friday Worship Service.\nInvite your family and friends.\nWorship. Prayer. Communion.
URL:https://kamloopsvineyard.com/event/good-friday-shared-worship-service-march-29th-1030-am-free-methodist-lighthouse-and-vineyard/
LOCATION:Kamloops Free Methodist Church\, 975 Windbreak St\, Kamloops\, BC\, V2B 5P5\, Canada
CATEGORIES:Good Friday,In-Person Worship Service,Special Event
ATTACH;FMTTYPE=image/jpeg:https://kamloopsvineyard.com/wp-content/uploads/2024/02/GoodFriday_2024@1000.jpeg
END:VEVENT
END:VCALENDAR