BEGIN:VCALENDAR
VERSION:2.0
PRODID:-//Kamloops Vineyard Church - ECPv6.15.16//NONSGML v1.0//EN
CALSCALE:GREGORIAN
METHOD:PUBLISH
X-WR-CALNAME:Kamloops Vineyard Church
X-ORIGINAL-URL:https://kamloopsvineyard.com
X-WR-CALDESC:Events for Kamloops Vineyard Church
REFRESH-INTERVAL;VALUE=DURATION:PT1H
X-Robots-Tag:noindex
X-PUBLISHED-TTL:PT1H
BEGIN:VTIMEZONE
TZID:America/Vancouver
BEGIN:DAYLIGHT
TZOFFSETFROM:-0800
TZOFFSETTO:-0700
TZNAME:PDT
DTSTART:20230312T100000
END:DAYLIGHT
BEGIN:STANDARD
TZOFFSETFROM:-0700
TZOFFSETTO:-0800
TZNAME:PST
DTSTART:20231105T090000
END:STANDARD
BEGIN:DAYLIGHT
TZOFFSETFROM:-0800
TZOFFSETTO:-0700
TZNAME:PDT
DTSTART:20240310T100000
END:DAYLIGHT
BEGIN:STANDARD
TZOFFSETFROM:-0700
TZOFFSETTO:-0800
TZNAME:PST
DTSTART:20241103T090000
END:STANDARD
BEGIN:DAYLIGHT
TZOFFSETFROM:-0800
TZOFFSETTO:-0700
TZNAME:PDT
DTSTART:20250309T100000
END:DAYLIGHT
BEGIN:STANDARD
TZOFFSETFROM:-0700
TZOFFSETTO:-0800
TZNAME:PST
DTSTART:20251102T090000
END:STANDARD
END:VTIMEZONE
BEGIN:VEVENT
DTSTART;VALUE=DATE:20241201
DTEND;VALUE=DATE:20241202
DTSTAMP:20260421T140940
CREATED:20241115T203941Z
LAST-MODIFIED:20241115T204119Z
UID:6780-1733011200-1733097599@kamloopsvineyard.com
SUMMARY:Vineyard House Church and Feast Sunday @ the Bylsma's in Knutsford. Sunday Dec 1st @ 10 am.
DESCRIPTION:Kamloops Vineyard House Church and Feast Sunday\nSunday Dec 1st Brent and Bonnie Bylsma are once again hosting Vineyard House Church and Feast Sunday at their home in Knutsford (Kamloops). Celebrations begin at 10 am. Please bring whatever you would like to share. Everyone is welcome. “We looking forward to meeting with you all.” \n\n\n\n\n\nIF you would like to make more personal connections then you can contact us @ info@kamloopsvineyard.com or call us @ 250-828-1690. \n\n\nAre you receiving weekly emails? If you’re not already receiving a weekly update (Vineyard newsletter called the Vineline) then we encourage you to SUBSCRIBE to receive a Vineyard newsletter that we like to call Vineline.
URL:https://kamloopsvineyard.com/event/vineyard-house-church-and-feast-sunday-the-bylsmas-in-knutsford-sunday-dec-1st-10-am/
LOCATION:Bylsma’s Home\, 2650 Long Lake Rd\, Kamloops\, BC\, Canada
CATEGORIES:Families,Feast Sunday,House Church,In-House Connections,In-Person Worship Service,Special Event,Sunday In-Person Worship,Vineyard House Church
ATTACH;FMTTYPE=image/jpeg:https://kamloopsvineyard.com/wp-content/uploads/2024/11/KVCHouseChurchFeastSunday_dec01@1000.jpeg
END:VEVENT
BEGIN:VEVENT
DTSTART;VALUE=DATE:20241208
DTEND;VALUE=DATE:20241209
DTSTAMP:20260421T140940
CREATED:20241119T185818Z
LAST-MODIFIED:20241119T185857Z
UID:6784-1733616000-1733702399@kamloopsvineyard.com
SUMMARY:Vineyard House Church @ the Tombe's in Barnhartvale. Sunday Dec 8th @ 10 am.
DESCRIPTION:Kamloops Vineyard House Church\nSunday mornings @ 10 am\nWe meet in various houses and venues week-to-week.\n\n\n\nWe’re fostering deep relational connectedness with Jesus and one-another in home gatherings throughout the week and Sunday mornings. Keep checking in on our calendar of events to stay current with information on events taking place through the week. \n\n\nIF you would like to make more personal connections then you can contact us @ info@kamloopsvineyard.com or call us @ 250-828-1690. \n\n\nAre you receiving weekly emails? If you’re not already receiving a weekly update (Vineyard newsletter called the Vineline) then we encourage you to SUBSCRIBE to receive a Vineyard newsletter that we like to call Vineline.
URL:https://kamloopsvineyard.com/event/vineyard-house-church-the-tombes-in-barnhartvale-sunday-dec-8th-10-am/
LOCATION:Tombe’s Home\, 1266 Pine Grove Rd\, Kamloops\, British Columbia\, V2C 6V6\, Canada
CATEGORIES:Families,House Church,In-House Connections,In-Person Worship Service,Sunday In-Person Worship,Vineyard House Church
ATTACH;FMTTYPE=image/jpeg:https://kamloopsvineyard.com/wp-content/uploads/2024/05/KVCHouseChurch_2024@1000.jpeg
END:VEVENT
BEGIN:VEVENT
DTSTART;VALUE=DATE:20241215
DTEND;VALUE=DATE:20241216
DTSTAMP:20260421T140940
CREATED:20241115T185738Z
LAST-MODIFIED:20241115T185738Z
UID:6778-1734220800-1734307199@kamloopsvineyard.com
SUMMARY:Vineyard House Church @ the Kleywegt's in Rose Hill. Sunday Dec 15th @ 10 am.
DESCRIPTION:Kamloops Vineyard House Church\nSunday mornings @ 10 am\nWe meet in various houses and venues week-to-week.\n\n\n\nWe’re fostering deep relational connectedness with Jesus and one-another in home gatherings throughout the week and Sunday mornings. Keep checking in on our calendar of events to stay current with information on events taking place through the week. \n\n\nIF you would like to make more personal connections then you can contact us @ info@kamloopsvineyard.com or call us @ 250-828-1690. \n\n\nAre you receiving weekly emails? If you’re not already receiving a weekly update (Vineyard newsletter called the Vineline) then we encourage you to SUBSCRIBE to receive a Vineyard newsletter that we like to call Vineline.
URL:https://kamloopsvineyard.com/event/vineyard-house-church-the-kleywegts-in-rose-hill-sunday-dec-15th-10-am/
LOCATION:Kleywegt’s Home\, 1422 Rose Hill Rd\, Kamloops\, BC\, V2E 1L4\, Canada
CATEGORIES:Families,In-House Connections,In-Person Worship Service,Sunday In-Person Worship,Vineyard House Church
ATTACH;FMTTYPE=image/jpeg:https://kamloopsvineyard.com/wp-content/uploads/2024/05/KVCHouseChurch_2024@1000.jpeg
END:VEVENT
BEGIN:VEVENT
DTSTART;VALUE=DATE:20241222
DTEND;VALUE=DATE:20241223
DTSTAMP:20260421T140940
CREATED:20241127T193702Z
LAST-MODIFIED:20241127T200331Z
UID:6816-1734825600-1734911999@kamloopsvineyard.com
SUMMARY:Vineyard House Church. Christmas Celebration. Music and meal @ the Tombe's in Barnhartvale. Sunday Dec 22nd @ 10 am.
DESCRIPTION:We’ve got plenty to celebrate!!! Bring along your family members or friends!\nChristmas Celebration. Music and Meal @ the Tombe’s home in Barnhartvale.\nDoors open @ 9:30 am. Festivities start @ 10 am.\n\n\n\n\nTeresa Kleywegt and Debbie Tombe are putting together a couple lasagne main dishes and we’re inviting the rest of you to bring a complementary main dish\, salad\, and/or desert/Christmas treat to share with everyone. \nWe’re fostering deep relational connectedness with Jesus and one-another in home gatherings throughout the week and Sunday mornings. Keep checking in on our calendar of events to stay current with information on events taking place through the week. \nIf you have any questions please contact Debbie Tombe\, debbie@kamloopsvineyard.com or phone 250-320-4563. \n\nVenue located @ 1266 Pine Grove Rd\, Kamloops BC (Barnhartvale)
URL:https://kamloopsvineyard.com/event/vineyard-house-church-christmas-celebration-music-and-meal-the-tombes-in-barnhartvale-sunday-dec-8th-10-am/
LOCATION:Tombe’s Home\, 1266 Pine Grove Rd\, Kamloops\, British Columbia\, V2C 6V6\, Canada
CATEGORIES:Families,House Church,In-House Connections,In-Person Worship Service,Sunday In-Person Worship,Vineyard House Church
ATTACH;FMTTYPE=image/jpeg:https://kamloopsvineyard.com/wp-content/uploads/2024/11/KVCHouseChurchChristmasCelebration_dec22@1000.jpeg
END:VEVENT
BEGIN:VEVENT
DTSTART;VALUE=DATE:20241229
DTEND;VALUE=DATE:20241230
DTSTAMP:20260421T140940
CREATED:20241119T190018Z
LAST-MODIFIED:20241119T190905Z
UID:6786-1735430400-1735516799@kamloopsvineyard.com
SUMMARY:Vineyard House Church 'ON PAUSE One (1) Week Only'. Sunday Dec 29th.
DESCRIPTION:Kamloops Vineyard House Church\nSunday mornings @ 10 am\nWe meet in various houses and venues week-to-week.\n\n\n\nWe’re fostering deep relational connectedness with Jesus and one-another in home gatherings throughout the week and Sunday mornings. Keep checking in on our calendar of events to stay current with information on events taking place through the week. \n\n\nIF you would like to make more personal connections then you can contact us @ info@kamloopsvineyard.com or call us @ 250-828-1690. \n\n\nAre you receiving weekly emails? If you’re not already receiving a weekly update (Vineyard newsletter called the Vineline) then we encourage you to SUBSCRIBE to receive a Vineyard newsletter that we like to call Vineline.
URL:https://kamloopsvineyard.com/event/vineyard-house-church-the-tombes-in-barnhartvale-sunday-dec-22nd-10-am/
LOCATION:Tombe’s Home\, 1266 Pine Grove Rd\, Kamloops\, British Columbia\, V2C 6V6\, Canada
CATEGORIES:Families,House Church,In-House Connections,In-Person Worship Service,Sunday In-Person Worship,Vineyard House Church
ATTACH;FMTTYPE=image/jpeg:https://kamloopsvineyard.com/wp-content/uploads/2024/11/KVCHouseChurch_PauseDec29th@1000.jpeg
END:VEVENT
END:VCALENDAR