BEGIN:VCALENDAR
VERSION:2.0
PRODID:-//Kamloops Vineyard Church - ECPv6.15.16//NONSGML v1.0//EN
CALSCALE:GREGORIAN
METHOD:PUBLISH
X-ORIGINAL-URL:https://kamloopsvineyard.com
X-WR-CALDESC:Events for Kamloops Vineyard Church
REFRESH-INTERVAL;VALUE=DURATION:PT1H
X-Robots-Tag:noindex
X-PUBLISHED-TTL:PT1H
BEGIN:VTIMEZONE
TZID:America/Vancouver
BEGIN:DAYLIGHT
TZOFFSETFROM:-0800
TZOFFSETTO:-0700
TZNAME:PDT
DTSTART:20240310T100000
END:DAYLIGHT
BEGIN:STANDARD
TZOFFSETFROM:-0700
TZOFFSETTO:-0800
TZNAME:PST
DTSTART:20241103T090000
END:STANDARD
BEGIN:DAYLIGHT
TZOFFSETFROM:-0800
TZOFFSETTO:-0700
TZNAME:PDT
DTSTART:20250309T100000
END:DAYLIGHT
BEGIN:STANDARD
TZOFFSETFROM:-0700
TZOFFSETTO:-0800
TZNAME:PST
DTSTART:20251102T090000
END:STANDARD
BEGIN:DAYLIGHT
TZOFFSETFROM:-0800
TZOFFSETTO:-0700
TZNAME:PDT
DTSTART:20260308T100000
END:DAYLIGHT
BEGIN:STANDARD
TZOFFSETFROM:-0700
TZOFFSETTO:-0800
TZNAME:PST
DTSTART:20261101T090000
END:STANDARD
END:VTIMEZONE
BEGIN:VEVENT
DTSTART;VALUE=DATE:20250921
DTEND;VALUE=DATE:20250922
DTSTAMP:20260419T164105
CREATED:20250916T234332Z
LAST-MODIFIED:20250916T234705Z
UID:7827-1758412800-1758499199@kamloopsvineyard.com
SUMMARY:Kids' Church. Mid-Service @ Vineyard House Church. Sunday Sept 21st @ 10 am.
DESCRIPTION:Schedules can be a bit fluid . . . so keep checking in! \nWe’re including our kids in worship and social connections\, creating opportunities to help them meaningfully engage with God and one another. Scheduling is a bit dynamic … dependant on teacher/leaders availability\, and suitable breakout space. \nIf you would like to learn more about kids’ ministry . . . maybe you’d like an opportunity to help serve the children?! . . . please reach out to Connie Smith\, connie@kamloopsvineyard.com or myself Debbie Tombe\, debbie@kamloopsvineyard.com
URL:https://kamloopsvineyard.com/event/kids-church-mid-service-vineyard-house-church-sunday-sept-21st-10-am-copy/
LOCATION:British Columbia
CATEGORIES:Children,Families,House Church,Kids' Church
ATTACH;FMTTYPE=image/jpeg:https://kamloopsvineyard.com/wp-content/uploads/2025/03/kidschurch_2025@1000.jpeg
END:VEVENT
END:VCALENDAR