BEGIN:VCALENDAR
VERSION:2.0
PRODID:-//Kamloops Vineyard Church - ECPv6.15.16//NONSGML v1.0//EN
CALSCALE:GREGORIAN
METHOD:PUBLISH
X-WR-CALNAME:Kamloops Vineyard Church
X-ORIGINAL-URL:https://kamloopsvineyard.com
X-WR-CALDESC:Events for Kamloops Vineyard Church
REFRESH-INTERVAL;VALUE=DURATION:PT1H
X-Robots-Tag:noindex
X-PUBLISHED-TTL:PT1H
BEGIN:VTIMEZONE
TZID:America/Vancouver
BEGIN:DAYLIGHT
TZOFFSETFROM:-0800
TZOFFSETTO:-0700
TZNAME:PDT
DTSTART:20250309T100000
END:DAYLIGHT
BEGIN:STANDARD
TZOFFSETFROM:-0700
TZOFFSETTO:-0800
TZNAME:PST
DTSTART:20251102T090000
END:STANDARD
BEGIN:DAYLIGHT
TZOFFSETFROM:-0800
TZOFFSETTO:-0700
TZNAME:PDT
DTSTART:20260308T100000
END:DAYLIGHT
BEGIN:STANDARD
TZOFFSETFROM:-0700
TZOFFSETTO:-0800
TZNAME:PST
DTSTART:20261101T090000
END:STANDARD
BEGIN:DAYLIGHT
TZOFFSETFROM:-0800
TZOFFSETTO:-0700
TZNAME:PDT
DTSTART:20270314T100000
END:DAYLIGHT
BEGIN:STANDARD
TZOFFSETFROM:-0700
TZOFFSETTO:-0800
TZNAME:PST
DTSTART:20271107T090000
END:STANDARD
END:VTIMEZONE
BEGIN:VEVENT
DTSTART;VALUE=DATE:20260208
DTEND;VALUE=DATE:20260209
DTSTAMP:20260421T083734
CREATED:20260204T193806Z
LAST-MODIFIED:20260204T193853Z
UID:8184-1770508800-1770595199@kamloopsvineyard.com
SUMMARY:Kids' Breakout Mid-Service @ House Church. Sunday Feb 8th @ 10 am.
DESCRIPTION:Schedules are fluid . . . so keep checking in! \nWe’re including our kids in worship and social connections\, creating opportunities to help them meaningfully engage with God and one another. Scheduling is a bit dynamic … dependant on teacher/leaders availability\, and suitable breakout space. \nIf you would like to learn more about kids’ ministry . . . maybe you’d like an opportunity to help serve the children?! . . . please reach out to Connie Smith\, connie@kamloopsvineyard.com or myself Debbie Tombe\, debbie@kamloopsvineyard.com
URL:https://kamloopsvineyard.com/event/kids-breakout-mid-service-house-church-sunday-feb-8th-10-am/
LOCATION:Tombe’s Home\, 1266 Pine Grove Rd\, Kamloops\, British Columbia\, V2C 6V6\, Canada
CATEGORIES:Children,Families,House Church,Kids' Church
ATTACH;FMTTYPE=image/jpeg:https://kamloopsvineyard.com/wp-content/uploads/2026/02/kidsbreakout_2026@1000.jpeg
END:VEVENT
END:VCALENDAR