BEGIN:VCALENDAR
VERSION:2.0
PRODID:-//Kamloops Vineyard Church - ECPv6.15.16//NONSGML v1.0//EN
CALSCALE:GREGORIAN
METHOD:PUBLISH
X-WR-CALNAME:Kamloops Vineyard Church
X-ORIGINAL-URL:https://kamloopsvineyard.com
X-WR-CALDESC:Events for Kamloops Vineyard Church
REFRESH-INTERVAL;VALUE=DURATION:PT1H
X-Robots-Tag:noindex
X-PUBLISHED-TTL:PT1H
BEGIN:VTIMEZONE
TZID:America/Vancouver
BEGIN:DAYLIGHT
TZOFFSETFROM:-0800
TZOFFSETTO:-0700
TZNAME:PDT
DTSTART:20210314T100000
END:DAYLIGHT
BEGIN:STANDARD
TZOFFSETFROM:-0700
TZOFFSETTO:-0800
TZNAME:PST
DTSTART:20211107T090000
END:STANDARD
BEGIN:DAYLIGHT
TZOFFSETFROM:-0800
TZOFFSETTO:-0700
TZNAME:PDT
DTSTART:20220313T100000
END:DAYLIGHT
BEGIN:STANDARD
TZOFFSETFROM:-0700
TZOFFSETTO:-0800
TZNAME:PST
DTSTART:20221106T090000
END:STANDARD
BEGIN:DAYLIGHT
TZOFFSETFROM:-0800
TZOFFSETTO:-0700
TZNAME:PDT
DTSTART:20230312T100000
END:DAYLIGHT
BEGIN:STANDARD
TZOFFSETFROM:-0700
TZOFFSETTO:-0800
TZNAME:PST
DTSTART:20231105T090000
END:STANDARD
BEGIN:DAYLIGHT
TZOFFSETFROM:-0800
TZOFFSETTO:-0700
TZNAME:PDT
DTSTART:20240310T100000
END:DAYLIGHT
BEGIN:STANDARD
TZOFFSETFROM:-0700
TZOFFSETTO:-0800
TZNAME:PST
DTSTART:20241103T090000
END:STANDARD
END:VTIMEZONE
BEGIN:VEVENT
DTSTART;VALUE=DATE:20230226
DTEND;VALUE=DATE:20230227
DTSTAMP:20260419T092805
CREATED:20230203T212213Z
LAST-MODIFIED:20230203T213340Z
UID:4247-1677369600-1677455999@kamloopsvineyard.com
SUMMARY:Sunday Worship Service and Kids' Church. Feb 26th @ 4 pm (NEW MEETING TIME).
DESCRIPTION:We’re celebrating a NEW CORPORATE meeting time.\nSunday February 26th @ 4 pm.\nSame location: Gateway City Church.\n\n\nFollowing corporate worship and Connections Cáfe children will transition to a simple kids’ craft/activity in the sanctuary.\n\nWe’re Streaming LIVE on the 2nd\, 4th and 5th Sundays of every month. IF you can’t meet with us in-person\, join us ONLINE.\nFacebook Public\nFacebook Group\nYouTube\n\n\n\nMany hands lighten the workload. We’re looking for people to help with setup\, takedown\, cleanup\, greeting. Please contact Connie Smith and Debbie Tombe to find out how you can help serve. Please email\, info@kamloopsvineyard.com or call the office at 250-828-1690.
URL:https://kamloopsvineyard.com/event/sunday-worship-service-feb-26th-4-pm/
LOCATION:BC
CATEGORIES:In-Person Worship Service,Kids' Church,Streaming LIVE,Sunday In-Person Worship
ATTACH;FMTTYPE=image/jpeg:https://kamloopsvineyard.com/wp-content/uploads/2021/10/SundayWorship@1000.jpeg
END:VEVENT
BEGIN:VEVENT
DTSTART;VALUE=DATE:20230212
DTEND;VALUE=DATE:20230213
DTSTAMP:20260419T092805
CREATED:20230203T211919Z
LAST-MODIFIED:20230203T213417Z
UID:4245-1676160000-1676246399@kamloopsvineyard.com
SUMMARY:Sunday Worship Service and Kids' Church. Feb 12th @ 4 pm (NEW MEETING TIME).
DESCRIPTION:Join us on our NEWLY ANNOUNCED 4 PM MEETING TIME\nSunday February 12th @ 4 pm.\nSame location: Gateway City Church.\n\n\nFollowing corporate worship and Connections Cáfe children will transition to a simple kids’ craft/activity in the sanctuary.\n\nWe’re Streaming LIVE on the 2nd\, 4th and 5th Sundays of every month. IF you can’t meet with us in-person\, join us ONLINE.\nFacebook Public\nFacebook Group\nYouTube\n\n\n\nMany hands lighten the workload. We’re looking for people to help with setup\, takedown\, cleanup\, greeting. Please contact Connie Smith and Debbie Tombe to find out how you can help serve. Please email\, info@kamloopsvineyard.com or call the office at 250-828-1690.
URL:https://kamloopsvineyard.com/event/sunday-worship-service-feb-12th-4-pm/
LOCATION:BC
CATEGORIES:In-Person Worship Service,Kids' Church,Streaming LIVE,Sunday In-Person Worship
ATTACH;FMTTYPE=image/jpeg:https://kamloopsvineyard.com/wp-content/uploads/2021/10/SundayWorship@1000.jpeg
END:VEVENT
BEGIN:VEVENT
DTSTART;VALUE=DATE:20230129
DTEND;VALUE=DATE:20230130
DTSTAMP:20260419T092805
CREATED:20221217T172159Z
LAST-MODIFIED:20221217T175553Z
UID:4121-1674950400-1675036799@kamloopsvineyard.com
SUMMARY:Sunday Worship Service. Jan 29th @ 2 pm.
DESCRIPTION:Join us on the 5th Sunday of the month\, January 29th @ 2 pm.\nLocation: Gateway City Church.\n\n\nFollowing corporate worship and Connections Cáfe children will transition to a simple kids’ craft/activity in the sanctuary.\n\nWe’re Streaming LIVE on the 2nd\, 4th and 5th Sundays of every month. IF you can’t meet with us in-person\, join us ONLINE.\nFacebook Public\nFacebook Group\nYouTube\n\n\n\nMany hands lighten the workload. We’re looking for people to help with setup\, takedown\, cleanup\, greeting. Please contact Connie Smith and Debbie Tombe to find out how you can help serve. Please email\, info@kamloopsvineyard.com or call the office at 250-828-1690.
URL:https://kamloopsvineyard.com/event/sunday-worship-service-jan-29th-2-pm/
LOCATION:BC
CATEGORIES:In-Person Worship Service,Kids' Church,Streaming LIVE,Sunday In-Person Worship
ATTACH;FMTTYPE=image/jpeg:https://kamloopsvineyard.com/wp-content/uploads/2021/10/SundayWorship@1000.jpeg
END:VEVENT
BEGIN:VEVENT
DTSTART;VALUE=DATE:20230122
DTEND;VALUE=DATE:20230123
DTSTAMP:20260419T092805
CREATED:20221217T171220Z
LAST-MODIFIED:20221217T175447Z
UID:4119-1674345600-1674431999@kamloopsvineyard.com
SUMMARY:Sunday Worship Service and Kids' Church. Jan 22nd @ 2 pm.
DESCRIPTION:Join us Sunday Jan 22nd @ 2 pm.\nLocation: Gateway City Church.\n\n\nFollowing corporate worship and Connections Cáfe the children break out for Kids’ Church (Kids’ Church runs on the 2nd and 4th Sundays of every month).\n\nWe’re Streaming LIVE on the 2nd\, 4th and 5th Sundays of every month. IF you can’t meet with us in-person\, join us ONLINE.\nFacebook Public\nFacebook Group\nYouTube\n\n\n\nMany hands lighten the workload. We’re looking for people to help with setup\, takedown\, cleanup\, greeting. Please contact Connie Smith and Debbie Tombe to find out how you can help serve. Please email\, info@kamloopsvineyard.com or call the office at 250-828-1690.
URL:https://kamloopsvineyard.com/event/sunday-worship-service-and-kids-church-jan-22nd-2-pm/
LOCATION:BC
CATEGORIES:In-Person Worship Service,Kids' Church,Streaming LIVE,Sunday In-Person Worship
ATTACH;FMTTYPE=image/jpeg:https://kamloopsvineyard.com/wp-content/uploads/2021/10/SundayWorship@1000.jpeg
END:VEVENT
BEGIN:VEVENT
DTSTART;VALUE=DATE:20230108
DTEND;VALUE=DATE:20230109
DTSTAMP:20260419T092805
CREATED:20221215T203357Z
LAST-MODIFIED:20221217T175715Z
UID:4106-1673136000-1673222399@kamloopsvineyard.com
SUMMARY:Sunday Worship Service and Kids' Church. Jan 8th @ 2 pm.
DESCRIPTION:Join us Sunday Jan 8th @ 2 pm.\nLocation: Gateway City Church.\n\n\nFollowing corporate worship and Connections Cáfe the children break out for Kids’ Church (Kids’ Church runs on the 2nd and 4th Sundays of every month).\n\nWe’re Streaming LIVE on the 2nd\, 4th and 5th Sundays of every month. IF you can’t meet with us in-person\, join us ONLINE.\nFacebook Public\nFacebook Group\nYouTube\n\n\n\nMany hands lighten the workload. We’re looking for people to help with setup\, takedown\, cleanup\, greeting. Please contact Connie Smith and Debbie Tombe to find out how you can help serve. Please email\, info@kamloopsvineyard.com or call the office at 250-828-1690.
URL:https://kamloopsvineyard.com/event/sunday-worship-service-and-kids-church-jan-8th-2-pm/
LOCATION:BC
CATEGORIES:In-Person Worship Service,Kids' Church,Streaming LIVE,Sunday In-Person Worship
ATTACH;FMTTYPE=image/jpeg:https://kamloopsvineyard.com/wp-content/uploads/2021/10/SundayWorship@1000.jpeg
END:VEVENT
BEGIN:VEVENT
DTSTART;VALUE=DATE:20221211
DTEND;VALUE=DATE:20221212
DTSTAMP:20260419T092805
CREATED:20221117T161102Z
LAST-MODIFIED:20221117T161102Z
UID:4058-1670716800-1670803199@kamloopsvineyard.com
SUMMARY:Sunday Worship Service and Kids' Church. Dec 11th @ 2 pm.
DESCRIPTION:Join us Sunday @ 2 pm\, Nov 27th\, at Gateway City Church.\n\n\nFollowing corporate worship and Connections Cáfe the children break out for Kids’ Church (Kids’ Church runs on the 2nd and 4th Sundays of every month).\n\nWe’re Streaming LIVE on the 2nd\, 4th and 5th Sundays of every month. IF you can’t meet with us in-person\, join us ONLINE.\nFacebook Public\nFacebook Group\nYouTube\n\n\n\nMany hands lighten the workload. We’re looking for people to help with setup\, takedown\, cleanup\, greeting. Please contact Connie Smith and Debbie Tombe to find out how you can help serve. Please email\, info@kamloopsvineyard.com or call the office at 250-828-1690.
URL:https://kamloopsvineyard.com/event/sunday-worship-service-and-kids-church-dec-11th-2-pm/
LOCATION:BC
CATEGORIES:In-Person Worship Service,Kids' Church,Streaming LIVE,Sunday In-Person Worship
ATTACH;FMTTYPE=image/jpeg:https://kamloopsvineyard.com/wp-content/uploads/2021/10/SundayWorship@1000.jpeg
END:VEVENT
BEGIN:VEVENT
DTSTART;VALUE=DATE:20221127
DTEND;VALUE=DATE:20221128
DTSTAMP:20260419T092805
CREATED:20221007T192609Z
LAST-MODIFIED:20221007T192609Z
UID:3986-1669507200-1669593599@kamloopsvineyard.com
SUMMARY:Kids' Church Nov 27th (2nd and 4th Sundays monthly).
DESCRIPTION:Kids’ Church meets every 2nd and 4th Sunday following worship and Connections Cáfe!\n \nKid’s Church is welcoming children into a regular program of teaching and fun activities on the 2nd and 4th Sunday of every month. We’re offering a playmat and small children breakout area the Sanctuary during worship. And after Connections Cáfe children transition to a ‘Nursery in the Narthex’ and an ‘elementary-aged children’s program’ in the kid’s breakout area beside the Cáfe. \nFor more information on Kids’ Church programs please contact: \nKaren Enns (Children and Family Worker)\nkaren@kamloopsvineyard.com \nBonnie Bylsma (Children and Family Pastor)\nbonnie@kamloopsvineyard.com
URL:https://kamloopsvineyard.com/event/kids-church-nov-27th-2nd-and-4th-sundays-monthly/
LOCATION:BC
CATEGORIES:In-Person Worship Service,Kids' Church,Sunday In-Person Family Service,Sunday In-Person Worship
ATTACH;FMTTYPE=image/png:https://kamloopsvineyard.com/wp-content/uploads/2022/09/KidsChurch_2022_BANNER@1000.png
END:VEVENT
BEGIN:VEVENT
DTSTART;VALUE=DATE:20221127
DTEND;VALUE=DATE:20221128
DTSTAMP:20260419T092805
CREATED:20221007T191740Z
LAST-MODIFIED:20221007T191740Z
UID:3978-1669507200-1669593599@kamloopsvineyard.com
SUMMARY:Sunday Worship Service. Nov 27th @ 2 pm.
DESCRIPTION:Join us Sunday @ 2 pm\, Nov 27th\, at Gateway City Church.\n\n\nThe Vineyard hosts Worship Services on the 1st\, 2nd\, 4th\, and 5th Sundays of every month at Gateway City Church\, Valleyview. On the 3rd Sundays of every month we’re gathering in host homes across the city.\n\nFollowing corporate worship and Connections Cáfe the children break out for Kids’ Church (Kids’ Church runs on the 2nd and 4th Sundays of every month).\n\nWe’re Streaming LIVE on the 2nd\, 4th and 5th Sundays of every month. IF you can’t meet with us in-person\, join us ONLINE.\nFacebook Public\nFacebook Group\nYouTube\n\n\n\nMany hands lighten the workload. We’re looking for people to help with setup\, takedown\, cleanup\, greeting. Please contact Connie Smith and Debbie Tombe to find out how you can help serve. Please email\, info@kamloopsvineyard.com or call the office at 250-828-1690.
URL:https://kamloopsvineyard.com/event/sunday-worship-service-nov-27th-2-pm/
LOCATION:BC
CATEGORIES:In-Person Worship Service,Kids' Church,Streaming LIVE,Sunday In-Person Worship
ATTACH;FMTTYPE=image/jpeg:https://kamloopsvineyard.com/wp-content/uploads/2021/10/SundayWorship@1000.jpeg
END:VEVENT
BEGIN:VEVENT
DTSTART;VALUE=DATE:20221113
DTEND;VALUE=DATE:20221114
DTSTAMP:20260419T092805
CREATED:20221007T192100Z
LAST-MODIFIED:20221007T200338Z
UID:3980-1668297600-1668383999@kamloopsvineyard.com
SUMMARY:Kids' Church Nov 13th (every 2nd and 4th Sunday).
DESCRIPTION:Kids’ Church meets every 2nd and 4th Sunday following worship and Connections Cáfe!\n \nKid’s Church is welcoming children into a regular program of teaching and fun activities on the 2nd and 4th Sunday of every month. We’re offering a playmat and small children breakout area the Sanctuary during worship. And after Connections Cáfe children transition to a ‘Nursery in the Narthex’ and an ‘elementary-aged children’s program’ in the kid’s breakout area beside the Cáfe. \nFor more information on Kids’ Church programs please contact: \nKaren Enns (Children and Family Worker)\nkaren@kamloopsvineyard.com \nBonnie Bylsma (Children and Family Pastor)\nbonnie@kamloopsvineyard.com
URL:https://kamloopsvineyard.com/event/kids-church-nov-13th-2nd-and-4th-sundays-monthly/
LOCATION:BC
CATEGORIES:In-Person Worship Service,Kids' Church,Sunday In-Person Family Service,Sunday In-Person Worship
ATTACH;FMTTYPE=image/png:https://kamloopsvineyard.com/wp-content/uploads/2022/09/KidsChurch_2022_BANNER@1000.png
END:VEVENT
BEGIN:VEVENT
DTSTART;VALUE=DATE:20221113
DTEND;VALUE=DATE:20221114
DTSTAMP:20260419T092805
CREATED:20221007T191601Z
LAST-MODIFIED:20221007T191601Z
UID:3945-1668297600-1668383999@kamloopsvineyard.com
SUMMARY:Sunday Worship Service. Nov 13th @ 2 pm.
DESCRIPTION:Join us Sunday @ 2 pm\, Nov 13th\, at Gateway City Church.\n\n\nThe Vineyard hosts Worship Services on the 1st\, 2nd\, 4th\, and 5th Sundays of every month at Gateway City Church\, Valleyview. On the 3rd Sundays of every month we’re gathering in host homes across the city.\n\nFollowing corporate worship and Connections Cáfe the children break out for Kids’ Church (Kids’ Church runs on the 2nd and 4th Sundays of every month).\n\nWe’re Streaming LIVE on the 2nd\, 4th and 5th Sundays of every month. IF you can’t meet with us in-person\, join us ONLINE.\nFacebook Public\nFacebook Group\nYouTube\n\n\n\nMany hands lighten the workload. We’re looking for people to help with setup\, takedown\, cleanup\, greeting. Please contact Connie Smith and Debbie Tombe to find out how you can help serve. Please email\, info@kamloopsvineyard.com or call the office at 250-828-1690.
URL:https://kamloopsvineyard.com/event/sunday-worship-service-nov-13th-2-pm/
LOCATION:BC
CATEGORIES:In-Person Worship Service,Kids' Church,Streaming LIVE,Sunday In-Person Worship
ATTACH;FMTTYPE=image/jpeg:https://kamloopsvineyard.com/wp-content/uploads/2021/10/SundayWorship@1000.jpeg
END:VEVENT
BEGIN:VEVENT
DTSTART;VALUE=DATE:20221030
DTEND;VALUE=DATE:20221031
DTSTAMP:20260419T092805
CREATED:20220924T155055Z
LAST-MODIFIED:20220924T155055Z
UID:3946-1667088000-1667174399@kamloopsvineyard.com
SUMMARY:Sunday Worship Service. Oct 30th @ 2 pm.
DESCRIPTION:Join us Sunday @ 2 pm\, Oct 30th\, at Gateway City Church.\n\n\nThe Vineyard hosts Worship Services on the 1st\, 2nd\, 4th\, and 5th Sundays of every month at Gateway City Church\, Valleyview. On the 3rd Sundays of every month we’re gathering in host homes across the city.\n\nFollowing corporate worship\, Connections Cáfe\, life-encouraging message\, and ministry.\n\nWe’re Streaming LIVE on the 2nd\, 4th and 5th Sundays of every month. IF you can’t meet with us in-person\, join us ONLINE.\nFacebook Public\nFacebook Group\nYouTube\n\n\n\nMany hands lighten the workload. We’re looking for people to help with setup\, takedown\, cleanup\, greeting. Please contact Connie Smith and Debbie Tombe to find out how you can help serve. Please email\, info@kamloopsvineyard.com or call the office at 250-828-1690.
URL:https://kamloopsvineyard.com/event/sunday-worship-service-oct-30th-2-pm/
LOCATION:BC
CATEGORIES:In-Person Worship Service,Kids' Church,Streaming LIVE,Sunday In-Person Worship
ATTACH;FMTTYPE=image/jpeg:https://kamloopsvineyard.com/wp-content/uploads/2021/10/SundayWorship@1000.jpeg
END:VEVENT
BEGIN:VEVENT
DTSTART;VALUE=DATE:20221023
DTEND;VALUE=DATE:20221024
DTSTAMP:20260419T092805
CREATED:20220911T012827Z
LAST-MODIFIED:20220924T154002Z
UID:3865-1666483200-1666569599@kamloopsvineyard.com
SUMMARY:Sunday Worship Service. Oct 23rd @ 2 pm.
DESCRIPTION:Join us Sunday @ 2 pm\, Oct 23rd\, at Gateway City Church.\n\n\nThe Vineyard hosts Worship Services on the 1st\, 2nd\, 4th\, and 5th Sundays of every month at Gateway City Church\, Valleyview. On the 3rd Sundays of every month we’re gathering in host homes across the city.\n\nFollowing corporate worship and Connections Cáfe the children break out for Kids’ Church (Kids’ Church runs on the 2nd and 4th Sundays of every month).\n\nWe’re Streaming LIVE on the 2nd\, 4th and 5th Sundays of every month. IF you can’t meet with us in-person\, join us ONLINE.\nFacebook Public\nFacebook Group\nYouTube\n\n\n\nMany hands lighten the workload. We’re looking for people to help with setup\, takedown\, cleanup\, greeting. Please contact Connie Smith and Debbie Tombe to find out how you can help serve. Please email\, info@kamloopsvineyard.com or call the office at 250-828-1690.
URL:https://kamloopsvineyard.com/event/sunday-worship-service-oct-23rd-2-pm/
LOCATION:BC
CATEGORIES:In-Person Worship Service,Kids' Church,Streaming LIVE,Sunday In-Person Worship
ATTACH;FMTTYPE=image/jpeg:https://kamloopsvineyard.com/wp-content/uploads/2021/10/SundayWorship@1000.jpeg
END:VEVENT
BEGIN:VEVENT
DTSTART;VALUE=DATE:20221023
DTEND;VALUE=DATE:20221024
DTSTAMP:20260419T092805
CREATED:20220914T203013Z
LAST-MODIFIED:20221007T200435Z
UID:3880-1666483200-1666569599@kamloopsvineyard.com
SUMMARY:Kids' Church Oct 23rd (every 2nd and 4th Sunday).
DESCRIPTION:Kids’ Church meets every 2nd and 4th Sunday following worship and Connections Cáfe!\n \nKid’s Church is welcoming children into a regular program of teaching and fun activities on the 2nd and 4th Sunday of every month. We’re offering a playmat and small children breakout area the Sanctuary during worship. And after Connections Cáfe children transition to a ‘Nursery in the Narthex’ and an ‘elementary-aged children’s program’ in the kid’s breakout area beside the Cáfe. \nFor more information on Kids’ Church programs please contact: \nKaren Enns (Children and Family Worker)\nkaren@kamloopsvineyard.com \nBonnie Bylsma (Children and Family Pastor)\nbonnie@kamloopsvineyard.com
URL:https://kamloopsvineyard.com/event/kids-church-oct-23rd-2nd-and-4th-sundays-monthly/
LOCATION:BC
CATEGORIES:In-Person Worship Service,Kids' Church,Sunday In-Person Family Service,Sunday In-Person Worship
ATTACH;FMTTYPE=image/png:https://kamloopsvineyard.com/wp-content/uploads/2022/09/KidsChurch_2022_BANNER@1000.png
END:VEVENT
BEGIN:VEVENT
DTSTART;VALUE=DATE:20221009
DTEND;VALUE=DATE:20221010
DTSTAMP:20260419T092805
CREATED:20220911T012609Z
LAST-MODIFIED:20220924T153856Z
UID:3863-1665273600-1665359999@kamloopsvineyard.com
SUMMARY:Sunday Worship Service. Oct 9th @ 2 pm.
DESCRIPTION:Join us Sunday @ 2 pm\, Sept 25th\, at Gateway City Church.\n\n\nThe Vineyard hosts Worship Services on the 1st\, 2nd\, 4th\, and 5th Sundays of every month at Gateway City Church\, Valleyview. On the 3rd Sundays of every month we’re gathering in host homes across the city.\n\nFollowing corporate worship and Connections Cáfe the children break out for Kids’ Church (Kids’ Church runs on the 2nd and 4th Sundays of every month).\n\nWe’re Streaming LIVE on the 2nd\, 4th and 5th Sundays of every month. IF you can’t meet with us in-person\, join us ONLINE.\nFacebook Public\nFacebook Group\nYouTube\n\n\n\nMany hands lighten the workload. We’re looking for people to help with setup\, takedown\, cleanup\, greeting. Please contact Connie Smith and Debbie Tombe to find out how you can help serve. Please email\, info@kamloopsvineyard.com or call the office at 250-828-1690.
URL:https://kamloopsvineyard.com/event/sunday-worship-service-oct-9th-2-pm/
LOCATION:BC
CATEGORIES:In-Person Worship Service,Kids' Church,Streaming LIVE,Sunday In-Person Worship
ATTACH;FMTTYPE=image/jpeg:https://kamloopsvineyard.com/wp-content/uploads/2021/10/SundayWorship@1000.jpeg
END:VEVENT
BEGIN:VEVENT
DTSTART;VALUE=DATE:20221009
DTEND;VALUE=DATE:20221010
DTSTAMP:20260419T092805
CREATED:20220914T202409Z
LAST-MODIFIED:20221007T200512Z
UID:3875-1665273600-1665359999@kamloopsvineyard.com
SUMMARY:Kids' Church Oct 9th. (every 2nd and 4th Sunday)
DESCRIPTION:Kids’ Church meets every 2nd and 4th Sunday of the month following worship and Connections Cáfe! \nKid’s Church is welcoming children into a regular program of teaching and fun activities on the 2nd and 4th Sunday of every month. We’re setting up ‘Nursery in the Narthex’ and an ‘elementary-aged children’s program’ in the kid’s breakout area beside the Cáfe. \nFor more information on Kids’ Church programs please contact: \nKaren Enns (Children and Family Worker)\nkaren@kamloopsvineyard.com \nBonnie Bylsma (Children and Family Pastor)\nbonnie@kamloopsvineyard.com
URL:https://kamloopsvineyard.com/event/kids-church-oct-9th-2nd-and-4th-sundays-monthly/
LOCATION:BC
CATEGORIES:In-Person Worship Service,Kids' Church,Sunday In-Person Family Service,Sunday In-Person Worship
ATTACH;FMTTYPE=image/png:https://kamloopsvineyard.com/wp-content/uploads/2022/09/KidsChurch_2022_BANNER@1000.png
END:VEVENT
BEGIN:VEVENT
DTSTART;VALUE=DATE:20220925
DTEND;VALUE=DATE:20220926
DTSTAMP:20260419T092805
CREATED:20220902T234112Z
LAST-MODIFIED:20220924T153536Z
UID:3811-1664064000-1664150399@kamloopsvineyard.com
SUMMARY:Sunday Worship Service. Sept 25th @ 2 pm.
DESCRIPTION:Join us Sunday @ 2 pm\, Sept 25th\, at Gateway City Church.\n\n\nThe Vineyard hosts Worship Services on the 1st\, 2nd\, 4th\, and 5th Sundays of every month at Gateway City Church\, Valleyview. On the 3rd Sundays of every month we’re gathering in host homes across the city.\n\nFollowing corporate worship and Connections Cáfe the children break out for Kids’ Church (Kids’ Church runs on the 2nd and 4th Sundays of every month).\n\nWe’re Streaming LIVE on the 2nd\, 4th and 5th Sundays of every month. IF you can’t meet with us in-person\, join us ONLINE.\nFacebook Public\nFacebook Group\nYouTube\n\n\n\nMany hands lighten the workload. We’re looking for people to help with setup\, takedown\, cleanup\, greeting. Please contact Connie Smith and Debbie Tombe to find out how you can help serve. Please email\, info@kamloopsvineyard.com or call the office at 250-828-1690.
URL:https://kamloopsvineyard.com/event/sunday-worship-service-sept-25th-2-pm/
LOCATION:BC
CATEGORIES:In-Person Worship Service,Kids' Church,Streaming LIVE,Sunday In-Person Worship
ATTACH;FMTTYPE=image/jpeg:https://kamloopsvineyard.com/wp-content/uploads/2021/10/SundayWorship@1000.jpeg
END:VEVENT
BEGIN:VEVENT
DTSTART;VALUE=DATE:20220925
DTEND;VALUE=DATE:20220926
DTSTAMP:20260419T092805
CREATED:20220914T201958Z
LAST-MODIFIED:20221007T200544Z
UID:3871-1664064000-1664150399@kamloopsvineyard.com
SUMMARY:Kids' Church Sept 25th. (every 2nd and 4th Sunday)
DESCRIPTION:Kids’ Church meets every 2nd and 4th Sunday of the month following worship and Connections Cáfe! \nKid’s Church is welcoming children into a regular program of teaching and fun activities on the 2nd and 4th Sunday of every month. We’re setting up ‘Nursery in the Narthex’ and an ‘elementary-aged children’s program’ in the kid’s breakout area beside the Cáfe. \nFor more information on Kids’ Church programs please contact: \nKaren Enns (Children and Family Worker)\nkaren@kamloopsvineyard.com \nBonnie Bylsma (Children and Family Pastor)\nbonnie@kamloopsvineyard.com
URL:https://kamloopsvineyard.com/event/kids-church-sept-25th-2nd-and-4th-sundays-monthly/
LOCATION:BC
CATEGORIES:In-Person Worship Service,Kids' Church,Sunday In-Person Family Service,Sunday In-Person Worship
ATTACH;FMTTYPE=image/png:https://kamloopsvineyard.com/wp-content/uploads/2022/09/KidsChurch_2022_BANNER@1000.png
END:VEVENT
BEGIN:VEVENT
DTSTART;VALUE=DATE:20220911
DTEND;VALUE=DATE:20220912
DTSTAMP:20260419T092805
CREATED:20220902T231852Z
LAST-MODIFIED:20220902T233131Z
UID:3798-1662854400-1662940799@kamloopsvineyard.com
SUMMARY:Sunday Worship Service. Sept 11th @ 2 pm.
DESCRIPTION:Join us Sunday Sept 11th @ 2 pm.\nGateway City Church\, Valleyview. \nFollowing corporate worship and Connections Cáfe the children break out for Kids’ Church on the 2nd and 4th Sundays of every month. \nWe’re Streaming LIVE\nIF you can’t meet with us in-person\, join us ONLINE.\nFacebook Public\nFacebook Group\nYouTube \nMany hands help lighten the workload. We’re looking for people to help with setup\, takedown\, cleanup\, greeting. Please contact Connie Smith and Debbie Tombe to find out how you can help serve. Please email\, info@kamloopsvineyard.com or call the office at 250-828-1690.
URL:https://kamloopsvineyard.com/event/sunday-worship-service-sept-11th-2-pm/
LOCATION:BC
CATEGORIES:In-Person Worship Service,Kids' Church,Streaming LIVE,Sunday In-Person Worship
ATTACH;FMTTYPE=image/jpeg:https://kamloopsvineyard.com/wp-content/uploads/2021/10/SundayWorship@1000.jpeg
END:VEVENT
BEGIN:VEVENT
DTSTART;VALUE=DATE:20220904
DTEND;VALUE=DATE:20220905
DTSTAMP:20260419T092805
CREATED:20220902T233419Z
LAST-MODIFIED:20220902T233757Z
UID:3804-1662249600-1662335999@kamloopsvineyard.com
SUMMARY:'Hello September' School Start Blessing. (During Sunday Worship Service) Sept 4th @ 2:45 pm.
DESCRIPTION:Won’t you join us at Gateway City Church\, 2 pm.  \nFollowing worship and Connections Cáfe fellowship break we’re pausing for a community blessing of our Kids and Teachers as they enter into a brand new school year. Afterwards Kids will head out to Kid’s Church to enjoy a short story and Pizza Party.
URL:https://kamloopsvineyard.com/event/hello-september-school-start-blessing-during-sundays-worship-service-sept-4th-245-pm/
LOCATION:BC
CATEGORIES:In-Person Worship Service,Kids' Church,Special Event,Streaming LIVE,Sunday In-Person Worship
ATTACH;FMTTYPE=image/jpeg:https://kamloopsvineyard.com/wp-content/uploads/2022/09/Student-and-Teacher-Blessing-Fall-2020@960.jpg
END:VEVENT
BEGIN:VEVENT
DTSTART;VALUE=DATE:20220123
DTEND;VALUE=DATE:20220124
DTSTAMP:20260419T092805
CREATED:20220106T000204Z
LAST-MODIFIED:20220106T000204Z
UID:3323-1642896000-1642982399@kamloopsvineyard.com
SUMMARY:Sunday Worship Service. Jan 23rd @ 2 pm.
DESCRIPTION:Join us Sunday Jan 23rd @ 2pm\nGateway City Church\, Valleyview. \nFollowing corporate worship the children break out for Kids’ Church downstairs on the 2nd and 4th Sundays of every month. \nWe’re Streaming LIVE\nIF you can’t meet with us in-person\, join us ONLINE.\nFacebook Public\nFacebook Group\nYouTube \nMany hands help lighten the workload. We’re looking for people to help with setup\, takedown\, cleanup\, greeting. Please contact Connie Smith and Debbie Tombe to find out how you can help serve. Please email\, info@kamloopsvineyard.com or call the office at 250-828-1690. \nThe BC Health Ministry requires that worshipers wear facemasks for in-person gathering. For more information please click here. \nAnd finally\, IF you or anyone from your household is experiencing cold\nor flu-like symptoms you are encouraged to remain at home.
URL:https://kamloopsvineyard.com/event/sunday-worship-service-jan-23rd-2-pm/
LOCATION:BC
CATEGORIES:Kids' Church,Streaming LIVE,Sunday In-Person Worship
ATTACH;FMTTYPE=image/jpeg:https://kamloopsvineyard.com/wp-content/uploads/2021/10/SundayWorship@1000.jpeg
END:VEVENT
BEGIN:VEVENT
DTSTART;VALUE=DATE:20220109
DTEND;VALUE=DATE:20220110
DTSTAMP:20260419T092805
CREATED:20220105T235504Z
LAST-MODIFIED:20220105T235811Z
UID:3320-1641686400-1641772799@kamloopsvineyard.com
SUMMARY:Sunday Worship Service. Jan 9th @ 2 pm.
DESCRIPTION:Join us Sunday Jan 9th @ 2pm\nGateway City Church\, Valleyview. \nFollowing corporate worship the children break out for Kids’ Church downstairs on the 2nd and 4th Sundays of every month. \nWe’re Streaming LIVE\nIF you can’t meet with us in-person\, join us ONLINE.\nFacebook Public\nFacebook Group\nYouTube \nMany hands help lighten the workload. We’re looking for people to help with setup\, takedown\, cleanup\, greeting. Please contact Connie Smith and Debbie Tombe to find out how you can help serve. Please email\, info@kamloopsvineyard.com or call the office at 250-828-1690. \nThe BC Health Ministry requires that worshipers wear facemasks for in-person gathering. For more information please click here. \nAnd finally\, IF you or anyone from your household is experiencing cold\nor flu-like symptoms you are encouraged to remain at home.
URL:https://kamloopsvineyard.com/event/sunday-worship-service-jan-9th-2-pm/
LOCATION:BC
CATEGORIES:Kids' Church,Streaming LIVE,Sunday In-Person Worship
ATTACH;FMTTYPE=image/jpeg:https://kamloopsvineyard.com/wp-content/uploads/2021/10/SundayWorship@1000.jpeg
END:VEVENT
END:VCALENDAR