BEGIN:VCALENDAR
VERSION:2.0
PRODID:-//Kamloops Vineyard Church - ECPv6.15.16//NONSGML v1.0//EN
CALSCALE:GREGORIAN
METHOD:PUBLISH
X-WR-CALNAME:Kamloops Vineyard Church
X-ORIGINAL-URL:https://kamloopsvineyard.com
X-WR-CALDESC:Events for Kamloops Vineyard Church
REFRESH-INTERVAL;VALUE=DURATION:PT1H
X-Robots-Tag:noindex
X-PUBLISHED-TTL:PT1H
BEGIN:VTIMEZONE
TZID:America/Vancouver
BEGIN:DAYLIGHT
TZOFFSETFROM:-0800
TZOFFSETTO:-0700
TZNAME:PDT
DTSTART:20220313T100000
END:DAYLIGHT
BEGIN:STANDARD
TZOFFSETFROM:-0700
TZOFFSETTO:-0800
TZNAME:PST
DTSTART:20221106T090000
END:STANDARD
BEGIN:DAYLIGHT
TZOFFSETFROM:-0800
TZOFFSETTO:-0700
TZNAME:PDT
DTSTART:20230312T100000
END:DAYLIGHT
BEGIN:STANDARD
TZOFFSETFROM:-0700
TZOFFSETTO:-0800
TZNAME:PST
DTSTART:20231105T090000
END:STANDARD
BEGIN:DAYLIGHT
TZOFFSETFROM:-0800
TZOFFSETTO:-0700
TZNAME:PDT
DTSTART:20240310T100000
END:DAYLIGHT
BEGIN:STANDARD
TZOFFSETFROM:-0700
TZOFFSETTO:-0800
TZNAME:PST
DTSTART:20241103T090000
END:STANDARD
END:VTIMEZONE
BEGIN:VEVENT
DTSTART;VALUE=DATE:20230401
DTEND;VALUE=DATE:20230402
DTSTAMP:20260423T034108
CREATED:20230330T180349Z
LAST-MODIFIED:20230330T180349Z
UID:4431-1680307200-1680393599@kamloopsvineyard.com
SUMMARY:Men's Night.  Saturday April 1st @ 7:30 pm
DESCRIPTION:Men’s Night. Saturday April 1st @ 7:30 pm.\n1st Saturday of every month.\nIt’s looking like the men will be gathering around a table @ Tim Hortons on Rogers Way. Typically an evening of random fun and conversation . . . all of it with the intention to build up and encourage one another. ‘We’re better together!’ \nFor more details contact Monte Campbell at 778-220-3296 or montecampbell@gmail.com\nor Brent Bylsma brent@culturecare.ca.
URL:https://kamloopsvineyard.com/event/mens-night-saturday-april-1st-730-pm/
LOCATION:BC
CATEGORIES:Men's Fellowship,Vineyard Life Group
ATTACH;FMTTYPE=image/jpeg:https://kamloopsvineyard.com/wp-content/uploads/2022/12/MensNight_Jan2023@1000.jpeg
END:VEVENT
END:VCALENDAR