BEGIN:VCALENDAR
VERSION:2.0
PRODID:-//Kamloops Vineyard Church - ECPv6.15.16//NONSGML v1.0//EN
CALSCALE:GREGORIAN
METHOD:PUBLISH
X-WR-CALNAME:Kamloops Vineyard Church
X-ORIGINAL-URL:https://kamloopsvineyard.com
X-WR-CALDESC:Events for Kamloops Vineyard Church
REFRESH-INTERVAL;VALUE=DURATION:PT1H
X-Robots-Tag:noindex
X-PUBLISHED-TTL:PT1H
BEGIN:VTIMEZONE
TZID:America/Vancouver
BEGIN:DAYLIGHT
TZOFFSETFROM:-0800
TZOFFSETTO:-0700
TZNAME:PDT
DTSTART:20230312T100000
END:DAYLIGHT
BEGIN:STANDARD
TZOFFSETFROM:-0700
TZOFFSETTO:-0800
TZNAME:PST
DTSTART:20231105T090000
END:STANDARD
BEGIN:DAYLIGHT
TZOFFSETFROM:-0800
TZOFFSETTO:-0700
TZNAME:PDT
DTSTART:20240310T100000
END:DAYLIGHT
BEGIN:STANDARD
TZOFFSETFROM:-0700
TZOFFSETTO:-0800
TZNAME:PST
DTSTART:20241103T090000
END:STANDARD
BEGIN:DAYLIGHT
TZOFFSETFROM:-0800
TZOFFSETTO:-0700
TZNAME:PDT
DTSTART:20250309T100000
END:DAYLIGHT
BEGIN:STANDARD
TZOFFSETFROM:-0700
TZOFFSETTO:-0800
TZNAME:PST
DTSTART:20251102T090000
END:STANDARD
END:VTIMEZONE
BEGIN:VEVENT
DTSTART;VALUE=DATE:20241203
DTEND;VALUE=DATE:20241204
DTSTAMP:20260421T115450
CREATED:20240926T225950Z
LAST-MODIFIED:20240926T225950Z
UID:6690-1733184000-1733270399@kamloopsvineyard.com
SUMMARY:IRON Men's Group . Tuesday mornings 6:30 am — 7:30 am @ the Lighthouse.
DESCRIPTION:Proverbs 27:17 — “As iron sharpens iron\, so one man sharpens the countenance of another.” \nThe Lighthouse and Vineyard Partner to host IRON.\nOpen to every man — wherever they are at in their quest for peace in this life. \nJourneying together in life and faith.\nWe were never meant to do it alone. \nCoffee will be on. Be prepared to listen and ‘sometimes’ to share\, to reflect on God’s word and\, quite possibly\, to pray. Bring your bibles (paperback or electronic). \nThe Lighthouse Christian Fellowship\n702 Columbia St\, Kamloops\, BC V2C 2V4 \nFor more information please contact\nBrandon Linse\, kamloopsnazarene@gmail.com\nor David Tombe\, david@kamloopsvineyard.com
URL:https://kamloopsvineyard.com/event/iron-mens-group-tuesday-mornings-630-am-730-am-the-lighthouse/2024-12-03/
LOCATION:Lighthouse Christian Fellowship\, 702 Columbia St\, Kamloops\, British Columbia\, V2C 2V4\, Canada
CATEGORIES:Men's Fellowship,Vineyard Life Group
ATTACH;FMTTYPE=image/jpeg:https://kamloopsvineyard.com/wp-content/uploads/2024/06/IRON_BrotherInLifeandFaith@1000.jpeg
END:VEVENT
BEGIN:VEVENT
DTSTART;VALUE=DATE:20241206
DTEND;VALUE=DATE:20241207
DTSTAMP:20260421T115450
CREATED:20241015T154116Z
LAST-MODIFIED:20241025T232818Z
UID:6660-1733443200-1733529599@kamloopsvineyard.com
SUMMARY:Vineyard Men's Night. Blazer Hockey @ The Sandman Centre.  Friday Dec 6th. Contact Jim Fast.
DESCRIPTION:Friday Dec 6th Men are invited to gather at The Sandman Centre (300 Lorne St\, Kamloops\, BC V2C 1W3). \nJim writes . . . the details are as follows: \n“Blazers tickets are $32.80 each for the December 6th. I am willing to be the point guy\, purchase a group of tickets so we can sit together. I will just need to know how many tickets to buy. So far we have a handful of guys committed to gather. I’m thinking a good cut off date would be November 19th.” \nFor more event details please contact the organizer Jim Fast at ‭(250) 851-1820‬ or j.h.fast@shaw.ca\nor Men’s Night overseer Monte Campbell at 778-220-3296 or montecampbell@gmail.com \n‘We’re better together!’
URL:https://kamloopsvineyard.com/event/mens-night-blazer-hockey-the-sandman-centre-friday-dec-6th/
LOCATION:The Sandman Centre\, 300 Lorne St\, Kamloops\, British Columbia\, V2C 1W3\, Canada
CATEGORIES:Men's Fellowship,Special Event,Vineyard Life Group
ATTACH;FMTTYPE=image/jpeg:https://kamloopsvineyard.com/wp-content/uploads/2024/10/VineyardMensNight_BlazerHockeyDec6@1000b.jpeg
END:VEVENT
BEGIN:VEVENT
DTSTART;VALUE=DATE:20241210
DTEND;VALUE=DATE:20241211
DTSTAMP:20260421T115450
CREATED:20240926T225950Z
LAST-MODIFIED:20240926T225950Z
UID:6691-1733788800-1733875199@kamloopsvineyard.com
SUMMARY:IRON Men's Group . Tuesday mornings 6:30 am — 7:30 am @ the Lighthouse.
DESCRIPTION:Proverbs 27:17 — “As iron sharpens iron\, so one man sharpens the countenance of another.” \nThe Lighthouse and Vineyard Partner to host IRON.\nOpen to every man — wherever they are at in their quest for peace in this life. \nJourneying together in life and faith.\nWe were never meant to do it alone. \nCoffee will be on. Be prepared to listen and ‘sometimes’ to share\, to reflect on God’s word and\, quite possibly\, to pray. Bring your bibles (paperback or electronic). \nThe Lighthouse Christian Fellowship\n702 Columbia St\, Kamloops\, BC V2C 2V4 \nFor more information please contact\nBrandon Linse\, kamloopsnazarene@gmail.com\nor David Tombe\, david@kamloopsvineyard.com
URL:https://kamloopsvineyard.com/event/iron-mens-group-tuesday-mornings-630-am-730-am-the-lighthouse/2024-12-10/
LOCATION:Lighthouse Christian Fellowship\, 702 Columbia St\, Kamloops\, British Columbia\, V2C 2V4\, Canada
CATEGORIES:Men's Fellowship,Vineyard Life Group
ATTACH;FMTTYPE=image/jpeg:https://kamloopsvineyard.com/wp-content/uploads/2024/06/IRON_BrotherInLifeandFaith@1000.jpeg
END:VEVENT
BEGIN:VEVENT
DTSTART;VALUE=DATE:20241217
DTEND;VALUE=DATE:20241218
DTSTAMP:20260421T115450
CREATED:20240926T225950Z
LAST-MODIFIED:20240926T225950Z
UID:6692-1734393600-1734479999@kamloopsvineyard.com
SUMMARY:IRON Men's Group . Tuesday mornings 6:30 am — 7:30 am @ the Lighthouse.
DESCRIPTION:Proverbs 27:17 — “As iron sharpens iron\, so one man sharpens the countenance of another.” \nThe Lighthouse and Vineyard Partner to host IRON.\nOpen to every man — wherever they are at in their quest for peace in this life. \nJourneying together in life and faith.\nWe were never meant to do it alone. \nCoffee will be on. Be prepared to listen and ‘sometimes’ to share\, to reflect on God’s word and\, quite possibly\, to pray. Bring your bibles (paperback or electronic). \nThe Lighthouse Christian Fellowship\n702 Columbia St\, Kamloops\, BC V2C 2V4 \nFor more information please contact\nBrandon Linse\, kamloopsnazarene@gmail.com\nor David Tombe\, david@kamloopsvineyard.com
URL:https://kamloopsvineyard.com/event/iron-mens-group-tuesday-mornings-630-am-730-am-the-lighthouse/2024-12-17/
LOCATION:Lighthouse Christian Fellowship\, 702 Columbia St\, Kamloops\, British Columbia\, V2C 2V4\, Canada
CATEGORIES:Men's Fellowship,Vineyard Life Group
ATTACH;FMTTYPE=image/jpeg:https://kamloopsvineyard.com/wp-content/uploads/2024/06/IRON_BrotherInLifeandFaith@1000.jpeg
END:VEVENT
END:VCALENDAR