BEGIN:VCALENDAR
VERSION:2.0
PRODID:-//Kamloops Vineyard Church - ECPv6.15.16//NONSGML v1.0//EN
CALSCALE:GREGORIAN
METHOD:PUBLISH
X-ORIGINAL-URL:https://kamloopsvineyard.com
X-WR-CALDESC:Events for Kamloops Vineyard Church
REFRESH-INTERVAL;VALUE=DURATION:PT1H
X-Robots-Tag:noindex
X-PUBLISHED-TTL:PT1H
BEGIN:VTIMEZONE
TZID:America/Vancouver
BEGIN:DAYLIGHT
TZOFFSETFROM:-0800
TZOFFSETTO:-0700
TZNAME:PDT
DTSTART:20240310T100000
END:DAYLIGHT
BEGIN:STANDARD
TZOFFSETFROM:-0700
TZOFFSETTO:-0800
TZNAME:PST
DTSTART:20241103T090000
END:STANDARD
BEGIN:DAYLIGHT
TZOFFSETFROM:-0800
TZOFFSETTO:-0700
TZNAME:PDT
DTSTART:20250309T100000
END:DAYLIGHT
BEGIN:STANDARD
TZOFFSETFROM:-0700
TZOFFSETTO:-0800
TZNAME:PST
DTSTART:20251102T090000
END:STANDARD
BEGIN:DAYLIGHT
TZOFFSETFROM:-0800
TZOFFSETTO:-0700
TZNAME:PDT
DTSTART:20260308T100000
END:DAYLIGHT
BEGIN:STANDARD
TZOFFSETFROM:-0700
TZOFFSETTO:-0800
TZNAME:PST
DTSTART:20261101T090000
END:STANDARD
END:VTIMEZONE
BEGIN:VEVENT
DTSTART;VALUE=DATE:20250620
DTEND;VALUE=DATE:20250706
DTSTAMP:20260419T142306
CREATED:20250424T220519Z
LAST-MODIFIED:20250424T220711Z
UID:7232-1750377600-1751759999@kamloopsvineyard.com
SUMMARY:Hay River NWT Missions Journey. June 20th — July 5th.
DESCRIPTION:Hay River NWT Missions Journey\nJune 20th — July 5th \nJoin Allan Clarkson and a small team from the Kamloops Vineyard on a two week adventure to visit and encourage Victory Church (Hay River) and People of the North (small towns and fellowships in the region). The projected cost of the mission is $1500/person. This includes; travel\, food\, lodging and ministry helps to people along the way. \nIF you would like to donate to the missions team your tax deductible donations can be made online or donated by mail or in-person to the Kamloops Vineyard Church. For more information visit giving online or reach out to Debbie Tombe\, debbie@kamloopsvineyard.com. \nFor more information on the NWT Missions Journey please contact Allan Clarkson\, allan@kamloopsvineyard.com\, 250-231-0359.
URL:https://kamloopsvineyard.com/event/hay-river-nwt-missions-journey-june-20th-july-5th/
LOCATION:BC
CATEGORIES:Missions
ATTACH;FMTTYPE=image/jpeg:https://kamloopsvineyard.com/wp-content/uploads/2025/04/HayRiver2025@1000.jpeg
END:VEVENT
END:VCALENDAR