BEGIN:VCALENDAR
VERSION:2.0
PRODID:-//Kamloops Vineyard Church - ECPv6.15.16//NONSGML v1.0//EN
CALSCALE:GREGORIAN
METHOD:PUBLISH
X-WR-CALNAME:Kamloops Vineyard Church
X-ORIGINAL-URL:https://kamloopsvineyard.com
X-WR-CALDESC:Events for Kamloops Vineyard Church
REFRESH-INTERVAL;VALUE=DURATION:PT1H
X-Robots-Tag:noindex
X-PUBLISHED-TTL:PT1H
BEGIN:VTIMEZONE
TZID:America/Vancouver
BEGIN:DAYLIGHT
TZOFFSETFROM:-0800
TZOFFSETTO:-0700
TZNAME:PDT
DTSTART:20230312T100000
END:DAYLIGHT
BEGIN:STANDARD
TZOFFSETFROM:-0700
TZOFFSETTO:-0800
TZNAME:PST
DTSTART:20231105T090000
END:STANDARD
BEGIN:DAYLIGHT
TZOFFSETFROM:-0800
TZOFFSETTO:-0700
TZNAME:PDT
DTSTART:20240310T100000
END:DAYLIGHT
BEGIN:STANDARD
TZOFFSETFROM:-0700
TZOFFSETTO:-0800
TZNAME:PST
DTSTART:20241103T090000
END:STANDARD
BEGIN:DAYLIGHT
TZOFFSETFROM:-0800
TZOFFSETTO:-0700
TZNAME:PDT
DTSTART:20250309T100000
END:DAYLIGHT
BEGIN:STANDARD
TZOFFSETFROM:-0700
TZOFFSETTO:-0800
TZNAME:PST
DTSTART:20251102T090000
END:STANDARD
END:VTIMEZONE
BEGIN:VEVENT
DTSTART;VALUE=DATE:20240507
DTEND;VALUE=DATE:20240508
DTSTAMP:20260422T051214
CREATED:20240331T004124Z
LAST-MODIFIED:20240331T004124Z
UID:6043-1715040000-1715126399@kamloopsvineyard.com
SUMMARY:Moms Group.  Tuesdays from 9:30 am - 11:30 am.
DESCRIPTION:Mom’s Group meets every Tuesday morning 9:30am to 11:30am\nMoms of young children gather (almost) every Tues morning to grow in friendship and practical support with one another. \nContact Bonnie Bylsma at 250-318-9377 or bonnie@kamloopsvineyard.com for more details and location information.
URL:https://kamloopsvineyard.com/event/moms-group-tuesdays-from-930-am-1130-am-3/2024-05-07/
LOCATION:BC
CATEGORIES:Children,Families,Moms Group
ATTACH;FMTTYPE=image/jpeg:https://kamloopsvineyard.com/wp-content/uploads/2022/10/MomsGroup@1000.jpeg
END:VEVENT
BEGIN:VEVENT
DTSTART;VALUE=DATE:20240514
DTEND;VALUE=DATE:20240515
DTSTAMP:20260422T051214
CREATED:20240331T004124Z
LAST-MODIFIED:20240331T004124Z
UID:6044-1715644800-1715731199@kamloopsvineyard.com
SUMMARY:Moms Group.  Tuesdays from 9:30 am - 11:30 am.
DESCRIPTION:Mom’s Group meets every Tuesday morning 9:30am to 11:30am\nMoms of young children gather (almost) every Tues morning to grow in friendship and practical support with one another. \nContact Bonnie Bylsma at 250-318-9377 or bonnie@kamloopsvineyard.com for more details and location information.
URL:https://kamloopsvineyard.com/event/moms-group-tuesdays-from-930-am-1130-am-3/2024-05-14/
LOCATION:BC
CATEGORIES:Children,Families,Moms Group
ATTACH;FMTTYPE=image/jpeg:https://kamloopsvineyard.com/wp-content/uploads/2022/10/MomsGroup@1000.jpeg
END:VEVENT
BEGIN:VEVENT
DTSTART;VALUE=DATE:20240521
DTEND;VALUE=DATE:20240522
DTSTAMP:20260422T051214
CREATED:20240331T004124Z
LAST-MODIFIED:20240331T004124Z
UID:6045-1716249600-1716335999@kamloopsvineyard.com
SUMMARY:Moms Group.  Tuesdays from 9:30 am - 11:30 am.
DESCRIPTION:Mom’s Group meets every Tuesday morning 9:30am to 11:30am\nMoms of young children gather (almost) every Tues morning to grow in friendship and practical support with one another. \nContact Bonnie Bylsma at 250-318-9377 or bonnie@kamloopsvineyard.com for more details and location information.
URL:https://kamloopsvineyard.com/event/moms-group-tuesdays-from-930-am-1130-am-3/2024-05-21/
LOCATION:BC
CATEGORIES:Children,Families,Moms Group
ATTACH;FMTTYPE=image/jpeg:https://kamloopsvineyard.com/wp-content/uploads/2022/10/MomsGroup@1000.jpeg
END:VEVENT
BEGIN:VEVENT
DTSTART;VALUE=DATE:20240528
DTEND;VALUE=DATE:20240529
DTSTAMP:20260422T051214
CREATED:20240331T004124Z
LAST-MODIFIED:20240331T004124Z
UID:6046-1716854400-1716940799@kamloopsvineyard.com
SUMMARY:Moms Group.  Tuesdays from 9:30 am - 11:30 am.
DESCRIPTION:Mom’s Group meets every Tuesday morning 9:30am to 11:30am\nMoms of young children gather (almost) every Tues morning to grow in friendship and practical support with one another. \nContact Bonnie Bylsma at 250-318-9377 or bonnie@kamloopsvineyard.com for more details and location information.
URL:https://kamloopsvineyard.com/event/moms-group-tuesdays-from-930-am-1130-am-3/2024-05-28/
LOCATION:BC
CATEGORIES:Children,Families,Moms Group
ATTACH;FMTTYPE=image/jpeg:https://kamloopsvineyard.com/wp-content/uploads/2022/10/MomsGroup@1000.jpeg
END:VEVENT
END:VCALENDAR