BEGIN:VCALENDAR
VERSION:2.0
PRODID:-//Kamloops Vineyard Church - ECPv6.15.16//NONSGML v1.0//EN
CALSCALE:GREGORIAN
METHOD:PUBLISH
X-ORIGINAL-URL:https://kamloopsvineyard.com
X-WR-CALDESC:Events for Kamloops Vineyard Church
REFRESH-INTERVAL;VALUE=DURATION:PT1H
X-Robots-Tag:noindex
X-PUBLISHED-TTL:PT1H
BEGIN:VTIMEZONE
TZID:America/Vancouver
BEGIN:DAYLIGHT
TZOFFSETFROM:-0800
TZOFFSETTO:-0700
TZNAME:PDT
DTSTART:20240310T100000
END:DAYLIGHT
BEGIN:STANDARD
TZOFFSETFROM:-0700
TZOFFSETTO:-0800
TZNAME:PST
DTSTART:20241103T090000
END:STANDARD
BEGIN:DAYLIGHT
TZOFFSETFROM:-0800
TZOFFSETTO:-0700
TZNAME:PDT
DTSTART:20250309T100000
END:DAYLIGHT
BEGIN:STANDARD
TZOFFSETFROM:-0700
TZOFFSETTO:-0800
TZNAME:PST
DTSTART:20251102T090000
END:STANDARD
BEGIN:DAYLIGHT
TZOFFSETFROM:-0800
TZOFFSETTO:-0700
TZNAME:PDT
DTSTART:20260308T100000
END:DAYLIGHT
BEGIN:STANDARD
TZOFFSETFROM:-0700
TZOFFSETTO:-0800
TZNAME:PST
DTSTART:20261101T090000
END:STANDARD
END:VTIMEZONE
BEGIN:VEVENT
DTSTART;VALUE=DATE:20250131
DTEND;VALUE=DATE:20250201
DTSTAMP:20260422T014111
CREATED:20250129T002231Z
LAST-MODIFIED:20250129T002326Z
UID:6950-1738281600-1738367999@kamloopsvineyard.com
SUMMARY:Vineyard Serves Dinner @ Focus Club. Friday Jan 31st @ 6 pm.
DESCRIPTION:We’re preparing and serving dinner!\nFOCUS CLUB and TRU International Students.\nHave you signed up to join us? \nDoors open @ 4 pm to begin preparations.\nDinner serves @ 6 pm. \nWe’ve been invited to serve dinner to TRU International Students.\nFocus Club International\, Friday evening Jan 31st. \nIf you haven’t already connected with Connie or Debbie to help with the meal preparation\, donations and/or hands-on serving please reach out! You can email them both by sending your communication to info@kamloopsvineyard.com or call the girls direct! \nVenue: Southwest Community Church\n700 Hugh Allan Dr\, Kamloops\, BC V1S 1N3\n( google maps link )
URL:https://kamloopsvineyard.com/event/vineyard-serves-dinner-focus-club-friday-jan-31st-6-pm/
CATEGORIES:Outreach
ATTACH;FMTTYPE=image/jpeg:https://kamloopsvineyard.com/wp-content/uploads/2025/01/f6fd079f-b0d0-abca-413c-f7ab7fb1ebc1.jpeg
END:VEVENT
END:VCALENDAR