BEGIN:VCALENDAR
VERSION:2.0
PRODID:-//Kamloops Vineyard Church - ECPv6.15.16//NONSGML v1.0//EN
CALSCALE:GREGORIAN
METHOD:PUBLISH
X-ORIGINAL-URL:https://kamloopsvineyard.com
X-WR-CALDESC:Events for Kamloops Vineyard Church
REFRESH-INTERVAL;VALUE=DURATION:PT1H
X-Robots-Tag:noindex
X-PUBLISHED-TTL:PT1H
BEGIN:VTIMEZONE
TZID:America/Vancouver
BEGIN:DAYLIGHT
TZOFFSETFROM:-0800
TZOFFSETTO:-0700
TZNAME:PDT
DTSTART:20210314T100000
END:DAYLIGHT
BEGIN:STANDARD
TZOFFSETFROM:-0700
TZOFFSETTO:-0800
TZNAME:PST
DTSTART:20211107T090000
END:STANDARD
BEGIN:DAYLIGHT
TZOFFSETFROM:-0800
TZOFFSETTO:-0700
TZNAME:PDT
DTSTART:20220313T100000
END:DAYLIGHT
BEGIN:STANDARD
TZOFFSETFROM:-0700
TZOFFSETTO:-0800
TZNAME:PST
DTSTART:20221106T090000
END:STANDARD
BEGIN:DAYLIGHT
TZOFFSETFROM:-0800
TZOFFSETTO:-0700
TZNAME:PDT
DTSTART:20230312T100000
END:DAYLIGHT
BEGIN:STANDARD
TZOFFSETFROM:-0700
TZOFFSETTO:-0800
TZNAME:PST
DTSTART:20231105T090000
END:STANDARD
BEGIN:DAYLIGHT
TZOFFSETFROM:-0800
TZOFFSETTO:-0700
TZNAME:PDT
DTSTART:20240310T100000
END:DAYLIGHT
BEGIN:STANDARD
TZOFFSETFROM:-0700
TZOFFSETTO:-0800
TZNAME:PST
DTSTART:20241103T090000
END:STANDARD
END:VTIMEZONE
BEGIN:VEVENT
DTSTART;VALUE=DATE:20230402
DTEND;VALUE=DATE:20230403
DTSTAMP:20260420T040612
CREATED:20230329T175141Z
LAST-MODIFIED:20230329T175153Z
UID:4426-1680393600-1680479999@kamloopsvineyard.com
SUMMARY:FEAST SUNDAY. Mar 5th. 4 pm @ Gateway City Church.
DESCRIPTION:Join us this Palm Sunday April 2nd @ 4 pm.\nVineyard Feast Sunday\n1st Sunday of Every Month.\nWe continue to welcome a new expression of celebration and worship on the first Sunday of every month. Setting our sights on Jesus — we lean into a short communal reflection from God’s Word\, corporate worship and a shared meal. \nInvite your friends\, extended family and neighbours.\nThe meal will be potluck. \nSignup! Can you share what you are hoping to bring?\nA main dish/salad\, and/or Dessert? \nMany hands help lighten the workload.\nWe’re looking for people to help with setup\, takedown\, or cleanup. \nPlease email Connie and Debbie.\nLet them know what you’re providing and where you might hope to provide some help.\ninfo@kamloopsvineyard.com
URL:https://kamloopsvineyard.com/event/feast-sunday-mar-5th-4-pm-gateway-city-church/
CATEGORIES:Families,Feast Sunday,In-Person Worship Service,Palm Sunday,Sunday In-Person Worship
ATTACH;FMTTYPE=image/jpeg:https://kamloopsvineyard.com/wp-content/uploads/2023/03/PalmFeastSundayApr2_2023@1000.jpeg
END:VEVENT
BEGIN:VEVENT
DTSTART;VALUE=DATE:20220410
DTEND;VALUE=DATE:20220411
DTSTAMP:20260420T040612
CREATED:20220409T030104Z
LAST-MODIFIED:20220409T030104Z
UID:3466-1649548800-1649635199@kamloopsvineyard.com
SUMMARY:Palm Sunday Worship Service. April 10th @ 2 pm.
DESCRIPTION:Join us Sunday April 10th @ 2 pm.\nGateway City Church\, Valleyview. \nFollowing corporate worship the children break out for Kids’ Church on the 2nd and 4th Sundays of every month. \nWe’re Streaming LIVE\nIF you can’t meet with us in-person\, join us ONLINE.\nFacebook Public\nFacebook Group\nYouTube \nMany hands help lighten the workload. We’re looking for people to help with setup\, takedown\, cleanup\, greeting. Please contact Connie Smith and Debbie Tombe to find out how you can help serve. Please email\, info@kamloopsvineyard.com or call the office at 250-828-1690.
URL:https://kamloopsvineyard.com/event/palm-sunday-worship-service-april-10th-2-pm/
CATEGORIES:Palm Sunday,Streaming LIVE,Sunday In-Person Worship
ATTACH;FMTTYPE=image/jpeg:https://kamloopsvineyard.com/wp-content/uploads/2022/04/PalmSunday2022@1000.jpeg
END:VEVENT
END:VCALENDAR