BEGIN:VCALENDAR
VERSION:2.0
PRODID:-//Kamloops Vineyard Church - ECPv6.15.16//NONSGML v1.0//EN
CALSCALE:GREGORIAN
METHOD:PUBLISH
X-WR-CALNAME:Kamloops Vineyard Church
X-ORIGINAL-URL:https://kamloopsvineyard.com
X-WR-CALDESC:Events for Kamloops Vineyard Church
REFRESH-INTERVAL;VALUE=DURATION:PT1H
X-Robots-Tag:noindex
X-PUBLISHED-TTL:PT1H
BEGIN:VTIMEZONE
TZID:America/Vancouver
BEGIN:DAYLIGHT
TZOFFSETFROM:-0800
TZOFFSETTO:-0700
TZNAME:PDT
DTSTART:20220313T100000
END:DAYLIGHT
BEGIN:STANDARD
TZOFFSETFROM:-0700
TZOFFSETTO:-0800
TZNAME:PST
DTSTART:20221106T090000
END:STANDARD
BEGIN:DAYLIGHT
TZOFFSETFROM:-0800
TZOFFSETTO:-0700
TZNAME:PDT
DTSTART:20230312T100000
END:DAYLIGHT
BEGIN:STANDARD
TZOFFSETFROM:-0700
TZOFFSETTO:-0800
TZNAME:PST
DTSTART:20231105T090000
END:STANDARD
BEGIN:DAYLIGHT
TZOFFSETFROM:-0800
TZOFFSETTO:-0700
TZNAME:PDT
DTSTART:20240310T100000
END:DAYLIGHT
BEGIN:STANDARD
TZOFFSETFROM:-0700
TZOFFSETTO:-0800
TZNAME:PST
DTSTART:20241103T090000
END:STANDARD
END:VTIMEZONE
BEGIN:VEVENT
DTSTART;VALUE=DATE:20230110
DTEND;VALUE=DATE:20230111
DTSTAMP:20260423T083351
CREATED:20221215T202823Z
LAST-MODIFIED:20230108T190938Z
UID:4098-1673308800-1673395199@kamloopsvineyard.com
SUMMARY:Band of Brothers 'AM Company' Tuesday Jan 10th @ 8:30 am.
DESCRIPTION:Band of Brothers is a group of men connecting IN-PERSON and ONLINE. Our primary purpose is to support one another in life and faith. \n“We’re called to journey together because we’re not supposed to do it alone.” \nTo be included in a weekly ONLINE invitation to the please email David Tombe.\ndavid@kamloopsvineyard.com \nIn preparation to join the Band of Brothers Online (Video Conferencing) Gatherings it would be helpful if you download the microsoft teams download app for the smart device of your choice (Window or Mac PC\, Mac or Android Tablet or phone [smart-device]). Follow the directions on the site linked below.\nhttps://www.microsoft.com/en-ca/microsoft-teams/download-app
URL:https://kamloopsvineyard.com/event/band-of-brothers-am-company-tuesday-jan-10th-830-am/
LOCATION:VIDEO CONFERENCING Kamloops Vineyard Church\, Kamloops\, British Columbia\, Canada
CATEGORIES:Men's Fellowship,Prayer,Vineyard Canada Gathering
ATTACH;FMTTYPE=image/jpeg:https://kamloopsvineyard.com/wp-content/uploads/2021/04/BandofBrotherImage@350AM.jpg
END:VEVENT
BEGIN:VEVENT
DTSTART;VALUE=DATE:20230117
DTEND;VALUE=DATE:20230118
DTSTAMP:20260423T083351
CREATED:20230108T190910Z
LAST-MODIFIED:20230110T230829Z
UID:4190-1673913600-1673999999@kamloopsvineyard.com
SUMMARY:Kamloops Vineyard In-Person Worship and Prayer. Tuesday Jan 17th. Doors open @ 6:45 pm.
DESCRIPTION:Coincidental with the association of Vineyard Churches hosting and leading a National Fast David and Debbie are hosting prayers @ their home in Barnhartvale. \nKamloops Vineyard In-Person Worship and Prayer.\nTuesday Jan 10th and Jan 17th.\nDoors open @ 6:45 pm.\nWorship\, Waiting and Prayers begin @ 7 pm. A break @ 8 pm will allow people needing to head home to do so. David and Debbie are encouraging people linger afterwards for more personal prayer to 8:30 pm. \n____ \nVineyard Canada National Fast 2023 \nOnce again we are inviting our Canadian Vineyard family to enter into a time of fasting\, prayer and listening to the Spirit together. This Fast will take place January 9-18th 2023. As we lean into a new season as a family\, focusing on the Mission of Jesus\, we are struck with the truth that this is the way Jesus began his public ministry after His baptism. While we deeply value the personal fast when seeking clarity and discernment\, we can’t ignore the reality that fasting with others has an exponential reality to it that is born out in the biblical narrative and church history. \nCollectively engaging in a fast\, presses us to humble ourselves\, set aside our egos\, and cry out to God for mercy and grace. As we enter into this posture we allow for a greater capacity to hear the voice of the Father\, break the resistance of the enemy and lean into new adventures in mission.  As Luke records\, Jesus was “led by the Spirit” into his fasting in the wilderness and returned “full of the Spirit”. \nThrough daily engagement with written reflections and online worship/prayer times\, we trust that you will enter in with joy.  We encourage you to journal and share with us what you are hearing as we and lean in to hear the heartbeat of our good\, good Father together. \nWelcome to the adventure!! May God meet us as we set aside this time to seek Him. \nDaily Fast Outline \n\nEach morning David and Anita will host an on-line gathering on Zoom.*\nThese gatherings will begin promptly at 7am PST and end at 7:45am PST\nEvery 2nd day we will send out prayer updates including an anchoring liturgy\, a common prayer and a scripture reading and focus.\nWe encourage you to send in to our VC team what you are hearing/sensing throughout the fast.\nPlease send your contributions to the following email: listeningteam@vineyard.ca\n\nIF you want to be included on a list to receive those links to the national Zoom gatherings please contact Debbie Tombe\, debbie@kamloopsvineyard.com.
URL:https://kamloopsvineyard.com/event/kamloops-vineyard-in-person-worship-and-prayer-tuesday-jan-17th-doors-open-645-pm/
LOCATION:Tombe’s Home\, 1266 Pine Grove Rd\, Kamloops\, British Columbia\, V2C 6V6\, Canada
CATEGORIES:In-House Connections,Prayer,Vineyard Canada Gathering
ATTACH;FMTTYPE=image/jpeg:https://kamloopsvineyard.com/wp-content/uploads/2023/01/Jan08_Announcements-images.009.jpeg
END:VEVENT
END:VCALENDAR