BEGIN:VCALENDAR
VERSION:2.0
PRODID:-//Kamloops Vineyard Church - ECPv6.15.16//NONSGML v1.0//EN
CALSCALE:GREGORIAN
METHOD:PUBLISH
X-ORIGINAL-URL:https://kamloopsvineyard.com
X-WR-CALDESC:Events for Kamloops Vineyard Church
REFRESH-INTERVAL;VALUE=DURATION:PT1H
X-Robots-Tag:noindex
X-PUBLISHED-TTL:PT1H
BEGIN:VTIMEZONE
TZID:America/Vancouver
BEGIN:DAYLIGHT
TZOFFSETFROM:-0800
TZOFFSETTO:-0700
TZNAME:PDT
DTSTART:20230312T100000
END:DAYLIGHT
BEGIN:STANDARD
TZOFFSETFROM:-0700
TZOFFSETTO:-0800
TZNAME:PST
DTSTART:20231105T090000
END:STANDARD
BEGIN:DAYLIGHT
TZOFFSETFROM:-0800
TZOFFSETTO:-0700
TZNAME:PDT
DTSTART:20240310T100000
END:DAYLIGHT
BEGIN:STANDARD
TZOFFSETFROM:-0700
TZOFFSETTO:-0800
TZNAME:PST
DTSTART:20241103T090000
END:STANDARD
BEGIN:DAYLIGHT
TZOFFSETFROM:-0800
TZOFFSETTO:-0700
TZNAME:PDT
DTSTART:20250309T100000
END:DAYLIGHT
BEGIN:STANDARD
TZOFFSETFROM:-0700
TZOFFSETTO:-0800
TZNAME:PST
DTSTART:20251102T090000
END:STANDARD
END:VTIMEZONE
BEGIN:VEVENT
DTSTART;VALUE=DATE:20240607
DTEND;VALUE=DATE:20240608
DTSTAMP:20260421T233444
CREATED:20240412T155546Z
LAST-MODIFIED:20240412T220101Z
UID:6101-1717718400-1717804799@kamloopsvineyard.com
SUMMARY:Seeking Him. Women's Bible Study. Session 6 of 12. Friday June 7th @ 10 am.
DESCRIPTION:We’re diving deep into study and cheering one another on.\n\nRevival isn’t just an emotional experience. It’s a complete transformation. It can happen in your heart\, in our home\, in our church\, and in our world. Restore your first love. Develop a heartfelt desire for God’s Word. Resolve conflicts. Repair relationships. Remove bitterness\, fear\, and worry. Refresh your spirit. Renew your mind. Re-energize your life. You can get back your passion and zeal for the Lord. Begin by Seeking Him! \nAll SESSIONS are fully booked up. IF you’re interesting in submitting your name for the next session of ‘SEEKING HIM’ please contact Debbie Tombe\, debbie@kamloopsvineyard.com.* Given enough interest the Vineyard might well schedule another event in late 2024 or early 2025. Debbie welcomes your questions and communicated interest. \nVenue: Connie Smith’s home on the South Shore\n \nContact Connie for directions and Debbie for Study information.*\nconnie@kamloopsvineyard.com\ndebbie@kamloopsvineyard.com
URL:https://kamloopsvineyard.com/event/seeking-him-womens-bible-study-session-6-of-12-friday-june-7th-10-am/
LOCATION:British Columbia
CATEGORIES:Home Group,Prayer
ATTACH;FMTTYPE=image/jpeg:https://kamloopsvineyard.com/wp-content/uploads/2024/04/SeekingHimBibleStudy@1000.jpeg
END:VEVENT
BEGIN:VEVENT
DTSTART;VALUE=DATE:20240621
DTEND;VALUE=DATE:20240622
DTSTAMP:20260421T233444
CREATED:20240412T155707Z
LAST-MODIFIED:20240412T220016Z
UID:6103-1718928000-1719014399@kamloopsvineyard.com
SUMMARY:Seeking Him. Women's Bible Study. Session 7 of 12. Friday June 21st @ 10 am.
DESCRIPTION:We’re diving deep into study and cheering one another on.\n\nRevival isn’t just an emotional experience. It’s a complete transformation. It can happen in your heart\, in our home\, in our church\, and in our world. Restore your first love. Develop a heartfelt desire for God’s Word. Resolve conflicts. Repair relationships. Remove bitterness\, fear\, and worry. Refresh your spirit. Renew your mind. Re-energize your life. You can get back your passion and zeal for the Lord. Begin by Seeking Him! \nAll SESSIONS are fully booked up. IF you’re interesting in submitting your name for the next session of ‘SEEKING HIM’ please contact Debbie Tombe\, debbie@kamloopsvineyard.com.* Given enough interest the Vineyard might well schedule another event in late 2024 or early 2025. Debbie welcomes your questions and communicated interest. \nVenue: Connie Smith’s home on the South Shore\n \nContact Connie for directions and Debbie for Study information.*\nconnie@kamloopsvineyard.com\ndebbie@kamloopsvineyard.com \n 
URL:https://kamloopsvineyard.com/event/seeking-him-womens-bible-study-session-7-of-12-friday-june-21st-10-am/
LOCATION:British Columbia
CATEGORIES:Home Group,Prayer
ATTACH;FMTTYPE=image/jpeg:https://kamloopsvineyard.com/wp-content/uploads/2024/04/SeekingHimBibleStudy@1000.jpeg
END:VEVENT
END:VCALENDAR