BEGIN:VCALENDAR
VERSION:2.0
PRODID:-//Kamloops Vineyard Church - ECPv6.15.16//NONSGML v1.0//EN
CALSCALE:GREGORIAN
METHOD:PUBLISH
X-ORIGINAL-URL:https://kamloopsvineyard.com
X-WR-CALDESC:Events for Kamloops Vineyard Church
REFRESH-INTERVAL;VALUE=DURATION:PT1H
X-Robots-Tag:noindex
X-PUBLISHED-TTL:PT1H
BEGIN:VTIMEZONE
TZID:America/Vancouver
BEGIN:DAYLIGHT
TZOFFSETFROM:-0800
TZOFFSETTO:-0700
TZNAME:PDT
DTSTART:20230312T100000
END:DAYLIGHT
BEGIN:STANDARD
TZOFFSETFROM:-0700
TZOFFSETTO:-0800
TZNAME:PST
DTSTART:20231105T090000
END:STANDARD
BEGIN:DAYLIGHT
TZOFFSETFROM:-0800
TZOFFSETTO:-0700
TZNAME:PDT
DTSTART:20240310T100000
END:DAYLIGHT
BEGIN:STANDARD
TZOFFSETFROM:-0700
TZOFFSETTO:-0800
TZNAME:PST
DTSTART:20241103T090000
END:STANDARD
BEGIN:DAYLIGHT
TZOFFSETFROM:-0800
TZOFFSETTO:-0700
TZNAME:PDT
DTSTART:20250309T100000
END:DAYLIGHT
BEGIN:STANDARD
TZOFFSETFROM:-0700
TZOFFSETTO:-0800
TZNAME:PST
DTSTART:20251102T090000
END:STANDARD
END:VTIMEZONE
BEGIN:VEVENT
DTSTART;VALUE=DATE:20240913
DTEND;VALUE=DATE:20240914
DTSTAMP:20260421T175309
CREATED:20240911T011530Z
LAST-MODIFIED:20240911T013614Z
UID:6582-1726185600-1726271999@kamloopsvineyard.com
SUMMARY:Seeking Him. Women's Bible Study. Session 8 of 12. Friday Sept 13th @ 10 am.
DESCRIPTION:We’re diving deep into study and cheering one another on.\n\nRevival isn’t just an emotional experience. It’s a complete transformation. It can happen in your heart\, in our home\, in our church\, and in our world. Restore your first love. Develop a heartfelt desire for God’s Word. Resolve conflicts. Repair relationships. Remove bitterness\, fear\, and worry. Refresh your spirit. Renew your mind. Re-energize your life. You can get back your passion and zeal for the Lord. Begin by Seeking Him! \nAll SESSIONS are fully booked up. IF you’re interested in submitting your name for the next session of ‘SEEKING HIM’ please contact Debbie Tombe\, debbie@kamloopsvineyard.com.* \nGiven enough interest the Vineyard might well schedule another event. Debbie welcomes your questions and communicated interest. \nVenue: Connie Smith’s home on the South Shore\n \nContact Connie for directions and Debbie for Study information.*\nconnie@kamloopsvineyard.com\ndebbie@kamloopsvineyard.com \n 
URL:https://kamloopsvineyard.com/event/seeking-him-womens-bible-study-session-8-of-12-friday-sept-13th-10-am/
LOCATION:British Columbia
CATEGORIES:Home Group,Life Group,Prayer
ATTACH;FMTTYPE=image/jpeg:https://kamloopsvineyard.com/wp-content/uploads/2024/04/SeekingHimBibleStudy@1000.jpeg
END:VEVENT
END:VCALENDAR