BEGIN:VCALENDAR
VERSION:2.0
PRODID:-//Kamloops Vineyard Church - ECPv6.15.16//NONSGML v1.0//EN
CALSCALE:GREGORIAN
METHOD:PUBLISH
X-ORIGINAL-URL:https://kamloopsvineyard.com
X-WR-CALDESC:Events for Kamloops Vineyard Church
REFRESH-INTERVAL;VALUE=DURATION:PT1H
X-Robots-Tag:noindex
X-PUBLISHED-TTL:PT1H
BEGIN:VTIMEZONE
TZID:America/Vancouver
BEGIN:DAYLIGHT
TZOFFSETFROM:-0800
TZOFFSETTO:-0700
TZNAME:PDT
DTSTART:20230312T100000
END:DAYLIGHT
BEGIN:STANDARD
TZOFFSETFROM:-0700
TZOFFSETTO:-0800
TZNAME:PST
DTSTART:20231105T090000
END:STANDARD
BEGIN:DAYLIGHT
TZOFFSETFROM:-0800
TZOFFSETTO:-0700
TZNAME:PDT
DTSTART:20240310T100000
END:DAYLIGHT
BEGIN:STANDARD
TZOFFSETFROM:-0700
TZOFFSETTO:-0800
TZNAME:PST
DTSTART:20241103T090000
END:STANDARD
BEGIN:DAYLIGHT
TZOFFSETFROM:-0800
TZOFFSETTO:-0700
TZNAME:PDT
DTSTART:20250309T100000
END:DAYLIGHT
BEGIN:STANDARD
TZOFFSETFROM:-0700
TZOFFSETTO:-0800
TZNAME:PST
DTSTART:20251102T090000
END:STANDARD
END:VTIMEZONE
BEGIN:VEVENT
DTSTART;VALUE=DATE:20241204
DTEND;VALUE=DATE:20241205
DTSTAMP:20260421T115233
CREATED:20240927T174522Z
LAST-MODIFIED:20241205T153116Z
UID:6762-1733270400-1733356799@kamloopsvineyard.com
SUMMARY:Worship. Prayer. @ the Lighthouse. Wednesday Nights @ 7 pm.
DESCRIPTION:The Lighthouse and Vineyard partner for worship and prayer.\nWednesday Evenings.\n7 pm @ the Lighthouse Church\nEVERYONE is invited\n\nPsalm 46:4 — “There is a river whose streams make glad the city of God\, the holy place where the Most High dwells.”\n\nWe’re thrilled to continue our partnership with the Lighthouse church family. IF you have any questions about how you can be involved\, please reach out to pastors Brandon Linse at the Lighthouse or David Tombe at the Vineyard\n\nVenue: The Lighthouse Christian Fellowship\n702 Columbia St\, Kamloops\, BC V2C 2V4
URL:https://kamloopsvineyard.com/event/worship-prayer-the-lighthouse-wednesday-nights-7-pm/2024-12-04/
LOCATION:Lighthouse Christian Fellowship\, 702 Columbia St\, Kamloops\, British Columbia\, V2C 2V4\, Canada
CATEGORIES:Prayer,Renewal,Video ONLINE Conferencing,Worship,Worship and Prayer
ATTACH;FMTTYPE=image/jpeg:https://kamloopsvineyard.com/wp-content/uploads/2024/09/WorshipPrayerOct2024@1000.jpeg
END:VEVENT
BEGIN:VEVENT
DTSTART;VALUE=DATE:20241206
DTEND;VALUE=DATE:20241207
DTSTAMP:20260421T115233
CREATED:20241122T173904Z
LAST-MODIFIED:20241122T175051Z
UID:6811-1733443200-1733529599@kamloopsvineyard.com
SUMMARY:Seeking Him. Women's Bible Study. Session 12 of 12 (Final Session). Dec 6th @ 10 am.
DESCRIPTION:We’ve grown closer to God and one another in our deep dive of study and in cheering one another on.\n\nRevival isn’t just an emotional experience. It’s a complete transformation. It can happen in your heart\, in our home\, in our church\, and in our world. Restore your first love. Develop a heartfelt desire for God’s Word. Resolve conflicts. Repair relationships. Remove bitterness\, fear\, and worry. Refresh your spirit. Renew your mind. Re-energize your life. You can get back your passion and zeal for the Lord. Begin by Seeking Him! \nIF you’re interested in participating in another women’s study and fellowship please contact Debbie Tombe\, debbie@kamloopsvineyard.com.
URL:https://kamloopsvineyard.com/event/seeking-him-womens-bible-study-session-12-of-12-final-session-dec-6th-10-am/
LOCATION:British Columbia
CATEGORIES:Home Group,Life Group,Prayer
ATTACH;FMTTYPE=image/jpeg:https://kamloopsvineyard.com/wp-content/uploads/2024/04/SeekingHimBibleStudy@1000.jpeg
END:VEVENT
BEGIN:VEVENT
DTSTART;VALUE=DATE:20241211
DTEND;VALUE=DATE:20241212
DTSTAMP:20260421T115233
CREATED:20240927T174522Z
LAST-MODIFIED:20240927T174522Z
UID:6835-1733875200-1733961599@kamloopsvineyard.com
SUMMARY:Worship. Prayer. @ the Lighthouse. Wednesday Nights @ 7 pm.
DESCRIPTION:The Lighthouse and Vineyard partner for worship and prayer.\nWednesday Evenings.\n7 pm @ the Lighthouse Church\nEVERYONE is invited\n\nPsalm 46:4 — “There is a river whose streams make glad the city of God\, the holy place where the Most High dwells.”\n\nWe’re thrilled to continue our partnership with the Lighthouse church family. IF you have any questions about how you can be involved\, please reach out to pastors Brandon Linse at the Lighthouse or David Tombe at the Vineyard\n\nVenue: The Lighthouse Christian Fellowship\n702 Columbia St\, Kamloops\, BC V2C 2V4
URL:https://kamloopsvineyard.com/event/worship-prayer-the-lighthouse-wednesday-nights-7-pm/2024-12-11/
LOCATION:Lighthouse Christian Fellowship\, 702 Columbia St\, Kamloops\, British Columbia\, V2C 2V4\, Canada
CATEGORIES:Prayer,Renewal,Video ONLINE Conferencing,Worship,Worship and Prayer
ATTACH;FMTTYPE=image/jpeg:https://kamloopsvineyard.com/wp-content/uploads/2024/09/WorshipPrayerOct2024@1000.jpeg
END:VEVENT
BEGIN:VEVENT
DTSTART;VALUE=DATE:20241218
DTEND;VALUE=DATE:20241219
DTSTAMP:20260421T115233
CREATED:20241029T212300Z
LAST-MODIFIED:20241205T152941Z
UID:6736-1734480000-1734566399@kamloopsvineyard.com
SUMMARY:ON PAUSE Three (3) WEEKS. Worship. Prayer. @ the Lighthouse. Wednesdays Dec 18th\, 25th\, and Jan 1st.
DESCRIPTION:The Lighthouse and Vineyard partner for worship and prayer.\nWednesday Evenings.\n7 pm @ the Lighthouse Church\nEVERYONE is invited\n\nPsalm 46:4 — “There is a river whose streams make glad the city of God\, the holy place where the Most High dwells.”\n\nWe’re thrilled to continue our partnership with the Lighthouse church family. IF you have any questions about how you can be involved\, please reach out to pastors Brandon Linse at the Lighthouse or David Tombe at the Vineyard\n\nVenue: The Lighthouse Christian Fellowship\n702 Columbia St\, Kamloops\, BC V2C 2V4
URL:https://kamloopsvineyard.com/event/on-pause-3-weeks-worship-prayer-the-lighthouse-wednesdays-dec-18th-25th-and-jan-1st/2024-12-18/
LOCATION:Lighthouse Christian Fellowship\, 702 Columbia St\, Kamloops\, British Columbia\, V2C 2V4\, Canada
CATEGORIES:Prayer,Renewal,Video ONLINE Conferencing,Worship,Worship and Prayer
ATTACH;FMTTYPE=image/jpeg:https://kamloopsvineyard.com/wp-content/uploads/2024/09/WorshipPause_Dec18-Jan1@1000.jpeg
END:VEVENT
BEGIN:VEVENT
DTSTART;VALUE=DATE:20241225
DTEND;VALUE=DATE:20241226
DTSTAMP:20260421T115233
CREATED:20241029T212300Z
LAST-MODIFIED:20241205T152944Z
UID:6741-1735084800-1735171199@kamloopsvineyard.com
SUMMARY:ON PAUSE Three (3) WEEKS. Worship. Prayer. @ the Lighthouse. Wednesdays Dec 18th\, 25th\, and Jan 1st.
DESCRIPTION:The Lighthouse and Vineyard partner for worship and prayer.\nWednesday Evenings.\n7 pm @ the Lighthouse Church\nEVERYONE is invited\n\nPsalm 46:4 — “There is a river whose streams make glad the city of God\, the holy place where the Most High dwells.”\n\nWe’re thrilled to continue our partnership with the Lighthouse church family. IF you have any questions about how you can be involved\, please reach out to pastors Brandon Linse at the Lighthouse or David Tombe at the Vineyard\n\nVenue: The Lighthouse Christian Fellowship\n702 Columbia St\, Kamloops\, BC V2C 2V4
URL:https://kamloopsvineyard.com/event/on-pause-3-weeks-worship-prayer-the-lighthouse-wednesdays-dec-18th-25th-and-jan-1st/2024-12-25/
LOCATION:Lighthouse Christian Fellowship\, 702 Columbia St\, Kamloops\, British Columbia\, V2C 2V4\, Canada
CATEGORIES:Prayer,Renewal,Video ONLINE Conferencing,Worship,Worship and Prayer
ATTACH;FMTTYPE=image/jpeg:https://kamloopsvineyard.com/wp-content/uploads/2024/09/WorshipPause_Dec18-Jan1@1000.jpeg
END:VEVENT
END:VCALENDAR