BEGIN:VCALENDAR
VERSION:2.0
PRODID:-//Kamloops Vineyard Church - ECPv6.15.16//NONSGML v1.0//EN
CALSCALE:GREGORIAN
METHOD:PUBLISH
X-WR-CALNAME:Kamloops Vineyard Church
X-ORIGINAL-URL:https://kamloopsvineyard.com
X-WR-CALDESC:Events for Kamloops Vineyard Church
REFRESH-INTERVAL;VALUE=DURATION:PT1H
X-Robots-Tag:noindex
X-PUBLISHED-TTL:PT1H
BEGIN:VTIMEZONE
TZID:America/Vancouver
BEGIN:DAYLIGHT
TZOFFSETFROM:-0800
TZOFFSETTO:-0700
TZNAME:PDT
DTSTART:20240310T100000
END:DAYLIGHT
BEGIN:STANDARD
TZOFFSETFROM:-0700
TZOFFSETTO:-0800
TZNAME:PST
DTSTART:20241103T090000
END:STANDARD
BEGIN:DAYLIGHT
TZOFFSETFROM:-0800
TZOFFSETTO:-0700
TZNAME:PDT
DTSTART:20250309T100000
END:DAYLIGHT
BEGIN:STANDARD
TZOFFSETFROM:-0700
TZOFFSETTO:-0800
TZNAME:PST
DTSTART:20251102T090000
END:STANDARD
BEGIN:DAYLIGHT
TZOFFSETFROM:-0800
TZOFFSETTO:-0700
TZNAME:PDT
DTSTART:20260308T100000
END:DAYLIGHT
BEGIN:STANDARD
TZOFFSETFROM:-0700
TZOFFSETTO:-0800
TZNAME:PST
DTSTART:20261101T090000
END:STANDARD
END:VTIMEZONE
BEGIN:VEVENT
DTSTART;VALUE=DATE:20250611
DTEND;VALUE=DATE:20250612
DTSTAMP:20260419T121914
CREATED:20250611T201937Z
LAST-MODIFIED:20250611T201937Z
UID:7561-1749600000-1749686399@kamloopsvineyard.com
SUMMARY:Worship. Prayer. @ the Lighthouse. Wed June 11th @ 7 pm.
DESCRIPTION:The Lighthouse and Vineyard partner for worship and prayer.7 pm @ the Lighthouse Church\nEVERYONE is invited\n\nPsalm 46:4 — “There is a river whose streams make glad the city of God\, the holy place where the Most High dwells.”\n\nWe’re thrilled to continue our partnership with the Lighthouse church family. IF you have any questions about how you can be involved\, please reach out to pastors Brandon Linse at the Lighthouse or David Tombe at the Vineyard\n\nVenue: The Lighthouse Christian Fellowship\n702 Columbia St\, Kamloops\, BC V2C 2V4
URL:https://kamloopsvineyard.com/event/worship-prayer-the-lighthouse-wed-june-11th-7-pm/
LOCATION:Lighthouse Christian Fellowship\, 702 Columbia St\, Kamloops\, British Columbia\, V2C 2V4\, Canada
CATEGORIES:Prayer,Renewal,Video ONLINE Conferencing,Worship,Worship and Prayer
ATTACH;FMTTYPE=image/jpeg:https://kamloopsvineyard.com/wp-content/uploads/2024/09/WorshipPrayerOct2024@1000.jpeg
END:VEVENT
BEGIN:VEVENT
DTSTART;VALUE=DATE:20250618
DTEND;VALUE=DATE:20250619
DTSTAMP:20260419T121915
CREATED:20250611T202030Z
LAST-MODIFIED:20250611T203017Z
UID:7564-1750204800-1750291199@kamloopsvineyard.com
SUMMARY:Worship. Prayer. @ the Lighthouse. Wed June 18th @ 7 pm. (Final session. On pause through the Summer.)
DESCRIPTION:The Lighthouse and Vineyard partner for worship and prayer.7 pm @ the Lighthouse Church\nEVERYONE is invited\n\nPsalm 46:4 — “There is a river whose streams make glad the city of God\, the holy place where the Most High dwells.”\n\nWe’re thrilled to continue our partnership with the Lighthouse church family. IF you have any questions about how you can be involved\, please reach out to pastors Brandon Linse at the Lighthouse or David Tombe at the Vineyard\n\nVenue: The Lighthouse Christian Fellowship\n702 Columbia St\, Kamloops\, BC V2C 2V4
URL:https://kamloopsvineyard.com/event/worship-prayer-the-lighthouse-wed-june-18th-7-pm/
LOCATION:Lighthouse Christian Fellowship\, 702 Columbia St\, Kamloops\, British Columbia\, V2C 2V4\, Canada
CATEGORIES:Prayer,Renewal,Video ONLINE Conferencing,Worship,Worship and Prayer
ATTACH;FMTTYPE=image/jpeg:https://kamloopsvineyard.com/wp-content/uploads/2024/09/WorshipPrayerOct2024@1000.jpeg
END:VEVENT
BEGIN:VEVENT
DTSTART;VALUE=DATE:20250621
DTEND;VALUE=DATE:20250622
DTSTAMP:20260419T121915
CREATED:20250508T211415Z
LAST-MODIFIED:20250529T222258Z
UID:7379-1750464000-1750550399@kamloopsvineyard.com
SUMMARY:An Evening of Worship at Kelowna Vineyard. Saturday June 21st @ 6 pm. You're invited!
DESCRIPTION:An Evening of Worship at Kelowna Vineyard \nSaturday June 21st @ 6 pm \nKelowna Vineyard is extending an invitation to both Kamloops and Penticton Vineyards — “Come join us on Saturday\, June 21st at 6 pm! 3rd space food and connections. Following worship KVine is serving up food and refreshments. Feel free to invite along anyone you think may enjoy this time. \nKelowna Vineyard Venue:\nFaith Lutheran Church\, 250 Gibbs Road W\, Kelowna\, BC\nClick here for Google Map directions. \nIf you have any questions please contacting me debbie@kamloopsvineyard.com
URL:https://kamloopsvineyard.com/event/an-evening-of-worship-at-kelowna-vineyard-saturday-june-21st-6-pm-youre-invited/
LOCATION:Kelowna Vineyard (Faith Lutheran Church)\, 250 Gibbs Rd W\, Kelowna\, BC\, V1X 2W3\, Canada
CATEGORIES:BC Vineyard Churches,Prayer,Special Event,Worship
ATTACH;FMTTYPE=image/jpeg:https://kamloopsvineyard.com/wp-content/uploads/2025/05/KVine_NightofWorship@1000.jpg
ORGANIZER;CN="Kelowna Vineyard":MAILTO:admin@kelownavineyard.com
END:VEVENT
END:VCALENDAR