BEGIN:VCALENDAR
VERSION:2.0
PRODID:-//Kamloops Vineyard Church - ECPv6.15.16//NONSGML v1.0//EN
CALSCALE:GREGORIAN
METHOD:PUBLISH
X-ORIGINAL-URL:https://kamloopsvineyard.com
X-WR-CALDESC:Events for Kamloops Vineyard Church
REFRESH-INTERVAL;VALUE=DURATION:PT1H
X-Robots-Tag:noindex
X-PUBLISHED-TTL:PT1H
BEGIN:VTIMEZONE
TZID:America/Vancouver
BEGIN:DAYLIGHT
TZOFFSETFROM:-0800
TZOFFSETTO:-0700
TZNAME:PDT
DTSTART:20240310T100000
END:DAYLIGHT
BEGIN:STANDARD
TZOFFSETFROM:-0700
TZOFFSETTO:-0800
TZNAME:PST
DTSTART:20241103T090000
END:STANDARD
BEGIN:DAYLIGHT
TZOFFSETFROM:-0800
TZOFFSETTO:-0700
TZNAME:PDT
DTSTART:20250309T100000
END:DAYLIGHT
BEGIN:STANDARD
TZOFFSETFROM:-0700
TZOFFSETTO:-0800
TZNAME:PST
DTSTART:20251102T090000
END:STANDARD
BEGIN:DAYLIGHT
TZOFFSETFROM:-0800
TZOFFSETTO:-0700
TZNAME:PDT
DTSTART:20260308T100000
END:DAYLIGHT
BEGIN:STANDARD
TZOFFSETFROM:-0700
TZOFFSETTO:-0800
TZNAME:PST
DTSTART:20261101T090000
END:STANDARD
BEGIN:DAYLIGHT
TZOFFSETFROM:-0800
TZOFFSETTO:-0700
TZNAME:PDT
DTSTART:20270314T100000
END:DAYLIGHT
BEGIN:STANDARD
TZOFFSETFROM:-0700
TZOFFSETTO:-0800
TZNAME:PST
DTSTART:20271107T090000
END:STANDARD
END:VTIMEZONE
BEGIN:VEVENT
DTSTART;VALUE=DATE:20250528
DTEND;VALUE=DATE:20250529
DTSTAMP:20260421T094900
CREATED:20241229T191116Z
LAST-MODIFIED:20241229T191116Z
UID:7098-1748390400-1748476799@kamloopsvineyard.com
SUMMARY:Worship. Prayer. @ the Lighthouse. Wednesday Nights @ 7 pm.
DESCRIPTION:The Lighthouse and Vineyard partner for worship and prayer.\nWednesday Evenings.\n7 pm @ the Lighthouse Church\nEVERYONE is invited\n\nPsalm 46:4 — “There is a river whose streams make glad the city of God\, the holy place where the Most High dwells.”\n\nWe’re thrilled to continue our partnership with the Lighthouse church family. IF you have any questions about how you can be involved\, please reach out to pastors Brandon Linse at the Lighthouse or David Tombe at the Vineyard\n\nVenue: The Lighthouse Christian Fellowship\n702 Columbia St\, Kamloops\, BC V2C 2V4
URL:https://kamloopsvineyard.com/event/worship-prayer-the-lighthouse-wednesday-nights-7-pm-2/2025-05-28/
LOCATION:Lighthouse Christian Fellowship\, 702 Columbia St\, Kamloops\, British Columbia\, V2C 2V4\, Canada
CATEGORIES:Prayer,Renewal,Video ONLINE Conferencing,Worship,Worship and Prayer
ATTACH;FMTTYPE=image/jpeg:https://kamloopsvineyard.com/wp-content/uploads/2024/09/WorshipPrayerOct2024@1000.jpeg
END:VEVENT
BEGIN:VEVENT
DTSTART;VALUE=DATE:20250611
DTEND;VALUE=DATE:20250612
DTSTAMP:20260421T094900
CREATED:20250611T201937Z
LAST-MODIFIED:20250611T201937Z
UID:7561-1749600000-1749686399@kamloopsvineyard.com
SUMMARY:Worship. Prayer. @ the Lighthouse. Wed June 11th @ 7 pm.
DESCRIPTION:The Lighthouse and Vineyard partner for worship and prayer.7 pm @ the Lighthouse Church\nEVERYONE is invited\n\nPsalm 46:4 — “There is a river whose streams make glad the city of God\, the holy place where the Most High dwells.”\n\nWe’re thrilled to continue our partnership with the Lighthouse church family. IF you have any questions about how you can be involved\, please reach out to pastors Brandon Linse at the Lighthouse or David Tombe at the Vineyard\n\nVenue: The Lighthouse Christian Fellowship\n702 Columbia St\, Kamloops\, BC V2C 2V4
URL:https://kamloopsvineyard.com/event/worship-prayer-the-lighthouse-wed-june-11th-7-pm/
LOCATION:Lighthouse Christian Fellowship\, 702 Columbia St\, Kamloops\, British Columbia\, V2C 2V4\, Canada
CATEGORIES:Prayer,Renewal,Video ONLINE Conferencing,Worship,Worship and Prayer
ATTACH;FMTTYPE=image/jpeg:https://kamloopsvineyard.com/wp-content/uploads/2024/09/WorshipPrayerOct2024@1000.jpeg
END:VEVENT
BEGIN:VEVENT
DTSTART;VALUE=DATE:20250618
DTEND;VALUE=DATE:20250619
DTSTAMP:20260421T094900
CREATED:20250611T202030Z
LAST-MODIFIED:20250611T203017Z
UID:7564-1750204800-1750291199@kamloopsvineyard.com
SUMMARY:Worship. Prayer. @ the Lighthouse. Wed June 18th @ 7 pm. (Final session. On pause through the Summer.)
DESCRIPTION:The Lighthouse and Vineyard partner for worship and prayer.7 pm @ the Lighthouse Church\nEVERYONE is invited\n\nPsalm 46:4 — “There is a river whose streams make glad the city of God\, the holy place where the Most High dwells.”\n\nWe’re thrilled to continue our partnership with the Lighthouse church family. IF you have any questions about how you can be involved\, please reach out to pastors Brandon Linse at the Lighthouse or David Tombe at the Vineyard\n\nVenue: The Lighthouse Christian Fellowship\n702 Columbia St\, Kamloops\, BC V2C 2V4
URL:https://kamloopsvineyard.com/event/worship-prayer-the-lighthouse-wed-june-18th-7-pm/
LOCATION:Lighthouse Christian Fellowship\, 702 Columbia St\, Kamloops\, British Columbia\, V2C 2V4\, Canada
CATEGORIES:Prayer,Renewal,Video ONLINE Conferencing,Worship,Worship and Prayer
ATTACH;FMTTYPE=image/jpeg:https://kamloopsvineyard.com/wp-content/uploads/2024/09/WorshipPrayerOct2024@1000.jpeg
END:VEVENT
BEGIN:VEVENT
DTSTART;VALUE=DATE:20250621
DTEND;VALUE=DATE:20250622
DTSTAMP:20260421T094900
CREATED:20250508T211415Z
LAST-MODIFIED:20250529T222258Z
UID:7379-1750464000-1750550399@kamloopsvineyard.com
SUMMARY:An Evening of Worship at Kelowna Vineyard. Saturday June 21st @ 6 pm. You're invited!
DESCRIPTION:An Evening of Worship at Kelowna Vineyard \nSaturday June 21st @ 6 pm \nKelowna Vineyard is extending an invitation to both Kamloops and Penticton Vineyards — “Come join us on Saturday\, June 21st at 6 pm! 3rd space food and connections. Following worship KVine is serving up food and refreshments. Feel free to invite along anyone you think may enjoy this time. \nKelowna Vineyard Venue:\nFaith Lutheran Church\, 250 Gibbs Road W\, Kelowna\, BC\nClick here for Google Map directions. \nIf you have any questions please contacting me debbie@kamloopsvineyard.com
URL:https://kamloopsvineyard.com/event/an-evening-of-worship-at-kelowna-vineyard-saturday-june-21st-6-pm-youre-invited/
LOCATION:Kelowna Vineyard (Faith Lutheran Church)\, 250 Gibbs Rd W\, Kelowna\, BC\, V1X 2W3\, Canada
CATEGORIES:BC Vineyard Churches,Prayer,Special Event,Worship
ATTACH;FMTTYPE=image/jpeg:https://kamloopsvineyard.com/wp-content/uploads/2025/05/KVine_NightofWorship@1000.jpg
ORGANIZER;CN="Kelowna Vineyard":MAILTO:admin@kelownavineyard.com
END:VEVENT
BEGIN:VEVENT
DTSTART;VALUE=DATE:20251114
DTEND;VALUE=DATE:20251115
DTSTAMP:20260421T094900
CREATED:20250828T223618Z
LAST-MODIFIED:20251114T152133Z
UID:7743-1763078400-1763164799@kamloopsvineyard.com
SUMMARY:House Church Prayer @ the Tombe's. Friday Nov 14th @ 10 am.
DESCRIPTION:Generally\, we meet every other Friday @ 10:00 am. Check out the website to confirm the schedule and venue. Debbie shares\, ‘… we’re being intentional to gather and pray for whatever Father puts on our heart.’\n\nIf you would like to know more about gathering with us to pray please contact Debbie Tombe\, debbie@kamloopsvineyard.com.
URL:https://kamloopsvineyard.com/event/house-church-prayer-the-tombes-friday-oct-31st-10-am/
LOCATION:Tombe’s Home\, 1266 Pine Grove Rd\, Kamloops\, British Columbia\, V2C 6V6\, Canada
CATEGORIES:House Church,In-House Connections,Prayer
ATTACH;FMTTYPE=image/jpeg:https://kamloopsvineyard.com/wp-content/uploads/2025/08/HouseChurchPrayer@1000.jpeg
END:VEVENT
BEGIN:VEVENT
DTSTART;VALUE=DATE:20251126
DTEND;VALUE=DATE:20251129
DTSTAMP:20260421T094900
CREATED:20251107T212638Z
LAST-MODIFIED:20251107T212638Z
UID:7966-1764115200-1764374399@kamloopsvineyard.com
SUMMARY:Vineyard Canada National Online Gathering — ADVENT. November 26\, 27\, 28. 7 - 7:45 am PT
DESCRIPTION:National Online Gathering\nThree 45 minutes sessions.\nNovember 26\, 27\, 28th. \nWe will begin promptly at 7AM PT each morning We will begin promptly at 7AM PT each morning November 26\, 27\, & 28. \nFor three days leading up to Advent (November 26\, 27\, 28) we will be gathering again on zoom from coast to coast! You can expect a guided devotional time featuring worship\, liturgy\, the arts\, scripture\, and listening to the Holy Spirit together. \nemail the Kamloops Vineyard administration team to request ZOOM link information info@kamloopsvineyard.com. \nWe hope you can join us!
URL:https://kamloopsvineyard.com/event/vineyard-online-gathering-advent-2025/
LOCATION:ZOOM\, Canada
CATEGORIES:Prayer,Renewal,Special Event,Streaming LIVE,Streaming ONLINE,Video Conferencing,Vineyard Canada Gathering
ATTACH;FMTTYPE=image/png:https://kamloopsvineyard.com/wp-content/uploads/2025/11/VCAdvent2025@1080x1350.png
END:VEVENT
BEGIN:VEVENT
DTSTART;VALUE=DATE:20251128
DTEND;VALUE=DATE:20251129
DTSTAMP:20260421T094900
CREATED:20251114T152433Z
LAST-MODIFIED:20251114T152433Z
UID:7972-1764288000-1764374399@kamloopsvineyard.com
SUMMARY:House Church Prayer @ the Tombe's. Friday Nov 28th @ 10 am. - Copy
DESCRIPTION:Generally\, we meet every other Friday @ 10:00 am. Check out the website to confirm the schedule and venue. Debbie shares\, ‘… we’re being intentional to gather and pray for whatever Father puts on our heart.’\n\nIf you would like to know more about gathering with us to pray please contact Debbie Tombe\, debbie@kamloopsvineyard.com.
URL:https://kamloopsvineyard.com/event/house-church-prayer-the-tombes-friday-nov-28th-10-am-copy/
LOCATION:Tombe’s Home\, 1266 Pine Grove Rd\, Kamloops\, British Columbia\, V2C 6V6\, Canada
CATEGORIES:House Church,In-House Connections,Prayer
ATTACH;FMTTYPE=image/jpeg:https://kamloopsvineyard.com/wp-content/uploads/2025/08/HouseChurchPrayer@1000.jpeg
END:VEVENT
BEGIN:VEVENT
DTSTART;VALUE=DATE:20251212
DTEND;VALUE=DATE:20251213
DTSTAMP:20260421T094900
CREATED:20251122T153039Z
LAST-MODIFIED:20251122T153039Z
UID:8005-1765497600-1765583999@kamloopsvineyard.com
SUMMARY:House Church Prayer @ the Tombe's. Friday Dec 12th @ 10 am.
DESCRIPTION:Generally\, we meet every other Friday @ 10:00 am. Check out the website to confirm the schedule and venue. Debbie shares\, ‘… we’re being intentional to gather and pray for whatever Father puts on our heart.’\n\nIf you would like to know more about gathering with us to pray please contact Debbie Tombe\, debbie@kamloopsvineyard.com.
URL:https://kamloopsvineyard.com/event/house-church-prayer-the-tombes-friday-dec-12th-10-am/
LOCATION:Tombe’s Home\, 1266 Pine Grove Rd\, Kamloops\, British Columbia\, V2C 6V6\, Canada
CATEGORIES:House Church,In-House Connections,Prayer
ATTACH;FMTTYPE=image/jpeg:https://kamloopsvineyard.com/wp-content/uploads/2025/08/HouseChurchPrayer@1000.jpeg
END:VEVENT
BEGIN:VEVENT
DTSTART;VALUE=DATE:20260109
DTEND;VALUE=DATE:20260110
DTSTAMP:20260421T094900
CREATED:20251211T194754Z
LAST-MODIFIED:20251212T161103Z
UID:8039-1767916800-1768003199@kamloopsvineyard.com
SUMMARY:House Church Prayer @ the Tombe's (Barnhartvale). Friday Jan 9th @ 10 am.
DESCRIPTION:We meet every other Friday @ 10:00 am.\nCheck out the website to confirm the schedule and venue.\nDebbie shares\, ‘… we’re being intentional to gather and pray for whatever Father puts on our heart.’\n\nIf you would like to know more about gathering with us to pray please contact Debbie Tombe\, debbie@kamloopsvineyard.com.
URL:https://kamloopsvineyard.com/event/house-church-prayer-the-tombes-barnhartvale-friday-jan-9th-10-am/
LOCATION:Tombe’s Home\, 1266 Pine Grove Rd\, Kamloops\, British Columbia\, V2C 6V6\, Canada
CATEGORIES:House Church,In-House Connections,Prayer
ATTACH;FMTTYPE=image/jpeg:https://kamloopsvineyard.com/wp-content/uploads/2025/08/HouseChurchPrayer@1000.jpeg
END:VEVENT
BEGIN:VEVENT
DTSTART;VALUE=DATE:20260121
DTEND;VALUE=DATE:20260131
DTSTAMP:20260421T094900
CREATED:20251219T173112Z
LAST-MODIFIED:20260115T010045Z
UID:8043-1768953600-1769817599@kamloopsvineyard.com
SUMMARY:Vineyard Canada National Fast. Online Gathering. Jan 21st - 30th 7am - 7:45 am PT
DESCRIPTION:As we step into January 2026 we are coming together as a Canadian Vineyard Family to engage in a rhythm of corporate fasting and prayer. This year as we head into a season of transition with our National Team\, our prayer focus will be influenced and shaped by some of the significant upcoming shifts that will impact the way we operate into the future as a family. \nIt seemed prudent to carry forward last year’s theme – “A People of the Way” into the ‘26 calendar – “A People of the Way – the Journey Continues.” \nA few overarching threads from 2025 that we sense the Lord highlighting for us to stay attentive to in 2026; \n\n\nWalk don’t run – the Lord’s timing & pacing is perfect we are to lean into trust \n\n\nGod’s ways are not ours – Isaiah 55:8-9 need to be led by the Spirit’s wisdom and understanding \n\n\nStaying rooted John 15 & attentive to our roots  Psalm 1-  our values drive our posture – & we are called to be a people of the Way of Jesus \n\n\nDesire fruit that remains\, the invitation to remain faithful to the main and the plain of journeying with Jesus \n\n\nThe reminder that warfare is real & we struggle not against flesh & blood – (Ephesians 6:12) We are called to lean into Godly wisdom\, character\, discernment & humility to avoid the enemies’ schemes. \n\n\nDavid Ruis’ January reflection drawn from Acts 13:1-3 helps to clarify the posture we are leaning into throughout this time of fasting & prayer. \n“Now in the church at Antioch there were prophets and teachers: Barnabas\, Simeon called Niger\, Lucius of Cyrene\, Manaen (who had been brought up with Herod the tetrarch) and Saul. While they were worshiping the Lord and fasting\, the Holy Spirit said\, “Set apart for me Barnabas and Saul for the work to which I have called them.” So after they had fasted and prayed\, they placed their hands on them and sent them off. \nThe Acts narrative will provide our template for our 10 day rhythm this year and Hebrews 11 will be our supporting text. \nDownload 10 day fast outline HERE \nEach morning David and Anita will host this online devo  on Zoom. \nThese gatherings will begin promptly at 7AM PST for 45 mins \nFor more information and links to join the virtual connections please contact David or Debbie Tombe. \ndebbie@kamloopsvineyard.com\ndavid@kamloopsvineyard.com
URL:https://kamloopsvineyard.com/event/vineyard-canada-national-fast-2024-online-zoom-calls-7am/2026-01-21/
LOCATION:British Columbia
CATEGORIES:Prayer,Streaming LIVE,Streaming ONLINE,Vineyard Canada Gathering
ATTACH;FMTTYPE=image/jpeg:https://kamloopsvineyard.com/wp-content/uploads/2025/12/National-Fast-January-2025.jpg
END:VEVENT
BEGIN:VEVENT
DTSTART;VALUE=DATE:20260130
DTEND;VALUE=DATE:20260131
DTSTAMP:20260421T094900
CREATED:20260120T190152Z
LAST-MODIFIED:20260120T190415Z
UID:8087-1769731200-1769817599@kamloopsvineyard.com
SUMMARY:House Church Prayer @ the Tombe's (Barnhartvale). Friday Jan 30th @ 10 am.
DESCRIPTION:Typically we meet every other Friday @ 10:00 am\n… regardless\, confirm our times online!\n\nCheck out the website to confirm the schedule and venue. Debbie shares\, ‘… we’re being intentional to gather and pray for whatever Father puts on our heart.’\n\nIf you would like to know more about gathering with us to pray please contact Debbie Tombe\, debbie@kamloopsvineyard.com.
URL:https://kamloopsvineyard.com/event/house-church-prayer-the-tombes-barnhartvale-friday-jan-30th-10-am/
LOCATION:Tombe’s Home\, 1266 Pine Grove Rd\, Kamloops\, British Columbia\, V2C 6V6\, Canada
CATEGORIES:House Church,In-House Connections,Prayer
ATTACH;FMTTYPE=image/jpeg:https://kamloopsvineyard.com/wp-content/uploads/2025/08/HouseChurchPrayer@1000.jpeg
END:VEVENT
BEGIN:VEVENT
DTSTART;VALUE=DATE:20260206
DTEND;VALUE=DATE:20260207
DTSTAMP:20260421T094900
CREATED:20260120T190604Z
LAST-MODIFIED:20260120T213244Z
UID:8091-1770336000-1770422399@kamloopsvineyard.com
SUMMARY:House Church Prayer @ the Tombe's (Barnhartvale). Friday Feb 6th @ 10 am.
DESCRIPTION:Typically we meet every other Friday @ 10:00 am\n… regardless\, confirm our times online!\n\nCheck out the website to confirm the schedule and venue. Debbie shares\, ‘… we’re being intentional to gather and pray for whatever Father puts on our heart.’\n\nIf you would like to know more about gathering with us to pray please contact Debbie Tombe\, debbie@kamloopsvineyard.com.
URL:https://kamloopsvineyard.com/event/house-church-prayer-the-tombes-barnhartvale-friday-feb-6th-10-am/
LOCATION:Tombe’s Home\, 1266 Pine Grove Rd\, Kamloops\, British Columbia\, V2C 6V6\, Canada
CATEGORIES:House Church,In-House Connections,Prayer
ATTACH;FMTTYPE=image/jpeg:https://kamloopsvineyard.com/wp-content/uploads/2025/08/HouseChurchPrayer@1000.jpeg
END:VEVENT
BEGIN:VEVENT
DTSTART;VALUE=DATE:20260220
DTEND;VALUE=DATE:20260221
DTSTAMP:20260421T094900
CREATED:20260121T201400Z
LAST-MODIFIED:20260121T201400Z
UID:8126-1771545600-1771631999@kamloopsvineyard.com
SUMMARY:House Church Prayer @ the Tombe's (Barnhartvale). Friday Feb 20th @ 10 am.
DESCRIPTION:Typically we meet every other Friday @ 10:00 am\n… regardless\, confirm our times online!\n\nCheck out the website to confirm the schedule and venue. Debbie shares\, ‘… we’re being intentional to gather and pray for whatever Father puts on our heart.’\n\nIf you would like to know more about gathering with us to pray please contact Debbie Tombe\, debbie@kamloopsvineyard.com.
URL:https://kamloopsvineyard.com/event/house-church-prayer-the-tombes-barnhartvale-friday-feb-20th-10-am/
LOCATION:Tombe’s Home\, 1266 Pine Grove Rd\, Kamloops\, British Columbia\, V2C 6V6\, Canada
CATEGORIES:House Church,In-House Connections,Prayer
ATTACH;FMTTYPE=image/jpeg:https://kamloopsvineyard.com/wp-content/uploads/2025/08/HouseChurchPrayer@1000.jpeg
END:VEVENT
BEGIN:VEVENT
DTSTART;VALUE=DATE:20260306
DTEND;VALUE=DATE:20260307
DTSTAMP:20260421T094900
CREATED:20260121T202329Z
LAST-MODIFIED:20260121T204154Z
UID:8130-1772755200-1772841599@kamloopsvineyard.com
SUMMARY:House Church Prayer @ the Tombe's (Barnhartvale). Friday Mar 6th @ 10 am.
DESCRIPTION:Typically we meet every other Friday @ 10:00 am\n… regardless\, confirm our times online!\n\nCheck out the website to confirm the schedule and venue. Debbie shares\, ‘… we’re being intentional to gather and pray for whatever Father puts on our heart.’\n\nIf you would like to know more about gathering with us to pray please contact Debbie Tombe\, debbie@kamloopsvineyard.com.
URL:https://kamloopsvineyard.com/event/house-church-prayer-the-tombes-barnhartvale-friday-march-6th-10-am/
LOCATION:Tombe’s Home\, 1266 Pine Grove Rd\, Kamloops\, British Columbia\, V2C 6V6\, Canada
CATEGORIES:House Church,In-House Connections,Prayer
ATTACH;FMTTYPE=image/jpeg:https://kamloopsvineyard.com/wp-content/uploads/2025/08/HouseChurchPrayer@1000.jpeg
END:VEVENT
BEGIN:VEVENT
DTSTART;VALUE=DATE:20260320
DTEND;VALUE=DATE:20260321
DTSTAMP:20260421T094900
CREATED:20260121T202017Z
LAST-MODIFIED:20260121T204053Z
UID:8128-1773964800-1774051199@kamloopsvineyard.com
SUMMARY:House Church Prayer @ the Tombe's (Barnhartvale). Friday Mar 20th @ 10 am.
DESCRIPTION:Typically we meet every other Friday @ 10:00 am\n… regardless\, confirm our times online!\n\nCheck out the website to confirm the schedule and venue. Debbie shares\, ‘… we’re being intentional to gather and pray for whatever Father puts on our heart.’\n\nIf you would like to know more about gathering with us to pray please contact Debbie Tombe\, debbie@kamloopsvineyard.com.
URL:https://kamloopsvineyard.com/event/house-church-prayer-the-tombes-barnhartvale-friday-mar-20th-10-am/
LOCATION:Tombe’s Home\, 1266 Pine Grove Rd\, Kamloops\, British Columbia\, V2C 6V6\, Canada
CATEGORIES:House Church,In-House Connections,Prayer
ATTACH;FMTTYPE=image/jpeg:https://kamloopsvineyard.com/wp-content/uploads/2025/08/HouseChurchPrayer@1000.jpeg
END:VEVENT
BEGIN:VEVENT
DTSTART;VALUE=DATE:20260403
DTEND;VALUE=DATE:20260404
DTSTAMP:20260421T094900
CREATED:20260318T004515Z
LAST-MODIFIED:20260318T231038Z
UID:8265-1775174400-1775260799@kamloopsvineyard.com
SUMMARY:House Church Good Friday @ the Tombe's (Barnhartvale). Friday morning Apr 3rd @ 10 am.
DESCRIPTION:Typically we meet every other Friday @ 10:00 am for prayer … that said\, Friday morning April 3rd @ 10 am we’re celebrating Good Friday with a time of  Worship\, Prayer and Communion.\n\nIf you would like to know more about gathering with us please contact Debbie Tombe\, debbie@kamloopsvineyard.com.
URL:https://kamloopsvineyard.com/event/house-church-prayer-the-tombes-barnhartvale-good-friday-apr-3rd-10-am/
LOCATION:Tombe’s Home\, 1266 Pine Grove Rd\, Kamloops\, British Columbia\, V2C 6V6\, Canada
CATEGORIES:Easter Sunday,Good Friday,House Church,In-House Connections,Prayer
ATTACH;FMTTYPE=image/jpeg:https://kamloopsvineyard.com/wp-content/uploads/2026/03/Good-Friday-House-Church-2026@1000.jpeg
END:VEVENT
BEGIN:VEVENT
DTSTART;VALUE=DATE:20260417
DTEND;VALUE=DATE:20260418
DTSTAMP:20260421T094900
CREATED:20260318T004644Z
LAST-MODIFIED:20260318T004644Z
UID:8267-1776384000-1776470399@kamloopsvineyard.com
SUMMARY:House Church Prayer @ the Tombe's (Barnhartvale). Friday Apr 17th @ 10 am.
DESCRIPTION:Typically we meet every other Friday @ 10:00 am\n… regardless\, confirm our times online!\n\nCheck out the website to confirm the schedule and venue. Debbie shares\, ‘… we’re being intentional to gather and pray for whatever Father puts on our heart.’\n\nIf you would like to know more about gathering with us to pray please contact Debbie Tombe\, debbie@kamloopsvineyard.com.
URL:https://kamloopsvineyard.com/event/house-church-prayer-the-tombes-barnhartvale-friday-apr-17th-10-am/
LOCATION:Tombe’s Home\, 1266 Pine Grove Rd\, Kamloops\, British Columbia\, V2C 6V6\, Canada
CATEGORIES:House Church,In-House Connections,Prayer
ATTACH;FMTTYPE=image/jpeg:https://kamloopsvineyard.com/wp-content/uploads/2025/08/HouseChurchPrayer@1000.jpeg
END:VEVENT
END:VCALENDAR