BEGIN:VCALENDAR
VERSION:2.0
PRODID:-//Kamloops Vineyard Church - ECPv6.15.16//NONSGML v1.0//EN
CALSCALE:GREGORIAN
METHOD:PUBLISH
X-ORIGINAL-URL:https://kamloopsvineyard.com
X-WR-CALDESC:Events for Kamloops Vineyard Church
REFRESH-INTERVAL;VALUE=DURATION:PT1H
X-Robots-Tag:noindex
X-PUBLISHED-TTL:PT1H
BEGIN:VTIMEZONE
TZID:America/Vancouver
BEGIN:DAYLIGHT
TZOFFSETFROM:-0800
TZOFFSETTO:-0700
TZNAME:PDT
DTSTART:20230312T100000
END:DAYLIGHT
BEGIN:STANDARD
TZOFFSETFROM:-0700
TZOFFSETTO:-0800
TZNAME:PST
DTSTART:20231105T090000
END:STANDARD
BEGIN:DAYLIGHT
TZOFFSETFROM:-0800
TZOFFSETTO:-0700
TZNAME:PDT
DTSTART:20240310T100000
END:DAYLIGHT
BEGIN:STANDARD
TZOFFSETFROM:-0700
TZOFFSETTO:-0800
TZNAME:PST
DTSTART:20241103T090000
END:STANDARD
BEGIN:DAYLIGHT
TZOFFSETFROM:-0800
TZOFFSETTO:-0700
TZNAME:PDT
DTSTART:20250309T100000
END:DAYLIGHT
BEGIN:STANDARD
TZOFFSETFROM:-0700
TZOFFSETTO:-0800
TZNAME:PST
DTSTART:20251102T090000
END:STANDARD
END:VTIMEZONE
BEGIN:VEVENT
DTSTART;VALUE=DATE:20240403
DTEND;VALUE=DATE:20240404
DTSTAMP:20260422T032538
CREATED:20240330T235112Z
LAST-MODIFIED:20240330T235112Z
UID:5982-1712102400-1712188799@kamloopsvineyard.com
SUMMARY:The Lighthouse and Vineyard. Worship and Prayer. Wednesday Nights @ 7 pm.
DESCRIPTION:Wednesday Evenings.\n7 pm @ the Lighthouse Church\nEVERYONE is invited\n\nThe Lighthouse Christian Fellowship and Vineyard Church partner to foster our Father’s manifest presence and invite the SPIRIT to lead us in praying for the healing of our hearts\, our city and the nation(s).\n\nPsalm 46:4 — “There is a river whose streams make glad the city of God\, the holy place where the Most High dwells.”\n\nIF you have any questions about how you can be involved\, please reach out to david@kamloopsvineyard.com\, debbie@kamloopsvineyard.com. \nVenue: The Lighthouse Christian Fellowship\n702 Columbia St\, Kamloops\, BC V2C 2V4
URL:https://kamloopsvineyard.com/event/the-lighthouse-and-vineyard-worship-and-prayer-wednesday-nights-7-pm-2/2024-04-03/
LOCATION:Lighthouse Christian Fellowship\, 702 Columbia St\, Kamloops\, British Columbia\, V2C 2V4\, Canada
CATEGORIES:Renewal,Video ONLINE Conferencing,Worship and Prayer
ATTACH;FMTTYPE=image/jpeg:https://kamloopsvineyard.com/wp-content/uploads/2023/12/WedWorshipPrayer_Jan2024@1000.jpeg
END:VEVENT
BEGIN:VEVENT
DTSTART;VALUE=DATE:20240424
DTEND;VALUE=DATE:20240425
DTSTAMP:20260422T032538
CREATED:20240330T235112Z
LAST-MODIFIED:20240330T235112Z
UID:5987-1713916800-1714003199@kamloopsvineyard.com
SUMMARY:The Lighthouse and Vineyard. Worship and Prayer. Wednesday Nights @ 7 pm.
DESCRIPTION:Wednesday Evenings.\n7 pm @ the Lighthouse Church\nEVERYONE is invited\n\nThe Lighthouse Christian Fellowship and Vineyard Church partner to foster our Father’s manifest presence and invite the SPIRIT to lead us in praying for the healing of our hearts\, our city and the nation(s).\n\nPsalm 46:4 — “There is a river whose streams make glad the city of God\, the holy place where the Most High dwells.”\n\nIF you have any questions about how you can be involved\, please reach out to david@kamloopsvineyard.com\, debbie@kamloopsvineyard.com. \nVenue: The Lighthouse Christian Fellowship\n702 Columbia St\, Kamloops\, BC V2C 2V4
URL:https://kamloopsvineyard.com/event/the-lighthouse-and-vineyard-worship-and-prayer-wednesday-nights-7-pm-2/2024-04-24/
LOCATION:Lighthouse Christian Fellowship\, 702 Columbia St\, Kamloops\, British Columbia\, V2C 2V4\, Canada
CATEGORIES:Renewal,Video ONLINE Conferencing,Worship and Prayer
ATTACH;FMTTYPE=image/jpeg:https://kamloopsvineyard.com/wp-content/uploads/2023/12/WedWorshipPrayer_Jan2024@1000.jpeg
END:VEVENT
END:VCALENDAR