BEGIN:VCALENDAR
VERSION:2.0
PRODID:-//Kamloops Vineyard Church - ECPv6.15.16//NONSGML v1.0//EN
CALSCALE:GREGORIAN
METHOD:PUBLISH
X-WR-CALNAME:Kamloops Vineyard Church
X-ORIGINAL-URL:https://kamloopsvineyard.com
X-WR-CALDESC:Events for Kamloops Vineyard Church
REFRESH-INTERVAL;VALUE=DURATION:PT1H
X-Robots-Tag:noindex
X-PUBLISHED-TTL:PT1H
BEGIN:VTIMEZONE
TZID:America/Vancouver
BEGIN:DAYLIGHT
TZOFFSETFROM:-0800
TZOFFSETTO:-0700
TZNAME:PDT
DTSTART:20210314T100000
END:DAYLIGHT
BEGIN:STANDARD
TZOFFSETFROM:-0700
TZOFFSETTO:-0800
TZNAME:PST
DTSTART:20211107T090000
END:STANDARD
BEGIN:DAYLIGHT
TZOFFSETFROM:-0800
TZOFFSETTO:-0700
TZNAME:PDT
DTSTART:20220313T100000
END:DAYLIGHT
BEGIN:STANDARD
TZOFFSETFROM:-0700
TZOFFSETTO:-0800
TZNAME:PST
DTSTART:20221106T090000
END:STANDARD
BEGIN:DAYLIGHT
TZOFFSETFROM:-0800
TZOFFSETTO:-0700
TZNAME:PDT
DTSTART:20230312T100000
END:DAYLIGHT
BEGIN:STANDARD
TZOFFSETFROM:-0700
TZOFFSETTO:-0800
TZNAME:PST
DTSTART:20231105T090000
END:STANDARD
END:VTIMEZONE
BEGIN:VEVENT
DTSTART;VALUE=DATE:20221120
DTEND;VALUE=DATE:20221121
DTSTAMP:20260423T102927
CREATED:20221116T210621Z
LAST-MODIFIED:20221117T162731Z
UID:4047-1668902400-1668988799@kamloopsvineyard.com
SUMMARY:Third Sunday. Nov 20th @ 4 pm. We're Gathering @ the Kamloops Free Methodist Church.
DESCRIPTION:Together with the Elders and Directors\, Debbie and I invite you to join us. \nSunday Nov 24th @ 4 pm. Discerning Our Way Forward.\nCorporate worship\, prayer and shared food. \nWe’re gathering @ the Kamloops Free Methodist Church on the Northshore. \nThe Kamloops Vineyard is on a journey of space exploration with the Kamloops Free Methodist Church in Brocklehurst. You are invited to join us in an unhurried discernment process to determine the Father’s will. It’s a potential transition that could see us stepping away from our corporate gatherings at Gateway City Church in Valleyview\, to settle into new rhythms and routines on the Northshore. \nWe want to move beyond first glances to embrace a deeper witness of the Spirit among us as leaders and as a church family. A time of corporate worship\, prayer and a shared meal in the Free Methodist Church is exactly what’s needed to warm our hearts and consider the opportunities that present to us. \nShould it seem good to us and to the Holy Spirit we will continue our engagement with the boards and leaders of the Kamloops Free Methodist Church to affirm our way forward. In the meantime can we prevail upon you to cover both fellowships in your love and prayers. \nDavid and Debbie\nLead Pastors\, Elders and Directors \nBonnie Bylsma\, Assoc. Pastor\, Elder\nBrent Bylsma\, Elder\nMonte Campbell\, Director\nAllan Clarkson\, Elder and Director\nKaren Enns\, Children and Family Worker\, Elder\nDaryl Enns\, Elder\nConnie Smith\, Elder and Director \nThe Meal \nChicken Vegetable Soup. Sandwiches. Wraps. Deserts. and more?\nDebbie will be forthcoming with more details\, suffice it to say\, she’s making a large pot of Chicken Soup and inviting anyone to personally contact her who may be considering an optional soup to offer others. Can you consider preparing sandwiches\, wraps\, buns\, salads\, deserts or what-have-you? Something that would complement the main soup(s) being prepared? \nDebbie Tombe or Connie Smith\ninfo@kamloopsvineyard.com\, or call (250) 828-1690. \n___ \nWhere is the Kamloops Free Methodist Church located? \nGooglemap link \nKamloops Free Methodist Church\n975 Windbreak St\nKamloops\, BC V2B 5P5
URL:https://kamloopsvineyard.com/event/third-sunday-nov-20th-4-pm-were-gathering-the-kamloops-free-methodist-church/
LOCATION:Kamloops Free Methodist Church\, 975 Windbreak St\, Kamloops\, BC\, V2B 5P5\, Canada
CATEGORIES:Families,In-Person Worship Service,Special Event,Sunday In-Person Worship,Third Sundays
ATTACH;FMTTYPE=image/jpeg:https://kamloopsvineyard.com/wp-content/uploads/2022/11/Nov20_WereGathering@1000.jpeg
END:VEVENT
END:VCALENDAR