BEGIN:VCALENDAR
VERSION:2.0
PRODID:-//Kamloops Vineyard Church - ECPv6.15.16//NONSGML v1.0//EN
CALSCALE:GREGORIAN
METHOD:PUBLISH
X-ORIGINAL-URL:https://kamloopsvineyard.com
X-WR-CALDESC:Events for Kamloops Vineyard Church
REFRESH-INTERVAL;VALUE=DURATION:PT1H
X-Robots-Tag:noindex
X-PUBLISHED-TTL:PT1H
BEGIN:VTIMEZONE
TZID:America/Vancouver
BEGIN:DAYLIGHT
TZOFFSETFROM:-0800
TZOFFSETTO:-0700
TZNAME:PDT
DTSTART:20220313T100000
END:DAYLIGHT
BEGIN:STANDARD
TZOFFSETFROM:-0700
TZOFFSETTO:-0800
TZNAME:PST
DTSTART:20221106T090000
END:STANDARD
BEGIN:DAYLIGHT
TZOFFSETFROM:-0800
TZOFFSETTO:-0700
TZNAME:PDT
DTSTART:20230312T100000
END:DAYLIGHT
BEGIN:STANDARD
TZOFFSETFROM:-0700
TZOFFSETTO:-0800
TZNAME:PST
DTSTART:20231105T090000
END:STANDARD
BEGIN:DAYLIGHT
TZOFFSETFROM:-0800
TZOFFSETTO:-0700
TZNAME:PDT
DTSTART:20240310T100000
END:DAYLIGHT
BEGIN:STANDARD
TZOFFSETFROM:-0700
TZOFFSETTO:-0800
TZNAME:PST
DTSTART:20241103T090000
END:STANDARD
END:VTIMEZONE
BEGIN:VEVENT
DTSTART;VALUE=DATE:20230311
DTEND;VALUE=DATE:20230312
DTSTAMP:20260423T024047
CREATED:20230301T165019Z
LAST-MODIFIED:20230301T165019Z
UID:4368-1678492800-1678579199@kamloopsvineyard.com
SUMMARY:Ladies Day Out. Saturday Mar 11th beginning @ 9 am.
DESCRIPTION:Ladies\, here is the schedule for our progressive day together on March 11th\, from 9am to 9pm. Come share worship\, food\, stories\, prayer\, art\, exercise\, silence\, and rest with us. We will explore how we are beautiful and enough in God’s eyes\, and with grace and love\, we can be in our own eyes\, too. We will invite God’s Spirit to heal and restore our vision\, our way of understanding who we are and how God sees us. \n5 events spread throughout the day \n9 am – 11 am\nWelcome tea-muffins and fruit\, morning worship\, art cards project (part 1)\n@ Debbie Tombe’s home in Barnhartvale \n11:30 am – 1:30 pm\nSharing and listening prayer exercise\, lunch-soup and buns\n@ Amy MacLeod’s home in the Northshore \n2 pm – 4 pm\nReflective hick\, afternoon coffee-homemade donuts\n@ Dina Chase’s home three blocks from city hall \n4:30 pm – 6:30 pm\nVisual and contemplative prayer\, dinner-salmon and roasted veggies\n@ Connie Smith’s home in Arbutus Estates\, West End \n7 pm – 9 pm\nEvening worship\, art card project (part 2)\, dessert-cheesecake\n@ Bonnie Bylsma’s home in Knutsford \nContact Bonnie Bylsma for more information\,\nbonnie@kamloopsvineyard.com
URL:https://kamloopsvineyard.com/event/ladies-day-out-saturday-mar-11th-beginning-9-am/
LOCATION:British Columbia
CATEGORIES:Special Event,Women's Group
ATTACH;FMTTYPE=image/jpeg:https://kamloopsvineyard.com/wp-content/uploads/2023/03/BE2023_webevents@1000.jpeg
END:VEVENT
END:VCALENDAR