BEGIN:VCALENDAR
VERSION:2.0
PRODID:-//Kamloops Vineyard Church - ECPv6.15.16//NONSGML v1.0//EN
CALSCALE:GREGORIAN
METHOD:PUBLISH
X-ORIGINAL-URL:https://kamloopsvineyard.com
X-WR-CALDESC:Events for Kamloops Vineyard Church
REFRESH-INTERVAL;VALUE=DURATION:PT1H
X-Robots-Tag:noindex
X-PUBLISHED-TTL:PT1H
BEGIN:VTIMEZONE
TZID:America/Vancouver
BEGIN:DAYLIGHT
TZOFFSETFROM:-0800
TZOFFSETTO:-0700
TZNAME:PDT
DTSTART:20230312T100000
END:DAYLIGHT
BEGIN:STANDARD
TZOFFSETFROM:-0700
TZOFFSETTO:-0800
TZNAME:PST
DTSTART:20231105T090000
END:STANDARD
BEGIN:DAYLIGHT
TZOFFSETFROM:-0800
TZOFFSETTO:-0700
TZNAME:PDT
DTSTART:20240310T100000
END:DAYLIGHT
BEGIN:STANDARD
TZOFFSETFROM:-0700
TZOFFSETTO:-0800
TZNAME:PST
DTSTART:20241103T090000
END:STANDARD
BEGIN:DAYLIGHT
TZOFFSETFROM:-0800
TZOFFSETTO:-0700
TZNAME:PDT
DTSTART:20250309T100000
END:DAYLIGHT
BEGIN:STANDARD
TZOFFSETFROM:-0700
TZOFFSETTO:-0800
TZNAME:PST
DTSTART:20251102T090000
END:STANDARD
END:VTIMEZONE
BEGIN:VEVENT
DTSTART;VALUE=DATE:20240329
DTEND;VALUE=DATE:20240330
DTSTAMP:20260422T032538
CREATED:20240217T172529Z
LAST-MODIFIED:20240217T172529Z
UID:5929-1711670400-1711756799@kamloopsvineyard.com
SUMMARY:Good Friday Shared Worship Service. March 29th @ 10:30 am. (Free Methodist\, Lighthouse and Vineyard)
DESCRIPTION:Good Friday Shared Worship Service.\nMarch 29th @ 10:30 am with the Free Methodist\, Lighthouse and Vineyard Churches.\nVenue: The Kamloops Free Methodist Church (Brocklehurst) \nCome join us for a Good Friday Worship Service.\nInvite your family and friends.\nWorship. Prayer. Communion.
URL:https://kamloopsvineyard.com/event/good-friday-shared-worship-service-march-29th-1030-am-free-methodist-lighthouse-and-vineyard/
LOCATION:Kamloops Free Methodist Church\, 975 Windbreak St\, Kamloops\, BC\, V2B 5P5\, Canada
CATEGORIES:Good Friday,In-Person Worship Service,Special Event
ATTACH;FMTTYPE=image/jpeg:https://kamloopsvineyard.com/wp-content/uploads/2024/02/GoodFriday_2024@1000.jpeg
END:VEVENT
BEGIN:VEVENT
DTSTART;VALUE=DATE:20240331
DTEND;VALUE=DATE:20240401
DTSTAMP:20260422T032538
CREATED:20240217T173308Z
LAST-MODIFIED:20240217T173413Z
UID:5933-1711843200-1711929599@kamloopsvineyard.com
SUMMARY:Easter Sunday Morning. Shared Worship Service @ the Lighthouse. March 31st @ 10:30 am.
DESCRIPTION:Sunday March 31st @ 10:30 AM\nA Shared Easter Sunday Morning Worship Service\nThe Lighthouse and Vineyard Churches @ the Lighthouse\n\nOur partners in the joy of fellowship and in the work of ministry\, The Lighthouse Christian Fellowship\, have opened their doors to join them in a shared Worship Service. Debbie and I encourage you to join us in the worship and celebration of our RISEN SAVIOUR ‘KING JESUS’. \nThe Lighthouse Christian Fellowship (Worship Centre)\n702 Columbia St (Corner of 7th and Columbia)\nKamloops BC
URL:https://kamloopsvineyard.com/event/easter-sunday-morning-shared-worship-service-the-lighthouse-march-31st-1030-am/
LOCATION:Lighthouse Christian Fellowship\, 702 Columbia St\, Kamloops\, British Columbia\, V2C 2V4\, Canada
CATEGORIES:Special Event
ATTACH;FMTTYPE=image/jpeg:https://kamloopsvineyard.com/wp-content/uploads/2024/02/EasterSunday_2024@1000.jpeg
END:VEVENT
END:VCALENDAR