BEGIN:VCALENDAR
VERSION:2.0
PRODID:-//Kamloops Vineyard Church - ECPv6.15.16//NONSGML v1.0//EN
CALSCALE:GREGORIAN
METHOD:PUBLISH
X-ORIGINAL-URL:https://kamloopsvineyard.com
X-WR-CALDESC:Events for Kamloops Vineyard Church
REFRESH-INTERVAL;VALUE=DURATION:PT1H
X-Robots-Tag:noindex
X-PUBLISHED-TTL:PT1H
BEGIN:VTIMEZONE
TZID:America/Vancouver
BEGIN:DAYLIGHT
TZOFFSETFROM:-0800
TZOFFSETTO:-0700
TZNAME:PDT
DTSTART:20240310T100000
END:DAYLIGHT
BEGIN:STANDARD
TZOFFSETFROM:-0700
TZOFFSETTO:-0800
TZNAME:PST
DTSTART:20241103T090000
END:STANDARD
BEGIN:DAYLIGHT
TZOFFSETFROM:-0800
TZOFFSETTO:-0700
TZNAME:PDT
DTSTART:20250309T100000
END:DAYLIGHT
BEGIN:STANDARD
TZOFFSETFROM:-0700
TZOFFSETTO:-0800
TZNAME:PST
DTSTART:20251102T090000
END:STANDARD
BEGIN:DAYLIGHT
TZOFFSETFROM:-0800
TZOFFSETTO:-0700
TZNAME:PDT
DTSTART:20260308T100000
END:DAYLIGHT
BEGIN:STANDARD
TZOFFSETFROM:-0700
TZOFFSETTO:-0800
TZNAME:PST
DTSTART:20261101T090000
END:STANDARD
END:VTIMEZONE
BEGIN:VEVENT
DTSTART;VALUE=DATE:20250525
DTEND;VALUE=DATE:20250526
DTSTAMP:20260419T123139
CREATED:20250520T164249Z
LAST-MODIFIED:20250520T170328Z
UID:7447-1748131200-1748217599@kamloopsvineyard.com
SUMMARY:Treasures of God Children's Home. Building Fundraiser. (Southwest Community Church). Sunday March 25th @ 4:30 pm.
DESCRIPTION:Naomi Heye — “A generous friend of the ministry has given us a matching donation of up to $30\,000. on any donations towards the house\, until the end of June. This includes all money made at the fundraiser!!!! If we reach this full matching amount by the end of June… the house will be paid off!!!!”\n\nPlease buy your tickets in the next couple of days\, to help us ensure we have the right amount of food!\n\nEmail transfer your ticket cost to naomi.heye@gmail.com\, and Libby will then send your digital ticket for your entrance.\nTickets are $20 a person\, or $50 for a family.\nPlease help us take advantage of this incredible opportunity!\n\nVenue: Southwest Community Church\, 700 Hugh Allan Drive\, Kamloops\, BC  V1S 1N3
URL:https://kamloopsvineyard.com/event/treasures-of-god-childrens-home-building-fundraiser-southwest-community-church-sunday-march-25th-430-pm/
LOCATION:Southwest Community Church\, 700 Hugh Allan Dr\, Kamloops\, BC\, V1S 1N3\, Canada
CATEGORIES:Special Event
ATTACH;FMTTYPE=image/jpeg:https://kamloopsvineyard.com/wp-content/uploads/2025/05/TGCH2025@1000.jpeg
END:VEVENT
END:VCALENDAR