BEGIN:VCALENDAR
VERSION:2.0
PRODID:-//Kamloops Vineyard Church - ECPv6.15.16//NONSGML v1.0//EN
CALSCALE:GREGORIAN
METHOD:PUBLISH
X-ORIGINAL-URL:https://kamloopsvineyard.com
X-WR-CALDESC:Events for Kamloops Vineyard Church
REFRESH-INTERVAL;VALUE=DURATION:PT1H
X-Robots-Tag:noindex
X-PUBLISHED-TTL:PT1H
BEGIN:VTIMEZONE
TZID:America/Vancouver
BEGIN:DAYLIGHT
TZOFFSETFROM:-0800
TZOFFSETTO:-0700
TZNAME:PDT
DTSTART:20240310T100000
END:DAYLIGHT
BEGIN:STANDARD
TZOFFSETFROM:-0700
TZOFFSETTO:-0800
TZNAME:PST
DTSTART:20241103T090000
END:STANDARD
BEGIN:DAYLIGHT
TZOFFSETFROM:-0800
TZOFFSETTO:-0700
TZNAME:PDT
DTSTART:20250309T100000
END:DAYLIGHT
BEGIN:STANDARD
TZOFFSETFROM:-0700
TZOFFSETTO:-0800
TZNAME:PST
DTSTART:20251102T090000
END:STANDARD
BEGIN:DAYLIGHT
TZOFFSETFROM:-0800
TZOFFSETTO:-0700
TZNAME:PDT
DTSTART:20260308T100000
END:DAYLIGHT
BEGIN:STANDARD
TZOFFSETFROM:-0700
TZOFFSETTO:-0800
TZNAME:PST
DTSTART:20261101T090000
END:STANDARD
BEGIN:DAYLIGHT
TZOFFSETFROM:-0800
TZOFFSETTO:-0700
TZNAME:PDT
DTSTART:20270314T100000
END:DAYLIGHT
BEGIN:STANDARD
TZOFFSETFROM:-0700
TZOFFSETTO:-0800
TZNAME:PST
DTSTART:20271107T090000
END:STANDARD
END:VTIMEZONE
BEGIN:VEVENT
DTSTART;VALUE=DATE:20251126
DTEND;VALUE=DATE:20251129
DTSTAMP:20260422T154959
CREATED:20251107T212638Z
LAST-MODIFIED:20251107T212638Z
UID:7966-1764115200-1764374399@kamloopsvineyard.com
SUMMARY:Vineyard Canada National Online Gathering — ADVENT. November 26\, 27\, 28. 7 - 7:45 am PT
DESCRIPTION:National Online Gathering\nThree 45 minutes sessions.\nNovember 26\, 27\, 28th. \nWe will begin promptly at 7AM PT each morning We will begin promptly at 7AM PT each morning November 26\, 27\, & 28. \nFor three days leading up to Advent (November 26\, 27\, 28) we will be gathering again on zoom from coast to coast! You can expect a guided devotional time featuring worship\, liturgy\, the arts\, scripture\, and listening to the Holy Spirit together. \nemail the Kamloops Vineyard administration team to request ZOOM link information info@kamloopsvineyard.com. \nWe hope you can join us!
URL:https://kamloopsvineyard.com/event/vineyard-online-gathering-advent-2025/
LOCATION:ZOOM\, Canada
CATEGORIES:Prayer,Renewal,Special Event,Streaming LIVE,Streaming ONLINE,Video Conferencing,Vineyard Canada Gathering
ATTACH;FMTTYPE=image/png:https://kamloopsvineyard.com/wp-content/uploads/2025/11/VCAdvent2025@1080x1350.png
END:VEVENT
BEGIN:VEVENT
DTSTART;VALUE=DATE:20251205
DTEND;VALUE=DATE:20251206
DTSTAMP:20260422T154959
CREATED:20251107T164455Z
LAST-MODIFIED:20251107T164715Z
UID:6793-1764892800-1764979199@kamloopsvineyard.com
SUMMARY:Women's Christmas Party. Friday Evening Dec 5th @ the Klewegt's (Rose Hill)
DESCRIPTION:Hello women\, we’re super-excited to invite you to an evening of fun and celebration. Teresa Kleywegt is opening up her home to host a Women’s Christmas Party — An Evening of Celebration.\n\nWe’re likely to begin gathering @ 7 pm. That said\, a more formal announcement is coming. “If you want to attend or have any questions for us please reach out.’ email: info@kamloopsvineyard.com\n\n\n\nWe hope you can join us!\nDebbie and Teresa.
URL:https://kamloopsvineyard.com/event/kvc-womens-christmas-party-friday-evening-dec-5th/
LOCATION:Kleywegt’s Home\, 1422 Rose Hill Rd\, Kamloops\, BC\, V2E 1L4\, Canada
CATEGORIES:Informal,Ladies Night,Moms Group,Special Event,Women's Group
ATTACH;FMTTYPE=image/jpeg:https://kamloopsvineyard.com/wp-content/uploads/2025/11/Womens-Christmas-Gathering@1000.jpeg
END:VEVENT
BEGIN:VEVENT
DTSTART;VALUE=DATE:20260315
DTEND;VALUE=DATE:20260316
DTSTAMP:20260422T154959
CREATED:20260219T222843Z
LAST-MODIFIED:20260310T215855Z
UID:8200-1773532800-1773619199@kamloopsvineyard.com
SUMMARY:Two Services (Morning and Evening). The Vineyard and Lighthouse welcomes Welshman Morgan (Varth). Sunday March 15th @ 10:30 am and again @ 6:30 pm.
DESCRIPTION:Hello everyone — you’re all invited! \nGod’s love and mercy know no bounds. Do you have friends or family sitting on the fence in their relationship with Christ — maybe even openly resistant to the idea that there is a God who truly cares for them? Then you won’t want to miss bringing them to this very special Sunday morning gathering. \n“Through many troubles\, toils and snares\, I have already come…”\nOn Sunday\, March 15th\, we won’t be meeting in homes. Instead\, we’ll be joining our dear friends at the Lighthouse on Columbia and 7th Ave. \nWe’re thrilled to welcome a longtime friend of the Vineyard and the Tombe family\, Morgan Ap Fardd (Varth)\, a Welsh-born man whose heart was won over to the Lord deep in the wilds of Knights Inlet\, fresh from his descent from Mount Waddington and his reading of God’s Word. That was on October 25\, 1993 and in the midst of a special season and move of God’s Spirit on Vancouver Island. \nThat first year of the “Welshman’s” new life (1994) was formative — not only for Morgan\, but for many friends and believers in Campbell River. From the day of his conversion\, God set him on a path from which he has never turned back. With wholehearted devotion\, Morgan has given himself to studying\, loving\, and serving the Lord throughout the Western Hemisphere. \nMore than anything\, Morgan loves Jesus and delights in sharing the Good News of God’s love and salvation. \nDoors open early. The services begin @ 10:30 am and again @ 6:30 pm. The evening service will present with a deeper testimony of Morgan’s life and journey into the Christian faith. Come one\, come all. Bring your family and friends. \nWe would love to see you there. \nThe Lighthouse Christian Fellowship\n702 Columbia Street\nKamloops BC V2C 2V4 \nIf you have any questions please reach out to David or Debbie\, info@kamloopsvineyard.com\, 250-202-5686.
URL:https://kamloopsvineyard.com/event/special-joint-service-gathering-the-vineyard-the-lighthouse-sunday-march-15th-1030-am/
LOCATION:Lighthouse Christian Fellowship\, 702 Columbia St\, Kamloops\, British Columbia\, V2C 2V4\, Canada
CATEGORIES:Media,Missions,Special Event,Sunday In-Person Family Service,Sunday In-Person Worship,Worship
ATTACH;FMTTYPE=image/jpeg:https://kamloopsvineyard.com/wp-content/uploads/2026/02/LighthouseVineyard_Mar2026address@1000.jpeg
END:VEVENT
END:VCALENDAR