BEGIN:VCALENDAR
VERSION:2.0
PRODID:-//Kamloops Vineyard Church - ECPv6.15.16//NONSGML v1.0//EN
CALSCALE:GREGORIAN
METHOD:PUBLISH
X-WR-CALNAME:Kamloops Vineyard Church
X-ORIGINAL-URL:https://kamloopsvineyard.com
X-WR-CALDESC:Events for Kamloops Vineyard Church
REFRESH-INTERVAL;VALUE=DURATION:PT1H
X-Robots-Tag:noindex
X-PUBLISHED-TTL:PT1H
BEGIN:VTIMEZONE
TZID:America/Vancouver
BEGIN:DAYLIGHT
TZOFFSETFROM:-0800
TZOFFSETTO:-0700
TZNAME:PDT
DTSTART:20200308T100000
END:DAYLIGHT
BEGIN:STANDARD
TZOFFSETFROM:-0700
TZOFFSETTO:-0800
TZNAME:PST
DTSTART:20201101T090000
END:STANDARD
BEGIN:DAYLIGHT
TZOFFSETFROM:-0800
TZOFFSETTO:-0700
TZNAME:PDT
DTSTART:20210314T100000
END:DAYLIGHT
BEGIN:STANDARD
TZOFFSETFROM:-0700
TZOFFSETTO:-0800
TZNAME:PST
DTSTART:20211107T090000
END:STANDARD
BEGIN:DAYLIGHT
TZOFFSETFROM:-0800
TZOFFSETTO:-0700
TZNAME:PDT
DTSTART:20220313T100000
END:DAYLIGHT
BEGIN:STANDARD
TZOFFSETFROM:-0700
TZOFFSETTO:-0800
TZNAME:PST
DTSTART:20221106T090000
END:STANDARD
END:VTIMEZONE
BEGIN:VEVENT
DTSTART;VALUE=DATE:20210820
DTEND;VALUE=DATE:20210823
DTSTAMP:20260419T052928
CREATED:20210609T030409Z
LAST-MODIFIED:20210811T231117Z
UID:2591-1629417600-1629676799@kamloopsvineyard.com
SUMMARY:Let's Go Camping @ Herald Provincial Park. August 20th\, 21st and 22nd.
DESCRIPTION:Hello Vineyard Family\, \nConsider joining us for camping @ Herald Provincial Park.\nFriday Aug 20th\, Saturday Aug 21st\, and Sunday Aug 22nd. \nWe’re spending a low-key weekend camping at Herald Provincial Park — walking the trails\, swimming on the beaches\, enjoying fire-side fellowship and inviting our kids to expend their energies on the park’s recreational playground. It’s simply a great place to connect and to rest. \nJoin us for two nights or join us through the day. \nOur plan is to cancel the SUNDAY’S WORSHIP SERVICE\, August 22nd. In its’ place we are going to fellowship and celebrate late SATURDAY AFTERNOON and EARLY EVENING @ Herald Provincial Park. Grateful to simply gather\, together we’ll share a picnic meal\, join in on a fire-side harmony of music (worship) and consider any opportunity to complement our time together. Maybe you just want to visit us for the day? More information will be forthcoming closer to the date. \nIMPORTANT: IF you’re camping please reserve your campsite in advance! You can begin booking for your site as early as SUNDAY JUNE 20th. \nhttps://bcparks.ca/explore/parkpgs/herald/ \n 
URL:https://kamloopsvineyard.com/event/lets-go-camping-harold-provincial-park/
LOCATION:Herald Provincial Park\, 4861 Sunnybrae-Canoe Point Rd\, Tappen\, British Colmbia\, V0E 2X1\, Canada
CATEGORIES:Outdoor Service,Special Event,Vineyard Outdoors
ATTACH;FMTTYPE=image/jpeg:https://kamloopsvineyard.com/wp-content/uploads/2021/06/Letsgocamping2021@1000.jpeg
END:VEVENT
BEGIN:VEVENT
DTSTART;TZID=America/Vancouver:20210404T100000
DTEND;TZID=America/Vancouver:20210404T120000
DTSTAMP:20260419T052928
CREATED:20210323T211506Z
LAST-MODIFIED:20210402T230030Z
UID:2255-1617530400-1617537600@kamloopsvineyard.com
SUMMARY:Easter Sunday 'Road to Emmaus'. 10am - 12 noon.
DESCRIPTION:Sunday Morning Outdoor Service April 4th\nSmall Group Journeys begins @ 10am. \nWe’re gathering to celebrate JESUS’ resurrection by exploring the story of the two disciples on the ‘Road to Emmaus’. We’ll be pausing at various “viewpoints” along the Bylsma’s acreage and access road\, culminating in worship\, celebration and prayer atop the drive. The morning will include other elements such as outdoor family crafts and activities. \nWe are limited to an outdoor gathering of ‘not more than 52 people’ \nWe will be staggering starting times for participants. A targeted email will be sent out Saturday afternoon to confirm your time to begin the journey. We have reached capacity. ANY new requests to attend will be put on standby. \nThank you for the grace afforded to our hosts\, administrative team\nand the many members who make this event possible. \nHave you got any questions? Please contact us.\nadmin@kamloopsvineyard.com or call us at 250-828-1690. \nWhat should you bring?\nContract tracing is required. Names and contact information will be taken from you at the event. Masks are mandatory.* Bring a personal face covering. IF you don’t have one with you\, one will be supplied to you. Dress warm. Bring along a personal beverage to keep yourself hydrated. \nHow do we navigate our social interactions?\nWe are inviting families and individuals to remain in small groupings (please follow the links to the government highlighted COVID restrictions noted below). \nWhere a mask\, unless you are otherwise consuming a beverage. Practice good hygiene and exercise diligent safe (2m) distancing with people who aren’t members of your Inside Bubble. Stay at home if you or anyone from your household is experiencing cold or flu-like symptoms. \nSpecial Cautionary Notice \nAll seniors and those with underlying medical conditions or compromised immune systems\, are cautioned to consider their personal risk before attending (this includes any persons 70 years of age or older\, even if they have been immunized against COVID-19). \n_______ \nTo read an abbreviated capture of the BC Health Order’s\nguidelines for gathering please click here. \nFor a detailed guideline of the BC Health Order to hold\nOutdoor Worship Services please click here.
URL:https://kamloopsvineyard.com/event/easter-sunday-road-to-emmaus-10am-12-noon/
LOCATION:Bylsma’s Home\, 2650 Long Lake Rd\, Kamloops\, BC\, Canada
CATEGORIES:Special Event
ATTACH;FMTTYPE=image/jpeg:https://kamloopsvineyard.com/wp-content/uploads/2021/03/RoadtoEmmaus2021@1000.jpeg
END:VEVENT
END:VCALENDAR