BEGIN:VCALENDAR
VERSION:2.0
PRODID:-//Kamloops Vineyard Church - ECPv6.15.16//NONSGML v1.0//EN
CALSCALE:GREGORIAN
METHOD:PUBLISH
X-WR-CALNAME:Kamloops Vineyard Church
X-ORIGINAL-URL:https://kamloopsvineyard.com
X-WR-CALDESC:Events for Kamloops Vineyard Church
REFRESH-INTERVAL;VALUE=DURATION:PT1H
X-Robots-Tag:noindex
X-PUBLISHED-TTL:PT1H
BEGIN:VTIMEZONE
TZID:America/Vancouver
BEGIN:DAYLIGHT
TZOFFSETFROM:-0800
TZOFFSETTO:-0700
TZNAME:PDT
DTSTART:20210314T100000
END:DAYLIGHT
BEGIN:STANDARD
TZOFFSETFROM:-0700
TZOFFSETTO:-0800
TZNAME:PST
DTSTART:20211107T090000
END:STANDARD
BEGIN:DAYLIGHT
TZOFFSETFROM:-0800
TZOFFSETTO:-0700
TZNAME:PDT
DTSTART:20220313T100000
END:DAYLIGHT
BEGIN:STANDARD
TZOFFSETFROM:-0700
TZOFFSETTO:-0800
TZNAME:PST
DTSTART:20221106T090000
END:STANDARD
BEGIN:DAYLIGHT
TZOFFSETFROM:-0800
TZOFFSETTO:-0700
TZNAME:PDT
DTSTART:20230312T100000
END:DAYLIGHT
BEGIN:STANDARD
TZOFFSETFROM:-0700
TZOFFSETTO:-0800
TZNAME:PST
DTSTART:20231105T090000
END:STANDARD
END:VTIMEZONE
BEGIN:VEVENT
DTSTART;VALUE=DATE:20220306
DTEND;VALUE=DATE:20220307
DTSTAMP:20260424T091301
CREATED:20220217T225402Z
LAST-MODIFIED:20220217T225450Z
UID:3410-1646524800-1646611199@kamloopsvineyard.com
SUMMARY:NO Sunday Worship Service. March 6th @ 2 pm.
DESCRIPTION:There is NO SUNDAY WORSHIP SERVICE @ Gateway City Church.\nBut we are meeting in homes across our city.\nSee [VHF] Vineyard House Fellowship in our events calendar. \nFor more information please contact Vineyard Administration. \ninfo@kamloopsvineyard.com\n250-828-1690.
URL:https://kamloopsvineyard.com/event/no-sunday-worship-service-march-6th-2-pm/
CATEGORIES:Special Event,Streaming LIVE,Sunday In-Person Worship
ATTACH;FMTTYPE=image/jpeg:https://kamloopsvineyard.com/wp-content/uploads/2022/02/NoService@1000.jpg
END:VEVENT
BEGIN:VEVENT
DTSTART;VALUE=DATE:20220313
DTEND;VALUE=DATE:20220314
DTSTAMP:20260424T091301
CREATED:20220217T201453Z
LAST-MODIFIED:20220217T201453Z
UID:3382-1647129600-1647215999@kamloopsvineyard.com
SUMMARY:Sunday Worship Service. March 13th @ 2 pm.
DESCRIPTION:Join us Sunday March 13th @ 2 pm.\nGateway City Church\, Valleyview. \nFollowing corporate worship the children break out for Kids’ Church on the 2nd and 4th Sundays of every month. \nWe’re Streaming LIVE\nIF you can’t meet with us in-person\, join us ONLINE.\nFacebook Public\nFacebook Group\nYouTube \nMany hands help lighten the workload. We’re looking for people to help with setup\, takedown\, cleanup\, greeting. Please contact Connie Smith and Debbie Tombe to find out how you can help serve. Please email\, info@kamloopsvineyard.com or call the office at 250-828-1690. \nEven though the BC Health Ministry has begun easing restrictions in our province\, current mandates remain in place\, orders that require people attending to wear facemasks for in-person gathering.* (see note on exemptions) \nAnd finally\, IF you or anyone from your household is experiencing cold\nor flu-like symptoms you are encouraged to remain at home. \n\n* Masks are required but can be temporarily removed for ceremonial eating and drinking\, and by all officiants speaking\, reading or leading song and where physical distancing is observed. Exemptions include; eating\, drinking (inclusive of religious meals or ceremony)\,  people with health conditions or with physical\, cognitive or mental impairments\, children under the age of 5 and in situations where individuals are trying to communicate more clearly with people who have hearing impairment.
URL:https://kamloopsvineyard.com/event/sunday-worship-service-march-13th-2-pm/
CATEGORIES:Special Event,Streaming LIVE,Sunday In-Person Worship
ATTACH;FMTTYPE=image/jpeg:https://kamloopsvineyard.com/wp-content/uploads/2021/10/SundayWorship@1000.jpeg
END:VEVENT
BEGIN:VEVENT
DTSTART;VALUE=DATE:20220320
DTEND;VALUE=DATE:20220321
DTSTAMP:20260424T091301
CREATED:20220217T202210Z
LAST-MODIFIED:20220217T202249Z
UID:3386-1647734400-1647820799@kamloopsvineyard.com
SUMMARY:Sunday Worship Service. March 20th @ 2 pm.
DESCRIPTION:Join us this THIRD Sunday March 20th @ 2pm\nGateway City Church\, Valleyview. \nWe’re creating an open area for kids to move about and shifting our services for young families to participate through the entire service. \nWe’re Streaming LIVE\nIF you can’t meet with us in-person\, join us ONLINE.\nFacebook Public\nFacebook Group\nYouTube \nMany hands help lighten the workload. We’re looking for people to help with setup\, takedown\, cleanup\, greeting. Please contact Connie Smith and Debbie Tombe to find out how you can help serve. Please email\, info@kamloopsvineyard.com or call the office at 250-828-1690. \nEven though the BC Health Ministry has begun easing restrictions in our province\, current mandates remain in place\, orders that require people attending to wear facemasks for in-person gathering.* (see note on exemptions) \nAnd finally\, IF you or anyone from your household is experiencing cold\nor flu-like symptoms you are encouraged to remain at home. \n\n* Masks are required but can be temporarily removed for ceremonial eating and drinking\, and by all officiants speaking\, reading or leading song and where physical distancing is observed. Exemptions include; eating\, drinking (inclusive of religious meals or ceremony)\,  people with health conditions or with physical\, cognitive or mental impairments\, children under the age of 5 and in situations where individuals are trying to communicate more clearly with people who have hearing impairment.
URL:https://kamloopsvineyard.com/event/sunday-worship-service-march-20th-2-pm/
CATEGORIES:Special Event,Streaming LIVE,Sunday In-Person Worship
ATTACH;FMTTYPE=image/jpeg:https://kamloopsvineyard.com/wp-content/uploads/2021/10/SundayWorship@1000.jpeg
END:VEVENT
BEGIN:VEVENT
DTSTART;VALUE=DATE:20220327
DTEND;VALUE=DATE:20220328
DTSTAMP:20260424T091301
CREATED:20220217T201725Z
LAST-MODIFIED:20220217T201725Z
UID:3384-1648339200-1648425599@kamloopsvineyard.com
SUMMARY:Sunday Worship Service. March 27th @ 2 pm.
DESCRIPTION:Join us Sunday March 27th @ 2 pm.\nGateway City Church\, Valleyview. \nFollowing corporate worship the children break out for Kids’ Church on the 2nd and 4th Sundays of every month. \nWe’re Streaming LIVE\nIF you can’t meet with us in-person\, join us ONLINE.\nFacebook Public\nFacebook Group\nYouTube \nMany hands help lighten the workload. We’re looking for people to help with setup\, takedown\, cleanup\, greeting. Please contact Connie Smith and Debbie Tombe to find out how you can help serve. Please email\, info@kamloopsvineyard.com or call the office at 250-828-1690. \nEven though the BC Health Ministry has begun easing restrictions in our province\, current mandates remain in place\, orders that require people attending to wear facemasks for in-person gathering.* (see note on exemptions) \nAnd finally\, IF you or anyone from your household is experiencing cold\nor flu-like symptoms you are encouraged to remain at home. \n\n* Masks are required but can be temporarily removed for ceremonial eating and drinking\, and by all officiants speaking\, reading or leading song and where physical distancing is observed. Exemptions include; eating\, drinking (inclusive of religious meals or ceremony)\,  people with health conditions or with physical\, cognitive or mental impairments\, children under the age of 5 and in situations where individuals are trying to communicate more clearly with people who have hearing impairment.
URL:https://kamloopsvineyard.com/event/sunday-worship-service-march-27th-2-pm/
CATEGORIES:Special Event,Streaming LIVE,Sunday In-Person Worship
ATTACH;FMTTYPE=image/jpeg:https://kamloopsvineyard.com/wp-content/uploads/2021/10/SundayWorship@1000.jpeg
END:VEVENT
END:VCALENDAR