BEGIN:VCALENDAR
VERSION:2.0
PRODID:-//Kamloops Vineyard Church - ECPv6.15.16//NONSGML v1.0//EN
CALSCALE:GREGORIAN
METHOD:PUBLISH
X-ORIGINAL-URL:https://kamloopsvineyard.com
X-WR-CALDESC:Events for Kamloops Vineyard Church
REFRESH-INTERVAL;VALUE=DURATION:PT1H
X-Robots-Tag:noindex
X-PUBLISHED-TTL:PT1H
BEGIN:VTIMEZONE
TZID:America/Vancouver
BEGIN:DAYLIGHT
TZOFFSETFROM:-0800
TZOFFSETTO:-0700
TZNAME:PDT
DTSTART:20210314T100000
END:DAYLIGHT
BEGIN:STANDARD
TZOFFSETFROM:-0700
TZOFFSETTO:-0800
TZNAME:PST
DTSTART:20211107T090000
END:STANDARD
BEGIN:DAYLIGHT
TZOFFSETFROM:-0800
TZOFFSETTO:-0700
TZNAME:PDT
DTSTART:20220313T100000
END:DAYLIGHT
BEGIN:STANDARD
TZOFFSETFROM:-0700
TZOFFSETTO:-0800
TZNAME:PST
DTSTART:20221106T090000
END:STANDARD
BEGIN:DAYLIGHT
TZOFFSETFROM:-0800
TZOFFSETTO:-0700
TZNAME:PDT
DTSTART:20230312T100000
END:DAYLIGHT
BEGIN:STANDARD
TZOFFSETFROM:-0700
TZOFFSETTO:-0800
TZNAME:PST
DTSTART:20231105T090000
END:STANDARD
END:VTIMEZONE
BEGIN:VEVENT
DTSTART;VALUE=DATE:20220501
DTEND;VALUE=DATE:20220502
DTSTAMP:20260424T051507
CREATED:20220417T155841Z
LAST-MODIFIED:20220417T155841Z
UID:3541-1651363200-1651449599@kamloopsvineyard.com
SUMMARY:Sunday Worship Service. May 1st @ 2 pm.
DESCRIPTION:Join us Sunday May 1st @ 2 pm.\nGateway City Church\, Valleyview. \nFollowing corporate worship the children break out for Kids’ Church on the 2nd and 4th Sundays of every month. \nWe’re Streaming LIVE\nIF you can’t meet with us in-person\, join us ONLINE.\nFacebook Public\nFacebook Group\nYouTube \nMany hands help lighten the workload. We’re looking for people to help with setup\, takedown\, cleanup\, greeting. Please contact Connie Smith and Debbie Tombe to find out how you can help serve. Please email\, info@kamloopsvineyard.com or call the office at 250-828-1690.
URL:https://kamloopsvineyard.com/event/sunday-worship-service-may-1st-2-pm/
CATEGORIES:Streaming LIVE,Sunday In-Person Worship
ATTACH;FMTTYPE=image/jpeg:https://kamloopsvineyard.com/wp-content/uploads/2021/10/SundayWorship@1000.jpeg
END:VEVENT
BEGIN:VEVENT
DTSTART;VALUE=DATE:20220508
DTEND;VALUE=DATE:20220509
DTSTAMP:20260424T051507
CREATED:20220427T214118Z
LAST-MODIFIED:20220427T214251Z
UID:3583-1651968000-1652054399@kamloopsvineyard.com
SUMMARY:Sunday Worship Service. May 8th @ 2 pm.
DESCRIPTION:Join us Sunday May 8th @ 2 pm.\nGateway City Church\, Valleyview. \nFollowing corporate worship the children break out for Kids’ Church on the 2nd and 4th Sundays of every month. \nWe’re Streaming LIVE\nIF you can’t meet with us in-person\, join us ONLINE.\nFacebook Public\nFacebook Group\nYouTube \nMany hands help lighten the workload. We’re looking for people to help with setup\, takedown\, cleanup\, greeting. Please contact Connie Smith and Debbie Tombe to find out how you can help serve. Please email\, info@kamloopsvineyard.com or call the office at 250-828-1690.
URL:https://kamloopsvineyard.com/event/sunday-worship-service-may-8th-2-pm/
CATEGORIES:In-Person Worship Service,Streaming LIVE,Sunday In-Person Worship
ATTACH;FMTTYPE=image/jpeg:https://kamloopsvineyard.com/wp-content/uploads/2021/10/SundayWorship@1000.jpeg
END:VEVENT
BEGIN:VEVENT
DTSTART;VALUE=DATE:20220522
DTEND;VALUE=DATE:20220523
DTSTAMP:20260424T051507
CREATED:20220427T214346Z
LAST-MODIFIED:20220427T214420Z
UID:3585-1653177600-1653263999@kamloopsvineyard.com
SUMMARY:Sunday Worship Service. May 22nd @ 2 pm.
DESCRIPTION:Join us Sunday May 22nd @ 2 pm.\nGateway City Church\, Valleyview. \nFollowing corporate worship the children break out for Kids’ Church on the 2nd and 4th Sundays of every month. \nWe’re Streaming LIVE\nIF you can’t meet with us in-person\, join us ONLINE.\nFacebook Public\nFacebook Group\nYouTube \nMany hands help lighten the workload. We’re looking for people to help with setup\, takedown\, cleanup\, greeting. Please contact Connie Smith and Debbie Tombe to find out how you can help serve. Please email\, info@kamloopsvineyard.com or call the office at 250-828-1690.
URL:https://kamloopsvineyard.com/event/sunday-worship-service-may-15th-2-pm/
CATEGORIES:In-Person Worship Service,Streaming LIVE,Sunday In-Person Worship
ATTACH;FMTTYPE=image/jpeg:https://kamloopsvineyard.com/wp-content/uploads/2021/10/SundayWorship@1000.jpeg
END:VEVENT
BEGIN:VEVENT
DTSTART;VALUE=DATE:20220529
DTEND;VALUE=DATE:20220530
DTSTAMP:20260424T051507
CREATED:20220427T214524Z
LAST-MODIFIED:20220427T214524Z
UID:3588-1653782400-1653868799@kamloopsvineyard.com
SUMMARY:Sunday Worship Service. May 29th @ 2 pm.
DESCRIPTION:Join us Sunday May 29th @ 2 pm.\nGateway City Church\, Valleyview. \nFollowing corporate worship the children break out for Kids’ Church on the 2nd and 4th Sundays of every month. \nWe’re Streaming LIVE\nIF you can’t meet with us in-person\, join us ONLINE.\nFacebook Public\nFacebook Group\nYouTube \nMany hands help lighten the workload. We’re looking for people to help with setup\, takedown\, cleanup\, greeting. Please contact Connie Smith and Debbie Tombe to find out how you can help serve. Please email\, info@kamloopsvineyard.com or call the office at 250-828-1690.
URL:https://kamloopsvineyard.com/event/sunday-worship-service-may-29th-2-pm/
CATEGORIES:In-Person Worship Service,Streaming LIVE,Sunday In-Person Worship
ATTACH;FMTTYPE=image/jpeg:https://kamloopsvineyard.com/wp-content/uploads/2021/10/SundayWorship@1000.jpeg
END:VEVENT
END:VCALENDAR