BEGIN:VCALENDAR
VERSION:2.0
PRODID:-//Kamloops Vineyard Church - ECPv6.15.16//NONSGML v1.0//EN
CALSCALE:GREGORIAN
METHOD:PUBLISH
X-WR-CALNAME:Kamloops Vineyard Church
X-ORIGINAL-URL:https://kamloopsvineyard.com
X-WR-CALDESC:Events for Kamloops Vineyard Church
REFRESH-INTERVAL;VALUE=DURATION:PT1H
X-Robots-Tag:noindex
X-PUBLISHED-TTL:PT1H
BEGIN:VTIMEZONE
TZID:America/Vancouver
BEGIN:DAYLIGHT
TZOFFSETFROM:-0800
TZOFFSETTO:-0700
TZNAME:PDT
DTSTART:20210314T100000
END:DAYLIGHT
BEGIN:STANDARD
TZOFFSETFROM:-0700
TZOFFSETTO:-0800
TZNAME:PST
DTSTART:20211107T090000
END:STANDARD
BEGIN:DAYLIGHT
TZOFFSETFROM:-0800
TZOFFSETTO:-0700
TZNAME:PDT
DTSTART:20220313T100000
END:DAYLIGHT
BEGIN:STANDARD
TZOFFSETFROM:-0700
TZOFFSETTO:-0800
TZNAME:PST
DTSTART:20221106T090000
END:STANDARD
BEGIN:DAYLIGHT
TZOFFSETFROM:-0800
TZOFFSETTO:-0700
TZNAME:PDT
DTSTART:20230312T100000
END:DAYLIGHT
BEGIN:STANDARD
TZOFFSETFROM:-0700
TZOFFSETTO:-0800
TZNAME:PST
DTSTART:20231105T090000
END:STANDARD
END:VTIMEZONE
BEGIN:VEVENT
DTSTART;VALUE=DATE:20220703
DTEND;VALUE=DATE:20220704
DTSTAMP:20260424T004558
CREATED:20220628T232458Z
LAST-MODIFIED:20220628T232954Z
UID:3727-1656806400-1656892799@kamloopsvineyard.com
SUMMARY:Sunday Worship Service. July 3rd @ 2 pm. (Communion Sunday)
DESCRIPTION:Join us Sunday July 3rd @ 2 pm.\nGateway City Church\, Valleyview.\nSummer operations are officially in motion. Kids play and worship area will be prepared in the sanctuary. Activity Bags will be offered for every child. Parents will be responsible to supervise their children on the first and fifth Sundays in July (the 3rd and 31st). \nWE’re Streaming LIVE\nIF you can’t meet with us in-person\, join us ONLINE.\nFacebook Public\nFacebook Group\nYouTube \nMany hands help lighten the workload. We’re looking for people to help with setup\, takedown\, cleanup\, greeting. Please contact Connie Smith and Debbie Tombe to find out how you can help serve. Please email\, info@kamloopsvineyard.com or call the office at 250-828-1690.
URL:https://kamloopsvineyard.com/event/sunday-worship-service-july-3rd-2-pm-communion-sunday/
CATEGORIES:In-Person Worship Service,Streaming LIVE,Sunday In-Person Worship
ATTACH;FMTTYPE=image/jpeg:https://kamloopsvineyard.com/wp-content/uploads/2022/06/WorshipCommunion_001@1000.jpeg
END:VEVENT
BEGIN:VEVENT
DTSTART;VALUE=DATE:20220710
DTEND;VALUE=DATE:20220711
DTSTAMP:20260424T004558
CREATED:20220630T180514Z
LAST-MODIFIED:20220630T180604Z
UID:3736-1657411200-1657497599@kamloopsvineyard.com
SUMMARY:Sunday Worship Service. July 10th @ 2 pm.
DESCRIPTION:Join us Sunday July 10th @ 2 pm.\nGateway City Church\, Valleyview. \nKids activity area and Kids Activity Bags will be made available to parents throughout the Summer months. \nWe’re Streaming LIVE\nIF you can’t meet with us in-person\, join us ONLINE.\nFacebook Public\nFacebook Group\nYouTube \nMany hands help lighten the workload. We’re looking for people to help with setup\, takedown\, cleanup\, greeting. Please contact Connie Smith and Debbie Tombe to find out how you can help serve. Please email\, info@kamloopsvineyard.com or call the office at 250-828-1690.
URL:https://kamloopsvineyard.com/event/sunday-worship-service-july-10th-2-pm/
CATEGORIES:In-Person Worship Service,Streaming LIVE,Sunday In-Person Worship
ATTACH;FMTTYPE=image/jpeg:https://kamloopsvineyard.com/wp-content/uploads/2021/10/SundayWorship@1000.jpeg
END:VEVENT
BEGIN:VEVENT
DTSTART;VALUE=DATE:20220724
DTEND;VALUE=DATE:20220725
DTSTAMP:20260424T004558
CREATED:20220630T180750Z
LAST-MODIFIED:20220630T180750Z
UID:3738-1658620800-1658707199@kamloopsvineyard.com
SUMMARY:Sunday Worship Service. July 24th @ 2 pm.
DESCRIPTION:Join us Sunday July 24th @ 2 pm.\nGateway City Church\, Valleyview. \nKids activity area and Kids Activity Bags will be made available to parents throughout the Summer months. \nWe’re Streaming LIVE\nIF you can’t meet with us in-person\, join us ONLINE.\nFacebook Public\nFacebook Group\nYouTube \nMany hands help lighten the workload. We’re looking for people to help with setup\, takedown\, cleanup\, greeting. Please contact Connie Smith and Debbie Tombe to find out how you can help serve. Please email\, info@kamloopsvineyard.com or call the office at 250-828-1690.
URL:https://kamloopsvineyard.com/event/sunday-worship-service-july-24th-2-pm/
CATEGORIES:In-Person Worship Service,Streaming LIVE,Sunday In-Person Worship
ATTACH;FMTTYPE=image/jpeg:https://kamloopsvineyard.com/wp-content/uploads/2021/10/SundayWorship@1000.jpeg
END:VEVENT
BEGIN:VEVENT
DTSTART;VALUE=DATE:20220731
DTEND;VALUE=DATE:20220801
DTSTAMP:20260424T004558
CREATED:20220630T181101Z
LAST-MODIFIED:20220630T181101Z
UID:3740-1659225600-1659311999@kamloopsvineyard.com
SUMMARY:Sunday Worship Service. July 31st @ 2 pm.
DESCRIPTION:Join us Sunday July 31st @ 2 pm.\nGateway City Church\, Valleyview. \nKids activity area and Kids Activity Bags will be made available to parents throughout the Summer months. \nWe’re Streaming LIVE\nIF you can’t meet with us in-person\, join us ONLINE.\nFacebook Public\nFacebook Group\nYouTube \nMany hands help lighten the workload. We’re looking for people to help with setup\, takedown\, cleanup\, greeting. Please contact Connie Smith and Debbie Tombe to find out how you can help serve. Please email\, info@kamloopsvineyard.com or call the office at 250-828-1690.
URL:https://kamloopsvineyard.com/event/sunday-worship-service-july-31st-2-pm/
CATEGORIES:In-Person Worship Service,Streaming LIVE,Sunday In-Person Worship
ATTACH;FMTTYPE=image/jpeg:https://kamloopsvineyard.com/wp-content/uploads/2021/10/SundayWorship@1000.jpeg
END:VEVENT
END:VCALENDAR