BEGIN:VCALENDAR
VERSION:2.0
PRODID:-//Kamloops Vineyard Church - ECPv6.15.16//NONSGML v1.0//EN
CALSCALE:GREGORIAN
METHOD:PUBLISH
X-ORIGINAL-URL:https://kamloopsvineyard.com
X-WR-CALDESC:Events for Kamloops Vineyard Church
REFRESH-INTERVAL;VALUE=DURATION:PT1H
X-Robots-Tag:noindex
X-PUBLISHED-TTL:PT1H
BEGIN:VTIMEZONE
TZID:America/Vancouver
BEGIN:DAYLIGHT
TZOFFSETFROM:-0800
TZOFFSETTO:-0700
TZNAME:PDT
DTSTART:20200308T100000
END:DAYLIGHT
BEGIN:STANDARD
TZOFFSETFROM:-0700
TZOFFSETTO:-0800
TZNAME:PST
DTSTART:20201101T090000
END:STANDARD
BEGIN:DAYLIGHT
TZOFFSETFROM:-0800
TZOFFSETTO:-0700
TZNAME:PDT
DTSTART:20210314T100000
END:DAYLIGHT
BEGIN:STANDARD
TZOFFSETFROM:-0700
TZOFFSETTO:-0800
TZNAME:PST
DTSTART:20211107T090000
END:STANDARD
BEGIN:DAYLIGHT
TZOFFSETFROM:-0800
TZOFFSETTO:-0700
TZNAME:PDT
DTSTART:20220313T100000
END:DAYLIGHT
BEGIN:STANDARD
TZOFFSETFROM:-0700
TZOFFSETTO:-0800
TZNAME:PST
DTSTART:20221106T090000
END:STANDARD
END:VTIMEZONE
BEGIN:VEVENT
DTSTART;TZID=America/Vancouver:20210919T100000
DTEND;TZID=America/Vancouver:20210919T233000
DTSTAMP:20260419T142600
CREATED:20210901T234142Z
LAST-MODIFIED:20210911T172053Z
UID:2850-1632045600-1632094200@kamloopsvineyard.com
SUMMARY:Sunday In-Person Worship Service @ the REX Hall. Sept 19th @ 10 am.
DESCRIPTION:Everyone welcome! For two weeks\, Sunday Sept 12th and Sunday Sept 19th\, beginning @ 10 am\, we are gathering at the REX Hall. Corner of 4th and Seymour in Downtown Kamloops. \nWhat is it going to look like? Hopefully it’ll present as an encouraging gathering of the faithful\, a worshipful\, prayerful\, reflective and celebrative connection of people with one another and with God. Doing what we can\, to offer a little something for everyone; engagement that’ll include the children in our worship\, the celebration of the Eucharist (LORDS Supper)\, prayer and children’s activity tables (something to keep them occupied when things are feeling just a little distracting). \nWe’re Streaming LIVE\nIF you can’t meet with us in-person\, join us ONLINE.\nFacebook Public\nFacebook Group\nYouTube \n__________________________ \nMany hands help lighten the workload. We’re looking for people to help with setup\, takedown\, cleanup\, greeting. Please contact Connie Smith and Debbie Tombe to find out how you can help serve. Please email\, info@kamloopsvineyard.com or call the office at 250-828-1690. \n__________________________ \nThe BC Health Ministry specifically exempts the church in the following: \n“All worship services (and receptions following services) are exempt from the mask mandate and the requirement for proof of vaccination. In addition\, any public meetings held in faith-based settings that have a worship component such as youth groups and pastor meetings or essential services like NA/AA group meetings\, warming and cooling centres\, or providing food to people in need\, are also exempt from the mask mandate and proof of vaccination requirement.” \nUnder such exemptions the VINEYARD will not be mandating mask requirements beyond the entry into our worship space\, or require proof of vaccination. However\, we do urge all participants to be respectful of people wearing masks and trying to exercise social distancing constraints. Ask for permission to approach another person inside 2 meters. Be respectful of one another and consider the use of a mask\, and\, esp. when you are saddled into extended conversations or prayer with people\, and esp. among those who present with compromised vulnerabilities. \nMasks will be made available at the point of entry and upon your request. Hand-santizers and wipes will be accessible at entry station and washroom. \n__________________________ \nSuffice it to say\, “IF you or anyone from your household is experiencing cold\nor flu-like symptoms you are encouraged to stay home.”
URL:https://kamloopsvineyard.com/event/sunday-in-person-worship-service-the-rex-hall-sept-19th-10-am/
LOCATION:the REX Hall\, 417 Seymour St\, Kamloops\, BC\, V2C 2G7\, Canada
CATEGORIES:Special Event,Streaming LIVE,Sunday In-Person Worship
ATTACH;FMTTYPE=image/jpeg:https://kamloopsvineyard.com/wp-content/uploads/2021/09/theRexHall_KVC@1000.jpeg
END:VEVENT
BEGIN:VEVENT
DTSTART;TZID=America/Vancouver:20210912T100000
DTEND;TZID=America/Vancouver:20210912T233000
DTSTAMP:20260419T142600
CREATED:20210901T233608Z
LAST-MODIFIED:20210911T172009Z
UID:2837-1631440800-1631489400@kamloopsvineyard.com
SUMMARY:Sunday In-Person Worship Service @ the REX Hall. Sept 12th @ 10 am.
DESCRIPTION:Everyone welcome! For two weeks\, Sunday Sept 12th and Sunday Sept 19th\, beginning @ 10 am\, we are gathering at the REX Hall. Corner of 4th and Seymour in Downtown Kamloops. \nWhat is it going to look like? Hopefully it’ll present as an encouraging gathering of the faithful\, a worshipful\, prayerful\, reflective and celebrative connection of people with one another and with God. Doing what we can\, to offer a little something for everyone; engagement that’ll include the children in our worship\, the celebration of the Eucharist (LORDS Supper)\, prayer and children’s activity tables (something to keep them occupied when things are feeling just a little distracting). \nWe’re Streaming LIVE\nIF you can’t meet with us in-person\, join us ONLINE.\nFacebook Public\nFacebook Group\nYouTube \n__________________________ \nMany hands help lighten the workload. We’re looking for people to help with setup\, takedown\, cleanup\, greeting. Please contact Connie Smith and Debbie Tombe to find out how you can help serve. Please email\, info@kamloopsvineyard.com or call the office at 250-828-1690. \n__________________________ \nThe BC Health Ministry specifically exempts the church in the following: \n“All worship services (and receptions following services) are exempt from the mask mandate and the requirement for proof of vaccination. In addition\, any public meetings held in faith-based settings that have a worship component such as youth groups and pastor meetings or essential services like NA/AA group meetings\, warming and cooling centres\, or providing food to people in need\, are also exempt from the mask mandate and proof of vaccination requirement.” \nUnder such exemptions the VINEYARD will not be mandating mask requirements beyond the entry into our worship space\, or require proof of vaccination. However\, we do urge all participants to be respectful of people wearing masks and trying to exercise social distancing constraints. Ask for permission to approach another person inside 2 meters. Be respectful of one another and consider the use of a mask\, and\, esp. when you are saddled into extended conversations or prayer with people\, and esp. among those who present with compromised vulnerabilities. \nMasks will be made available at the point of entry and upon your request. Hand-santizers and wipes will be accessible at entry station and washroom. \n__________________________ \nSuffice it to say\, “IF you or anyone from your household is experiencing cold\nor flu-like symptoms you are encouraged to stay home.”
URL:https://kamloopsvineyard.com/event/sunday-in-person-worship-service-the-rex-hall-sept-12th-10-am/
LOCATION:the REX Hall\, 417 Seymour St\, Kamloops\, BC\, V2C 2G7\, Canada
CATEGORIES:Special Event,Streaming LIVE,Sunday In-Person Worship
ATTACH;FMTTYPE=image/jpeg:https://kamloopsvineyard.com/wp-content/uploads/2021/09/theRexHall_KVC@1000.jpeg
END:VEVENT
BEGIN:VEVENT
DTSTART;TZID=America/Vancouver:20210905T100000
DTEND;TZID=America/Vancouver:20210905T110000
DTSTAMP:20260419T142600
CREATED:20210901T223352Z
LAST-MODIFIED:20210901T223435Z
UID:2833-1630836000-1630839600@kamloopsvineyard.com
SUMMARY:We're gathering ONLINE Sunday Sept 5th @ 10 am. Streaming LIVE with David and Debbie.
DESCRIPTION:We’re enjoying some transition in gathering. This long weekend\, Sunday\, Sept 5th @ 10 am\, David and Debbie are Streaming LIVE from their home in Barnhartvale. We’d be so encouraged IF you could join us ONLINE. For two weeks following\, Sept 12th and 19th\, we’re working on a DOWNTOWN gathering that’ll prove to be interesting for everyone. STAY TUNED and check back on our events page. \nIf you’re part of our Vineyard Facebook Group then you can jump ONLINE and connect in with others who regularly join us. Otherwise\, you can join us ONLINE through our Facebook Public Group and Youtube Channel. \nFacebook Public\nFacebook Group\nYouTube
URL:https://kamloopsvineyard.com/event/were-gathering-online-sunday-sept-5th-10-am-live-streaming-with-david-and-debbie/
LOCATION:Streaming LIVE\, Kamloops\, British Columbia\, Canada
CATEGORIES:Outdoor Service,Streaming LIVE,Vineyard Outdoors
END:VEVENT
BEGIN:VEVENT
DTSTART;TZID=America/Vancouver:20210718T100000
DTEND;TZID=America/Vancouver:20210718T120000
DTSTAMP:20260419T142600
CREATED:20210701T190035Z
LAST-MODIFIED:20210716T171542Z
UID:2753-1626602400-1626609600@kamloopsvineyard.com
SUMMARY:the Missional Discourse No 3. Streaming LIVE. Sunday July 18th @ 10 am.
DESCRIPTION:We’re Streaming LIVE from Barnhartvale.\nSunday July 18th @ 10 am.\n \nThis Sunday David hosts a LIVE conversation with elders and leaders Allan Clarkson and Connie Smith\, and missional leader Merve Fedrau. The third instalment\,  in our mini-series\, ‘the Missional Discourse’\, we want to talk about the measure of grace afforded our Vineyard family to present JESUS’ mercy and compassion beyond our church walls. \nThe Kingdom of God is closer than you think! \n– – – \nSunday Services Stream Online through\nVineyard Facebook Public\nVineyard Facebook Groups\nVineyard Youtube
URL:https://kamloopsvineyard.com/event/the-missional-discourse-no-3-streaming-live-sunday-july-18th-10-am/
LOCATION:Kamloops Vineyard Streaming\, Canada
CATEGORIES:Streaming LIVE,Streaming ONLINE
ATTACH;FMTTYPE=image/jpeg:https://kamloopsvineyard.com/wp-content/uploads/2021/07/theMissionalDiscourseSeries@1000.jpeg
END:VEVENT
BEGIN:VEVENT
DTSTART;TZID=America/Vancouver:20210627T100000
DTEND;TZID=America/Vancouver:20210627T120000
DTSTAMP:20260419T142600
CREATED:20210619T162814Z
LAST-MODIFIED:20210619T162814Z
UID:2665-1624788000-1624795200@kamloopsvineyard.com
SUMMARY:Sunday Streaming @ 10 am
DESCRIPTION:Weather permitting\, we’re meeting in-person and outdoors.\nJoin us as we Stream LIVE to Facebook Public\, Facebook Groups\, or Youtube. \nIn general\, when we’re not meeting in-person then we’re meeting online. Sunday Streaming is just one more opportunity to help all of us ‘Stay Connected’ to one another and to Jesus.
URL:https://kamloopsvineyard.com/event/sunday-streaming-10-am-2/
LOCATION:Streaming LIVE\, Kamloops\, British Columbia\, Canada
CATEGORIES:Outdoor Service,Streaming LIVE,Vineyard Outdoors
END:VEVENT
BEGIN:VEVENT
DTSTART;TZID=America/Vancouver:20210613T100000
DTEND;TZID=America/Vancouver:20210613T120000
DTSTAMP:20260419T142600
CREATED:20210610T201308Z
LAST-MODIFIED:20210610T201308Z
UID:2613-1623578400-1623585600@kamloopsvineyard.com
SUMMARY:Sunday Streaming @ 10 am
DESCRIPTION:Weather permitting\, we’re meeting in-person and outdoors.\nJoin us as we Stream LIVE to Facebook Public\, Facebook Groups\, or Youtube. \nIn general\, when we’re not meeting in-person then we’re meeting online. Sunday Streaming is just one more opportunity to help all of us ‘Stay Connected’ to one another and to Jesus.
URL:https://kamloopsvineyard.com/event/sunday-streaming-10-am-3/
LOCATION:Streaming LIVE\, Kamloops\, British Columbia\, Canada
CATEGORIES:Outdoor Service,Streaming LIVE,Vineyard Outdoors
END:VEVENT
BEGIN:VEVENT
DTSTART;TZID=America/Vancouver:20210530T100000
DTEND;TZID=America/Vancouver:20210530T120000
DTSTAMP:20260419T142600
CREATED:20210529T153405Z
LAST-MODIFIED:20210529T153405Z
UID:2495-1622368800-1622376000@kamloopsvineyard.com
SUMMARY:Sunday Streaming @ 10 am
DESCRIPTION:Weather permitting\, we’re meeting in-person and outdoors.\nJoin us as we Stream LIVE to Facebook Public\, Facebook Groups\, or Youtube. \nIn general\, when we’re not meeting in-person then we’re meeting online. Sunday Streaming is just one more opportunity to help all of us ‘Stay Connected’ to one another and to Jesus.
URL:https://kamloopsvineyard.com/event/sunday-streaming-10-am/
LOCATION:Streaming LIVE\, Kamloops\, British Columbia\, Canada
CATEGORIES:Outdoor Service,Streaming LIVE,Vineyard Outdoors
END:VEVENT
BEGIN:VEVENT
DTSTART;TZID=America/Vancouver:20210523T140000
DTEND;TZID=America/Vancouver:20210523T153000
DTSTAMP:20260419T142600
CREATED:20210520T013958Z
LAST-MODIFIED:20210520T014022Z
UID:2478-1621778400-1621783800@kamloopsvineyard.com
SUMMARY:Sunday Streaming @ 2pm
DESCRIPTION:Weather permitting\, throughout Spring and Summer we’re meeting in-person and outdoors.\nJoin us as we Stream LIVE to Facebook Public\, Facebook Groups\, or Youtube. \nIn general\, when we’re not meeting in-person then we’re meeting online. Sunday Streaming is just one more opportunity to help all of us ‘Stay Connected’ to one another and to Jesus.
URL:https://kamloopsvineyard.com/event/sunday-streaming-2pm-5/
LOCATION:Streaming LIVE\, Kamloops\, British Columbia\, Canada
CATEGORIES:Outdoor Service,Streaming LIVE,Vineyard Outdoors
END:VEVENT
BEGIN:VEVENT
DTSTART;TZID=America/Vancouver:20210523T090000
DTEND;TZID=America/Vancouver:20210523T230000
DTSTAMP:20260419T142600
CREATED:20210402T231337Z
LAST-MODIFIED:20210515T231331Z
UID:2293-1621760400-1621810800@kamloopsvineyard.com
SUMMARY:Vineyard Canada Pentecost Sunday ONLINE Worship Gathering
DESCRIPTION:Sunday May 23rd @ 9AM (PDT)\nStreaming Live on Facebook and Youtube \nSAVE the date. We are celebrating Pentecost Sunday (May 23) again across the country with an ONLINE National Worship Gathering! \nAlready the team is coming together across the country and they are preparing prayerfully to celebrate the Holy Spirit together. We’re inviting churches across Canada to plan to join us online.
URL:https://kamloopsvineyard.com/event/vineyard-canada-pentecost-sunday-online-worship-gathering/
LOCATION:Streaming LIVE\, Kamloops\, British Columbia\, Canada
CATEGORIES:Streaming LIVE,Vineyard Canada Gathering
ATTACH;FMTTYPE=image/png:https://kamloopsvineyard.com/wp-content/uploads/2021/04/VC_pentecost2021.png
END:VEVENT
BEGIN:VEVENT
DTSTART;TZID=America/Vancouver:20210516T140000
DTEND;TZID=America/Vancouver:20210516T153000
DTSTAMP:20260419T142600
CREATED:20210428T234149Z
LAST-MODIFIED:20210515T225356Z
UID:2426-1621173600-1621179000@kamloopsvineyard.com
SUMMARY:Sunday Streaming @ 2pm
DESCRIPTION:Weather permitting\, throughout Spring and Summer we’re meeting in-person and outdoors.\nJoin us as we Stream LIVE to Facebook Public\, Facebook Groups\, or Youtube. \nIn general\, when we’re not meeting in-person then we’re meeting online. Sunday Streaming is just one more opportunity to help all of us ‘Stay Connected’ to one another and to Jesus.
URL:https://kamloopsvineyard.com/event/sunday-streaming-2pm-4/
LOCATION:Streaming LIVE\, Kamloops\, British Columbia\, Canada
CATEGORIES:Outdoor Service,Streaming LIVE,Vineyard Outdoors
END:VEVENT
BEGIN:VEVENT
DTSTART;TZID=America/Vancouver:20210425T140000
DTEND;TZID=America/Vancouver:20210425T153000
DTSTAMP:20260419T142600
CREATED:20210423T202419Z
LAST-MODIFIED:20210424T163718Z
UID:2401-1619359200-1619364600@kamloopsvineyard.com
SUMMARY:Sunday Streaming @ 2pm
DESCRIPTION:Join us on Facebook or Youtube. \nThis Sunday\, our fellowship is pivoting to meet-in-person and outdoors. As well\, technicians are making plans to Stream LIVE our worship service gathering to Facebook and Youtube. \nIn general\, when we’re not meeting in-person then we’re meeting online. Sunday Streaming is just one more opportunity to help all of us ‘Stay Connected’ to one another and to Jesus.
URL:https://kamloopsvineyard.com/event/sunday-streaming-2pm-3/
LOCATION:Streaming LIVE\, Kamloops\, British Columbia\, Canada
CATEGORIES:Outdoor Service,Streaming LIVE,Vineyard Outdoors
END:VEVENT
BEGIN:VEVENT
DTSTART;TZID=America/Vancouver:20210418T140000
DTEND;TZID=America/Vancouver:20210418T160000
DTSTAMP:20260419T142600
CREATED:20210402T233118Z
LAST-MODIFIED:20210414T191748Z
UID:2298-1618754400-1618761600@kamloopsvineyard.com
SUMMARY:Sunday Streaming @ 2pm
DESCRIPTION:Join us on Facebook or Youtube. \nThis Sunday\, our fellowship is pivoting to meet-in-person and outdoors. As well\, technicians are making plans to Stream LIVE our worship service gathering to Facebook and Youtube. \nIn general\, when we’re not meeting in-person then we’re meeting online. Sunday Streaming is just one more opportunity to help all of us ‘Stay Connected’ to one another and to Jesus.
URL:https://kamloopsvineyard.com/event/sunday-streaming-2pm-2/
LOCATION:Streaming LIVE\, Kamloops\, British Columbia\, Canada
CATEGORIES:Outdoor Service,Streaming LIVE,Vineyard Outdoors
END:VEVENT
BEGIN:VEVENT
DTSTART;TZID=America/Vancouver:20210411T140000
DTEND;TZID=America/Vancouver:20210411T150000
DTSTAMP:20260419T142600
CREATED:20210402T232943Z
LAST-MODIFIED:20210402T232943Z
UID:2296-1618149600-1618153200@kamloopsvineyard.com
SUMMARY:Sunday Streaming @ 2pm
DESCRIPTION:Join us on Facebook or YouTube. \nWhen we’re not meeting in-person then we’re meeting online. Sunday Streaming is just one more opportunity to help all of us ‘Stay Connected’ to one another and to Jesus.
URL:https://kamloopsvineyard.com/event/sunday-streaming-2pm/
LOCATION:Streaming LIVE\, Kamloops\, British Columbia\, Canada
CATEGORIES:Streaming LIVE
END:VEVENT
BEGIN:VEVENT
DTSTART;TZID=America/Vancouver:20210103T140000
DTEND;TZID=America/Vancouver:20210103T150000
DTSTAMP:20260419T142600
CREATED:20210102T200526Z
LAST-MODIFIED:20210107T224110Z
UID:1915-1609682400-1609686000@kamloopsvineyard.com
SUMMARY:Sunday Streaming @ 2pm.
DESCRIPTION:Join us on Facebook or YouTube. \nWhen we’re not meeting in-person then we’re meeting online. Sunday Streaming is just one more opportunity to help all of us ‘Stay Connected’ to one another and to Jesus.
URL:https://kamloopsvineyard.com/event/vineyard-live-streamed-gathering-sunday-afternoons-2pm/2021-01-03/
LOCATION:Streaming LIVE\, Kamloops\, British Columbia\, Canada
CATEGORIES:Streaming LIVE
END:VEVENT
END:VCALENDAR