BEGIN:VCALENDAR
VERSION:2.0
PRODID:-//Kamloops Vineyard Church - ECPv6.15.16//NONSGML v1.0//EN
CALSCALE:GREGORIAN
METHOD:PUBLISH
X-ORIGINAL-URL:https://kamloopsvineyard.com
X-WR-CALDESC:Events for Kamloops Vineyard Church
REFRESH-INTERVAL;VALUE=DURATION:PT1H
X-Robots-Tag:noindex
X-PUBLISHED-TTL:PT1H
BEGIN:VTIMEZONE
TZID:America/Vancouver
BEGIN:DAYLIGHT
TZOFFSETFROM:-0800
TZOFFSETTO:-0700
TZNAME:PDT
DTSTART:20200308T100000
END:DAYLIGHT
BEGIN:STANDARD
TZOFFSETFROM:-0700
TZOFFSETTO:-0800
TZNAME:PST
DTSTART:20201101T090000
END:STANDARD
BEGIN:DAYLIGHT
TZOFFSETFROM:-0800
TZOFFSETTO:-0700
TZNAME:PDT
DTSTART:20210314T100000
END:DAYLIGHT
BEGIN:STANDARD
TZOFFSETFROM:-0700
TZOFFSETTO:-0800
TZNAME:PST
DTSTART:20211107T090000
END:STANDARD
BEGIN:DAYLIGHT
TZOFFSETFROM:-0800
TZOFFSETTO:-0700
TZNAME:PDT
DTSTART:20220313T100000
END:DAYLIGHT
BEGIN:STANDARD
TZOFFSETFROM:-0700
TZOFFSETTO:-0800
TZNAME:PST
DTSTART:20221106T090000
END:STANDARD
END:VTIMEZONE
BEGIN:VEVENT
DTSTART;TZID=America/Vancouver:20210411T140000
DTEND;TZID=America/Vancouver:20210411T150000
DTSTAMP:20260421T034939
CREATED:20210402T232943Z
LAST-MODIFIED:20210402T232943Z
UID:2296-1618149600-1618153200@kamloopsvineyard.com
SUMMARY:Sunday Streaming @ 2pm
DESCRIPTION:Join us on Facebook or YouTube. \nWhen we’re not meeting in-person then we’re meeting online. Sunday Streaming is just one more opportunity to help all of us ‘Stay Connected’ to one another and to Jesus.
URL:https://kamloopsvineyard.com/event/sunday-streaming-2pm/
LOCATION:Streaming LIVE\, Kamloops\, British Columbia\, Canada
CATEGORIES:Streaming LIVE
END:VEVENT
BEGIN:VEVENT
DTSTART;TZID=America/Vancouver:20210103T140000
DTEND;TZID=America/Vancouver:20210103T150000
DTSTAMP:20260421T034939
CREATED:20210102T200526Z
LAST-MODIFIED:20210107T224110Z
UID:1915-1609682400-1609686000@kamloopsvineyard.com
SUMMARY:Sunday Streaming @ 2pm.
DESCRIPTION:Join us on Facebook or YouTube. \nWhen we’re not meeting in-person then we’re meeting online. Sunday Streaming is just one more opportunity to help all of us ‘Stay Connected’ to one another and to Jesus.
URL:https://kamloopsvineyard.com/event/vineyard-live-streamed-gathering-sunday-afternoons-2pm/2021-01-03/
LOCATION:Streaming LIVE\, Kamloops\, British Columbia\, Canada
CATEGORIES:Streaming LIVE
END:VEVENT
END:VCALENDAR