BEGIN:VCALENDAR
VERSION:2.0
PRODID:-//Kamloops Vineyard Church - ECPv6.15.16//NONSGML v1.0//EN
CALSCALE:GREGORIAN
METHOD:PUBLISH
X-ORIGINAL-URL:https://kamloopsvineyard.com
X-WR-CALDESC:Events for Kamloops Vineyard Church
REFRESH-INTERVAL;VALUE=DURATION:PT1H
X-Robots-Tag:noindex
X-PUBLISHED-TTL:PT1H
BEGIN:VTIMEZONE
TZID:America/Vancouver
BEGIN:DAYLIGHT
TZOFFSETFROM:-0800
TZOFFSETTO:-0700
TZNAME:PDT
DTSTART:20240310T100000
END:DAYLIGHT
BEGIN:STANDARD
TZOFFSETFROM:-0700
TZOFFSETTO:-0800
TZNAME:PST
DTSTART:20241103T090000
END:STANDARD
BEGIN:DAYLIGHT
TZOFFSETFROM:-0800
TZOFFSETTO:-0700
TZNAME:PDT
DTSTART:20250309T100000
END:DAYLIGHT
BEGIN:STANDARD
TZOFFSETFROM:-0700
TZOFFSETTO:-0800
TZNAME:PST
DTSTART:20251102T090000
END:STANDARD
BEGIN:DAYLIGHT
TZOFFSETFROM:-0800
TZOFFSETTO:-0700
TZNAME:PDT
DTSTART:20260308T100000
END:DAYLIGHT
BEGIN:STANDARD
TZOFFSETFROM:-0700
TZOFFSETTO:-0800
TZNAME:PST
DTSTART:20261101T090000
END:STANDARD
END:VTIMEZONE
BEGIN:VEVENT
DTSTART;VALUE=DATE:20251207
DTEND;VALUE=DATE:20251208
DTSTAMP:20260422T144806
CREATED:20251119T170125Z
LAST-MODIFIED:20251202T160329Z
UID:7995-1765065600-1765151999@kamloopsvineyard.com
SUMMARY:Vineyard House Church and TACO Feast Sunday @ the Fast's (Mt Dufferin). Sunday Dec 7th @ 10 am.
DESCRIPTION:Make your own Tacos and make your own ice cream Sunday!\nJim and Heather Fast have again opened up their home to host our gathering. Heather shares\, “Please park across from the house on the corner—in the grassy area!” \n\nEveryone has ‘for the most part’ signed up to provide foods for the event. IF you want to contribute a side dish/food that is Mexican related you’re encouraged to do so. Maybe reach out to Debbie if you have questions. \nPlease reach out to me Debbie\, by emailing info@kamloopsvineyard.com \n___ \n* Are you new to area\, new to church\, or merely wanting to check things out? By all means we’d love to connect with you\, please reach out to us\, David and Debbie Tombe @ info@kamloopsvineyard.com
URL:https://kamloopsvineyard.com/event/vineyard-house-church-and-taco-feast-sunday-the-tombes-barnhartvale-sunday-dec-7th-10-am/
LOCATION:Fast’s Home\, 1660 Mt Dufferin Drive\, Kamloops\, British Columbia\, V2E 1A2\, Canada
CATEGORIES:Families,Feast Sunday,House Church,In-House Connections,In-Person Worship Service,Sunday In-Person Worship,Vineyard House Church
ATTACH;FMTTYPE=image/jpeg:https://kamloopsvineyard.com/wp-content/uploads/2025/11/TacoSunday_2025-12-07@1000.jpeg
END:VEVENT
BEGIN:VEVENT
DTSTART;VALUE=DATE:20251214
DTEND;VALUE=DATE:20251215
DTSTAMP:20260422T144806
CREATED:20251126T181726Z
LAST-MODIFIED:20251126T181932Z
UID:8016-1765670400-1765756799@kamloopsvineyard.com
SUMMARY:Vineyard House Church @ Gordon's (North Shore). Sunday Dec 14th @ 10 am.
DESCRIPTION:Kamloops Vineyard House Church\nBe sure to check the online schedule.\nVenues and schedules may vary.\n\n\n\nWe’re fostering a meaningful connectedness with Jesus and one-another throughout the week and House Church gatherings on Sunday mornings. Keep checking in on our calendar of events to stay current with information on events taking place through the week. \n\n\nIF you would like to make more personal connections then you can contact us @ info@kamloopsvineyard.com or call us @ 250-828-1690. \n\n\nAre you receiving weekly emails? If you’re not already receiving a weekly update (Vineyard newsletter called the Vineline) then we encourage you to SUBSCRIBE to receive a Vineyard newsletter that we like to call Vineline.
URL:https://kamloopsvineyard.com/event/vineyard-house-church-gordons-north-shore-sunday-dec-14th-10-am/
LOCATION:North Shore (Lilac Ave)\, 617 Lilac Ave\, Kamloops\, BC\, V2B 3S1\, Canada
CATEGORIES:Families,House Church,In-House Connections,In-Person Worship Service,Sunday In-Person Worship,Vineyard House Church
ATTACH;FMTTYPE=image/jpeg:https://kamloopsvineyard.com/wp-content/uploads/2024/05/KVCHouseChurch_2024@1000.jpeg
END:VEVENT
BEGIN:VEVENT
DTSTART;VALUE=DATE:20251221
DTEND;VALUE=DATE:20251222
DTSTAMP:20260422T144806
CREATED:20251122T155114Z
LAST-MODIFIED:20251211T193301Z
UID:8008-1766275200-1766361599@kamloopsvineyard.com
SUMMARY:Vineyard House Church @ the Tombe's (Barnhartvale). Sunday Dec 21st @ 10 am.
DESCRIPTION:Kamloops Vineyard House Church\nBe sure to check the online schedule.\nVenues and schedules may vary.\n\n\n\nWe’re fostering a meaningful connectedness with Jesus and one-another throughout the week and House Church gatherings on Sunday mornings. Keep checking in on our calendar of events to stay current with information on events taking place through the week. \n\n\nIF you would like to make more personal connections then you can contact us @ info@kamloopsvineyard.com or call us @ 250-828-1690. \n\n\nAre you receiving weekly emails? If you’re not already receiving a weekly update (Vineyard newsletter called the Vineline) then we encourage you to SUBSCRIBE to receive a Vineyard newsletter that we like to call Vineline.
URL:https://kamloopsvineyard.com/event/vineyard-house-church-sunday-dec-21st-10-am-location/
LOCATION:Tombe’s Home\, 1266 Pine Grove Rd\, Kamloops\, British Columbia\, V2C 6V6\, Canada
CATEGORIES:Families,House Church,In-House Connections,In-Person Worship Service,Sunday In-Person Worship,Vineyard House Church
ATTACH;FMTTYPE=image/jpeg:https://kamloopsvineyard.com/wp-content/uploads/2024/05/KVCHouseChurch_2024@1000.jpeg
END:VEVENT
BEGIN:VEVENT
DTSTART;VALUE=DATE:20251228
DTEND;VALUE=DATE:20251229
DTSTAMP:20260422T144806
CREATED:20251122T155651Z
LAST-MODIFIED:20251211T193037Z
UID:8012-1766880000-1766966399@kamloopsvineyard.com
SUMMARY:Vineyard House Church. Sunday Dec 28th. 'On Pause One Week Only ... enjoy your Christmas!'
DESCRIPTION:‘On Pause One Week Only … enjoy your Christmas!’\nBe sure to check the online schedule.\nVenues and schedules may vary.\n\n\n\nWe’re fostering a meaningful connectedness with Jesus and one-another throughout the week and House Church gatherings on Sunday mornings. Keep checking in on our calendar of events to stay current with information on events taking place through the week. \n\n\nIF you would like to make more personal connections then you can contact us @ info@kamloopsvineyard.com or call us @ 250-828-1690. \n\n\nAre you receiving weekly emails? If you’re not already receiving a weekly update (Vineyard newsletter called the Vineline) then we encourage you to SUBSCRIBE to receive a Vineyard newsletter that we like to call Vineline.
URL:https://kamloopsvineyard.com/event/vineyard-house-church-sunday-dec-28th-were-still-looking-at-everyones-schedule-details-tba/
LOCATION:British Columbia
CATEGORIES:Families,House Church,In-House Connections,In-Person Worship Service,Sunday In-Person Worship,Vineyard House Church
ATTACH;FMTTYPE=image/jpeg:https://kamloopsvineyard.com/wp-content/uploads/2025/11/HouseChurch_OnPause@1000.jpeg
END:VEVENT
END:VCALENDAR