BEGIN:VCALENDAR
VERSION:2.0
PRODID:-//Kamloops Vineyard Church - ECPv6.15.16//NONSGML v1.0//EN
CALSCALE:GREGORIAN
METHOD:PUBLISH
X-ORIGINAL-URL:https://kamloopsvineyard.com
X-WR-CALDESC:Events for Kamloops Vineyard Church
REFRESH-INTERVAL;VALUE=DURATION:PT1H
X-Robots-Tag:noindex
X-PUBLISHED-TTL:PT1H
BEGIN:VTIMEZONE
TZID:America/Vancouver
BEGIN:DAYLIGHT
TZOFFSETFROM:-0800
TZOFFSETTO:-0700
TZNAME:PDT
DTSTART:20200308T100000
END:DAYLIGHT
BEGIN:STANDARD
TZOFFSETFROM:-0700
TZOFFSETTO:-0800
TZNAME:PST
DTSTART:20201101T090000
END:STANDARD
BEGIN:DAYLIGHT
TZOFFSETFROM:-0800
TZOFFSETTO:-0700
TZNAME:PDT
DTSTART:20210314T100000
END:DAYLIGHT
BEGIN:STANDARD
TZOFFSETFROM:-0700
TZOFFSETTO:-0800
TZNAME:PST
DTSTART:20211107T090000
END:STANDARD
BEGIN:DAYLIGHT
TZOFFSETFROM:-0800
TZOFFSETTO:-0700
TZNAME:PDT
DTSTART:20220313T100000
END:DAYLIGHT
BEGIN:STANDARD
TZOFFSETFROM:-0700
TZOFFSETTO:-0800
TZNAME:PST
DTSTART:20221106T090000
END:STANDARD
BEGIN:DAYLIGHT
TZOFFSETFROM:-0800
TZOFFSETTO:-0700
TZNAME:PDT
DTSTART:20230312T100000
END:DAYLIGHT
BEGIN:STANDARD
TZOFFSETFROM:-0700
TZOFFSETTO:-0800
TZNAME:PST
DTSTART:20231105T090000
END:STANDARD
END:VTIMEZONE
BEGIN:VEVENT
DTSTART;VALUE=DATE:20221016
DTEND;VALUE=DATE:20221017
DTSTAMP:20260420T154713
CREATED:20220924T154332Z
LAST-MODIFIED:20221015T003452Z
UID:3943-1665878400-1665964799@kamloopsvineyard.com
SUMMARY:Vineyard Family Home Group (Knutsford). Sunday Oct 16th @ 10 am.
DESCRIPTION:Vineyard Family Home Group meets on the 3rd Sunday of every month.\nSunday Oct 16th 10am – 12pm\nat the Bylsma’s home in Knutsford.\nFamilies are gathering at the Bylsma’s home (2650 Long Lake Road) to share a brunch meal together.  After the meal\, a short time of worship is followed by prayer.  Kids spend some time outside playing while adults gather to learn practical tools in spiritually raising their families in their home environments.\n\n\nContact Bonnie Bylsma at 250-318-9377 or bonnie@kamloopsvineyard.com for more details and location information.\n 
URL:https://kamloopsvineyard.com/event/vineyard-family-home-group-oct-16th-10-am-every-third-sunday/
LOCATION:Bylsma’s Home\, 2650 Long Lake Rd\, Kamloops\, BC\, Canada
CATEGORIES:Families,Home Group,Third Sundays
ATTACH;FMTTYPE=image/jpeg:https://kamloopsvineyard.com/wp-content/uploads/2022/09/FamilyHomeGroup_2022b@1000.jpeg
END:VEVENT
BEGIN:VEVENT
DTSTART;VALUE=DATE:20221016
DTEND;VALUE=DATE:20221017
DTSTAMP:20260420T154713
CREATED:20220911T013206Z
LAST-MODIFIED:20221015T002636Z
UID:3869-1665878400-1665964799@kamloopsvineyard.com
SUMMARY:Vineyard House Fellowship (Barnhartvale). Sunday Oct 16th @ 12 Noon.
DESCRIPTION:Address: 1266 Pine Grove Rd. Kamloops\, BC  V2C 6V6 \nEveryone is welcome.\nLunch and worship with your Vineyard family. \nThis Sunday Oct 16th @ 12 noon\nThe Tombe’s home in Barnhartvale \nDavid and I are opening our house this Sunday for homemade turkey soup\, homemade biscuits and worship! It’s a pot-luck so bring whatever you would like to share together. Or just come! \nAre you planning to attend? I’d sure appreciate knowing that you are coming. Please email me debbie@kamloopsvineyard.com. \n__________________________
URL:https://kamloopsvineyard.com/event/vineyard-house-fellowship-to-be-announced-tba-sunday-oct-16th/
LOCATION:Tombe’s Home\, 1266 Pine Grove Rd\, Kamloops\, British Columbia\, V2C 6V6\, Canada
CATEGORIES:Home Group,In-House Connections,Third Sundays
ATTACH;FMTTYPE=image/jpeg:https://kamloopsvineyard.com/wp-content/uploads/2022/09/soupandbiscuits.jpg
END:VEVENT
BEGIN:VEVENT
DTSTART;VALUE=DATE:20220918
DTEND;VALUE=DATE:20220919
DTSTAMP:20260420T154713
CREATED:20220902T235147Z
LAST-MODIFIED:20220902T235147Z
UID:3813-1663459200-1663545599@kamloopsvineyard.com
SUMMARY:Vineyard House Fellowship (To be announced - TBA). Sunday Sept 18th.
DESCRIPTION:Are you looking for an opportunity to more intimately connect with the fellowship? [VHF] Vineyard House Fellowship represents our commitment to meet in homes across our city. When we’re not meeting in-person at Gateway City Church on Sunday afternoons\, we are meeting in small numbers\, in host-homes across our city. \nIF you would like to attend or present your home as a host home to [VHF] Vineyard House Fellowship please contact our administrative team if you have any questions about the opportunities to better connect. \nDebbie Tombe or Connie Smith\ninfo@kamloopsvineyard.com\, or call (250) 828-1690. \n__________________________
URL:https://kamloopsvineyard.com/event/vineyard-house-fellowship-to-be-announced-tba-sunday-sept-18th/
LOCATION:BC
CATEGORIES:In-House Connections,Third Sundays
ATTACH;FMTTYPE=image/jpeg:https://kamloopsvineyard.com/wp-content/uploads/2022/01/VHF_icon@1000.jpg
END:VEVENT
BEGIN:VEVENT
DTSTART;VALUE=DATE:20220918
DTEND;VALUE=DATE:20220919
DTSTAMP:20260420T154713
CREATED:20220914T230633Z
LAST-MODIFIED:20220916T233944Z
UID:3883-1663459200-1663545599@kamloopsvineyard.com
SUMMARY:Vineyard Family Home Group Sept 18th @ 10 am (every Third Sunday).
DESCRIPTION:Vineyard Family Home begins meeting the Third Sunday of every month.\nThis Sunday\, September 18th\, 10am – 12pm\nat the Bylsmas’ home in Knutsford.\nWe’ll begin with brunch (please bring something to contribute) and then have a short time of worship and prayer. Later\, we’ll have a focused time with the adults while the kids play outside or downstairs. Please RSVP if you can come to help us determine food quantities. See below for Google Maps for directions! Visit our Family Home Group Facebook Page for updates and information.\n\nContact:\n\nBonnie Bylsma\n‭(250) 318-9377‬\nbonnie@kamloopsvineyard.com \nKaren Enns\nkaren@kamloopsvineyard.com
URL:https://kamloopsvineyard.com/event/vineyard-family-home-group-sept-18th-every-third-sunday/
LOCATION:Bylsma’s Home\, 2650 Long Lake Rd\, Kamloops\, BC\, Canada
CATEGORIES:Families,Home Group,Third Sundays
ATTACH;FMTTYPE=image/jpeg:https://kamloopsvineyard.com/wp-content/uploads/2022/09/FamilyHomeGroup_2022b@1000.jpeg
END:VEVENT
BEGIN:VEVENT
DTSTART;VALUE=DATE:20220918
DTEND;VALUE=DATE:20220919
DTSTAMP:20260420T154713
CREATED:20220915T185553Z
LAST-MODIFIED:20220916T000755Z
UID:3889-1663459200-1663545599@kamloopsvineyard.com
SUMMARY:Newcomers' Luncheon. Sunday Sept 18th @ 12 Noon.
DESCRIPTION:The Vineyard welcomes you to an opportunity for more personal connection. \nVineyard Newcomers’ Luncheon\nSunday Sept 18th @ 12 Noon.\nThe Tombe’s Home in Barnhartvale\nWe’re NOT GATHERING on Third Sundays of every month at Gateway Community\, but we are beginning to gather again in House Churches across our city.* \nTHIS Third Sunday (Sept 18th @ 12 Noon)\, David and Debbie are welcoming Elders\, Leaders\, and NEWCOMERS to their home for a luncheon and social. Nothing is required but your presence. We’ll be serving soup\, buns and yummy fruit crisp with whipping cream! \nInvitations are being sent directly to various people in the fellowship\, IF you’re reading this message and thinking ‘Wow. I would LOVE to attend!’ then don’t waste any time\, please contact Connie Smith or Debbie Tombe. \nconnie@kamloopsvineyard.com\ndebbie@kamloopsvineyard.com \nAddress: 1266 Pine Grove Rd. Kamloops BC V2C 6V6\n(see Google Maps information below) \n___ \n* Beginning Sunday Sept 18th\, Family Home Group\, as one example\, will be meeting ‘Every Third Sunday’\, at Bylsma’s home in Knutsford. See events or contact Bonnie Bylsma or Karen Enns for more information.
URL:https://kamloopsvineyard.com/event/newcomers-luncheon-sunday-sept-18th-12-noon/
LOCATION:Tombe’s Home\, 1266 Pine Grove Rd\, Kamloops\, British Columbia\, V2C 6V6\, Canada
CATEGORIES:Home Group,Newcomers,Special Event,Third Sundays
ATTACH;FMTTYPE=image/jpeg:https://kamloopsvineyard.com/wp-content/uploads/2022/09/Newcomers_091822B@1000.jpeg
END:VEVENT
BEGIN:VEVENT
DTSTART;VALUE=DATE:20220717
DTEND;VALUE=DATE:20220718
DTSTAMP:20260420T154713
CREATED:20220630T185855Z
LAST-MODIFIED:20220630T185855Z
UID:3742-1658016000-1658102399@kamloopsvineyard.com
SUMMARY:Third Sunday House Fellowship in Raleigh. Sunday July 17th @ 11 am.
DESCRIPTION:Everyone is welcome! \nWorship\, Fellowship\, and a ‘Shared Meal’\nJuly 17th\, from 11 am to 2 pm.\nJoin us at the Enns and Hochstetler family acreage in Raleigh.\nBring a lawn chair. Bring a main and side dish to share with the fellowship! \nHello Vineyard friends and family\, \nTo learn more about how you can join us or to help in the preparations\, please contact us\, \nKaren Enns\nkaren@kamloopsvineyard.com \nDebbie Tombe\ndebbie@kamloopsvineyard.com
URL:https://kamloopsvineyard.com/event/third-sunday-house-fellowship-in-raleigh-sunday-july-17th-11-am/
LOCATION:BC
CATEGORIES:In-House Connections,Outdoor Gathering,Third Sundays
ATTACH;FMTTYPE=image/jpeg:https://kamloopsvineyard.com/wp-content/uploads/2022/06/July-17-2022-3rd-Sunday-HOme-Church-@the-EnnsHochstetlers.jpg
END:VEVENT
BEGIN:VEVENT
DTSTART;VALUE=DATE:20220306
DTEND;VALUE=DATE:20220307
DTSTAMP:20260420T154713
CREATED:20220217T200748Z
LAST-MODIFIED:20220217T222351Z
UID:3380-1646524800-1646611199@kamloopsvineyard.com
SUMMARY:Vineyard House Fellowship. Sunday March 6th.
DESCRIPTION:Are you looking for an opportunity to more intimately connect with the fellowship? [VHF] Vineyard House Fellowship represents our commitment to meet in homes across our city. When we’re not meeting in-person at Gateway City Church on Sunday afternoons\, we are meeting in small numbers\, in host-homes across our city. \n\nEffective 11:59 pm\, Wed Feb 16th\, a range of health orders began to ease in BC. This immediately has a bearing on our ability to restart our in-person house gatherings; allowing hosts to set a level of criteria for gathering that serves both themselves and the people invited into their home(s).\n\nIF you would like to attend or present your home as a host home to [VHF] Vineyard House Fellowship please contact our administrative team if you have any questions about the opportunities to better connect. \ninfo@kamloopsvineyard.com\, or call (250) 828-1690. \n__________________________ \n IF you or anyone from your household is experiencing cold or flu-like symptoms you are encouraged to remain at your own home.
URL:https://kamloopsvineyard.com/event/vineyard-house-fellowship-march-6th/
LOCATION:BC
CATEGORIES:In-House Connections,Third Sundays
ATTACH;FMTTYPE=image/jpeg:https://kamloopsvineyard.com/wp-content/uploads/2022/01/VHF_icon@1000.jpg
END:VEVENT
BEGIN:VEVENT
DTSTART;VALUE=DATE:20220220
DTEND;VALUE=DATE:20220221
DTSTAMP:20260420T154713
CREATED:20220125T215111Z
LAST-MODIFIED:20220217T221841Z
UID:3364-1645315200-1645401599@kamloopsvineyard.com
SUMMARY:Vineyard House Fellowship Sunday Feb 20th.  (NOT THIS SUNDAY)
DESCRIPTION:WE WILL NOT BE MEETINGS IN HOMES THIS SUNDAY.\nBUT ALL OF THAT IS ABOUT TO CHANGE. \nVineyard House Fellowship represents our commitment to meet in homes across our city. \nWe haven’t been meeting at Gateway City Church on the 3rd Sunday of every month\, instead we are meeting in small numbers\, in host-homes across our City. The recent surge with COVID OMNICRON have presented challenges to our personal and corporate gatherings\, BUT all that is about to change. \n\nEffective 11:59 pm\, Wed Feb 16th\, a range of health orders began to ease in BC. These include an end to capacity limits in fitness centers\, indoor gatherings\, restaurants\,  nightclubs\, weddings and events. The caveat\, everyone attending the same must present a Covid-19 passport and remain masked in all indoor gatherings\, with a few exemptions*.\nThis immediately has a bearing on our ability to welcome house gatherings; allowing hosts to set a level of criteria for gathering that serves both themselves and the people invited into their home(s).\n\nCheck in with our team if you have any questions about the opportunities to better connect. \ninfo@kamloopsvineyard.com\, or call (250) 828-1690. \n__________________________ \n* Exemptions include; eating\, drinking (inclusive of religious meals or ceremony)\,  people with health conditions or with physical\, cognitive or mental impairments\, children under the age of 5 and in situations where individuals are trying to communicate more clearly with people who have hearing impairment. \n IF you or anyone from your household is experiencing cold or flu-like symptoms you are encouraged to remain at your own home.
URL:https://kamloopsvineyard.com/event/third-sundays-vineyard-house-fellowship-feb-20th-2-pm/
LOCATION:BC
CATEGORIES:In-House Connections,Third Sundays
ATTACH;FMTTYPE=image/jpeg:https://kamloopsvineyard.com/wp-content/uploads/2022/01/VHF_icon@1000.jpg
END:VEVENT
BEGIN:VEVENT
DTSTART;TZID=America/Vancouver:20211121T140000
DTEND;TZID=America/Vancouver:20211121T160000
DTSTAMP:20260420T154713
CREATED:20211019T171937Z
LAST-MODIFIED:20211019T171937Z
UID:3000-1637503200-1637510400@kamloopsvineyard.com
SUMMARY:THIRD SUNDAYS. Vineyard House Fellowship. Nov 21st @ 2 pm.
DESCRIPTION:SIGN UP for Vineyard House Fellowship \nWe’re joining to share our love of JESUS\nand to enjoy a shared meal. \nTHIRD SUNDAYS. Vineyard House Fellowship represents our commitment to meet in homes across our city. \nWe won’t be meeting at Gateway City Church on the 3rd Sunday of every month\, instead we are meeting in small numbers\, in host-homes across our City. \nWould you like to attend a host-home for a shared meal? We have begun identifying host-homes\, but now we need to hear from you. Please email Connie and SIGN UP to attend this Sunday November 21th @ 2 pm. Through the balance of the week\, Connie Smith\, Third Sunday Coordinator\, will confirm your host-home\, along with their contact and address information. \nFor more information please contact Connie directly\,\ninfo@kamloopsvineyard.com\, or call (250) 319-6831‬. \n__________________________ \n IF you or anyone from your household is experiencing cold or flu-like symptoms you are encouraged to remain at your own home.
URL:https://kamloopsvineyard.com/event/third-sundays-vineyard-house-fellowship-nov-21st-2-pm/
LOCATION:BC
CATEGORIES:In-House Connections,Third Sundays
ATTACH;FMTTYPE=image/jpeg:https://kamloopsvineyard.com/wp-content/uploads/2021/10/VineyardHouseFellowship_01@1000.jpeg
END:VEVENT
BEGIN:VEVENT
DTSTART;TZID=America/Vancouver:20211017T140000
DTEND;TZID=America/Vancouver:20211017T160000
DTSTAMP:20260420T154713
CREATED:20211013T160202Z
LAST-MODIFIED:20211013T160202Z
UID:2992-1634479200-1634486400@kamloopsvineyard.com
SUMMARY:THIRD SUNDAYS. Vineyard House Fellowship. Oct 17th @ 2 pm.
DESCRIPTION:SIGN UP for Vineyard House Fellowship \nWe’re joining to share our love of JESUS\nand to enjoy a shared meal. \nThis Sunday we’re beginning a ‘soft’ rollout of Third Sundays. Vineyard House Fellowship represents our commitment to meet in homes across our city. We won’t be meeting at Gateway City Church on the 3rd Sunday of every month\, instead we are meeting in small numbers\, in host-homes across our City. \nWould you like to attend a host-home for a shared meal? We have begun identifying host-homes\, but now we need to hear from you. Please email Connie and SIGN UP to attend this Sunday Oct 17th @ 2 pm. Through the balance of the week\, Connie Smith\, Third Sunday Coordinator\, will confirm your host-home\, along with their contact and address information. \nFor more information please contact Connie directly\,\ninfo@kamloopsvineyard.com\, or call (250) 319-6831‬. \n__________________________ \n IF you or anyone from your household is experiencing cold or flu-like symptoms you are encouraged to remain at your own home.
URL:https://kamloopsvineyard.com/event/third-sundays-vineyard-house-fellowship-oct-17th-2-pm/
LOCATION:BC
CATEGORIES:In-House Connections,Third Sundays
ATTACH;FMTTYPE=image/jpeg:https://kamloopsvineyard.com/wp-content/uploads/2021/10/3rdSundays@1000_02.jpeg
END:VEVENT
END:VCALENDAR