BEGIN:VCALENDAR
VERSION:2.0
PRODID:-//Kamloops Vineyard Church - ECPv6.15.16//NONSGML v1.0//EN
CALSCALE:GREGORIAN
METHOD:PUBLISH
X-WR-CALNAME:Kamloops Vineyard Church
X-ORIGINAL-URL:https://kamloopsvineyard.com
X-WR-CALDESC:Events for Kamloops Vineyard Church
REFRESH-INTERVAL;VALUE=DURATION:PT1H
X-Robots-Tag:noindex
X-PUBLISHED-TTL:PT1H
BEGIN:VTIMEZONE
TZID:America/Vancouver
BEGIN:DAYLIGHT
TZOFFSETFROM:-0800
TZOFFSETTO:-0700
TZNAME:PDT
DTSTART:20230312T100000
END:DAYLIGHT
BEGIN:STANDARD
TZOFFSETFROM:-0700
TZOFFSETTO:-0800
TZNAME:PST
DTSTART:20231105T090000
END:STANDARD
BEGIN:DAYLIGHT
TZOFFSETFROM:-0800
TZOFFSETTO:-0700
TZNAME:PDT
DTSTART:20240310T100000
END:DAYLIGHT
BEGIN:STANDARD
TZOFFSETFROM:-0700
TZOFFSETTO:-0800
TZNAME:PST
DTSTART:20241103T090000
END:STANDARD
BEGIN:DAYLIGHT
TZOFFSETFROM:-0800
TZOFFSETTO:-0700
TZNAME:PDT
DTSTART:20250309T100000
END:DAYLIGHT
BEGIN:STANDARD
TZOFFSETFROM:-0700
TZOFFSETTO:-0800
TZNAME:PST
DTSTART:20251102T090000
END:STANDARD
END:VTIMEZONE
BEGIN:VEVENT
DTSTART;VALUE=DATE:20241127
DTEND;VALUE=DATE:20241130
DTSTAMP:20260421T175250
CREATED:20240906T220310Z
LAST-MODIFIED:20241115T184644Z
UID:6565-1732665600-1732924799@kamloopsvineyard.com
SUMMARY:VINEYARD ONLINE GATHERING — "Hospitality". November 27 - 29 @ 7 - 7:45 am PT.
DESCRIPTION:National Online Gathering\nNovember 27\, 28\, & 29. \nFor three days leading up to Advent we will be gathering on zoom from coast to coast. If you’re new to these online gatherings you can expect a 45 minute guided devotional time featuring worship\, liturgy\, the arts\, scripture\, and listening to the Holy Spirit together. \nOne of the main themes guiding us throughout this year is “reclaiming our missional centre.” Under that banner\, we see three key aspects to who we are as Vineyard Canada in the midst of our society and culture: a people of hope; a people of healing; and a people of hospitality. \nA people of hope; a people of healing; and a people of hospitality. \nThis time we will be exploring the theme of being a people of HOSPITALITY. \nChrist’s birth in a stable\, and his early years living as a refugee in Egypt provide a wonderful backdrop for us to explore this theme\, “I was a stranger and you welcomed me.” \nWe will begin promptly at 7:00AM AM PT each morning November 27\, 28 & 29 and we will gather for 45mins. \nTo access the zoom link click on this link to register! \nWe hope you can join us!
URL:https://kamloopsvineyard.com/event/vineyard-online-gathering-hospitality-november-28-29-7am-pdt/
LOCATION:ZOOM\, Canada
CATEGORIES:Prayer,Renewal,Special Event,Streaming LIVE,Streaming ONLINE,Video Conferencing,Vineyard Canada Gathering
ATTACH;FMTTYPE=image/png:https://kamloopsvineyard.com/wp-content/uploads/2024/09/VC_NationalOnlineGathering.png
END:VEVENT
END:VCALENDAR