BEGIN:VCALENDAR
VERSION:2.0
PRODID:-//Kamloops Vineyard Church - ECPv6.15.16//NONSGML v1.0//EN
CALSCALE:GREGORIAN
METHOD:PUBLISH
X-ORIGINAL-URL:https://kamloopsvineyard.com
X-WR-CALDESC:Events for Kamloops Vineyard Church
REFRESH-INTERVAL;VALUE=DURATION:PT1H
X-Robots-Tag:noindex
X-PUBLISHED-TTL:PT1H
BEGIN:VTIMEZONE
TZID:America/Vancouver
BEGIN:DAYLIGHT
TZOFFSETFROM:-0800
TZOFFSETTO:-0700
TZNAME:PDT
DTSTART:20200308T100000
END:DAYLIGHT
BEGIN:STANDARD
TZOFFSETFROM:-0700
TZOFFSETTO:-0800
TZNAME:PST
DTSTART:20201101T090000
END:STANDARD
BEGIN:DAYLIGHT
TZOFFSETFROM:-0800
TZOFFSETTO:-0700
TZNAME:PDT
DTSTART:20210314T100000
END:DAYLIGHT
BEGIN:STANDARD
TZOFFSETFROM:-0700
TZOFFSETTO:-0800
TZNAME:PST
DTSTART:20211107T090000
END:STANDARD
BEGIN:DAYLIGHT
TZOFFSETFROM:-0800
TZOFFSETTO:-0700
TZNAME:PDT
DTSTART:20220313T100000
END:DAYLIGHT
BEGIN:STANDARD
TZOFFSETFROM:-0700
TZOFFSETTO:-0800
TZNAME:PST
DTSTART:20221106T090000
END:STANDARD
END:VTIMEZONE
BEGIN:VEVENT
DTSTART;TZID=America/Vancouver:20210624T190000
DTEND;TZID=America/Vancouver:20210624T200000
DTSTAMP:20260421T094701
CREATED:20210617T202008Z
LAST-MODIFIED:20210617T202008Z
UID:2631-1624561200-1624564800@kamloopsvineyard.com
SUMMARY:Band of Brothers 'PM Company' Thursday evenings
DESCRIPTION:Band of Brothers is a group of men connecting IN-PERSON and ONLINE. Our primary purposes is to support one another in life and faith. \n“We’re called to journey together because we’re not supposed to do it alone.” \nTo be included in a weekly ZOOM invitation to the\nBand of Brothers PM COMPANY please email Merve Fedrau\,\nmerve_fedrau@writeontherock.com
URL:https://kamloopsvineyard.com/event/band-of-brothers-pm-company-thursday-evenings-8/
LOCATION:VIDEO CONFERENCING Kamloops Vineyard Church\, Kamloops\, British Columbia\, Canada
CATEGORIES:Men's Fellowship,Video Conferencing
ATTACH;FMTTYPE=image/jpeg:https://kamloopsvineyard.com/wp-content/uploads/2021/04/BandofBrotherImage@350PM.jpg
END:VEVENT
BEGIN:VEVENT
DTSTART;TZID=America/Vancouver:20210622T083000
DTEND;TZID=America/Vancouver:20210622T093000
DTSTAMP:20260421T094701
CREATED:20210617T202355Z
LAST-MODIFIED:20210617T202355Z
UID:2638-1624350600-1624354200@kamloopsvineyard.com
SUMMARY:Band of Brothers 'AM Company' Tuesday mornings
DESCRIPTION:Band of Brothers is a group of men connecting IN-PERSON and ONLINE. Our primary purposes is to support one another in life and faith. \n“We’re called to journey together because we’re not supposed to do it alone.” \nTo be included in a weekly ZOOM invitation to the\nBand of Brothers AM COMPANY please email David Tombe.\ndavid@kamloopsvineyard.com
URL:https://kamloopsvineyard.com/event/band-of-brothers-am-company-tuesday-mornings-3/
LOCATION:VIDEO CONFERENCING Kamloops Vineyard Church\, Kamloops\, British Columbia\, Canada
CATEGORIES:Men's Fellowship,Video Conferencing
ATTACH;FMTTYPE=image/jpeg:https://kamloopsvineyard.com/wp-content/uploads/2021/04/BandofBrotherImage@350AM.jpg
END:VEVENT
BEGIN:VEVENT
DTSTART;TZID=America/Vancouver:20210617T190000
DTEND;TZID=America/Vancouver:20210617T200000
DTSTAMP:20260421T094701
CREATED:20210602T185914Z
LAST-MODIFIED:20210602T185914Z
UID:2524-1623956400-1623960000@kamloopsvineyard.com
SUMMARY:Band of Brothers 'PM Company' Thursday evenings
DESCRIPTION:Band of Brothers is a group of men connecting IN-PERSON and ONLINE. Our primary purposes is to support one another in life and faith. \n“We’re called to journey together because we’re not supposed to do it alone.” \nTo be included in a weekly ZOOM invitation to the\nBand of Brothers PM COMPANY please email Merve Fedrau\,\nmerve_fedrau@writeontherock.com
URL:https://kamloopsvineyard.com/event/band-of-brothers-pm-company-thursday-evenings-6/
LOCATION:VIDEO CONFERENCING Kamloops Vineyard Church\, Kamloops\, British Columbia\, Canada
CATEGORIES:Men's Fellowship,Video Conferencing
ATTACH;FMTTYPE=image/jpeg:https://kamloopsvineyard.com/wp-content/uploads/2021/04/BandofBrotherImage@350PM.jpg
END:VEVENT
BEGIN:VEVENT
DTSTART;TZID=America/Vancouver:20210615T083000
DTEND;TZID=America/Vancouver:20210615T093000
DTSTAMP:20260421T094701
CREATED:20210602T185558Z
LAST-MODIFIED:20210602T185947Z
UID:2521-1623745800-1623749400@kamloopsvineyard.com
SUMMARY:Band of Brothers 'AM Company' Tuesday mornings
DESCRIPTION:Band of Brothers is a group of men connecting IN-PERSON and ONLINE. Our primary purposes is to support one another in life and faith. \n“We’re called to journey together because we’re not supposed to do it alone.” \nTo be included in a weekly ZOOM invitation to the\nBand of Brothers AM COMPANY please email David Tombe.\ndavid@kamloopsvineyard.com
URL:https://kamloopsvineyard.com/event/band-of-brothers-am-company-tuesday-mornings-2/
LOCATION:VIDEO CONFERENCING Kamloops Vineyard Church\, Kamloops\, British Columbia\, Canada
CATEGORIES:Men's Fellowship,Video Conferencing
ATTACH;FMTTYPE=image/jpeg:https://kamloopsvineyard.com/wp-content/uploads/2021/04/BandofBrotherImage@350AM.jpg
END:VEVENT
BEGIN:VEVENT
DTSTART;TZID=America/Vancouver:20210610T190000
DTEND;TZID=America/Vancouver:20210610T200000
DTSTAMP:20260421T094701
CREATED:20210529T153522Z
LAST-MODIFIED:20210602T185751Z
UID:2497-1623351600-1623355200@kamloopsvineyard.com
SUMMARY:Band of Brothers 'PM Company' Thursday evenings
DESCRIPTION:Band of Brothers is a group of men connecting IN-PERSON and ONLINE. Our primary purposes is to support one another in life and faith. \n“We’re called to journey together because we’re not supposed to do it alone.” \nTo be included in a weekly ZOOM invitation to the\nBand of Brothers PM COMPANY please email Merve Fedrau\,\nmerve_fedrau@writeontherock.com
URL:https://kamloopsvineyard.com/event/band-of-brothers-pm-company-thursday-evenings-5/
LOCATION:VIDEO CONFERENCING Kamloops Vineyard Church\, Kamloops\, British Columbia\, Canada
CATEGORIES:Men's Fellowship,Video Conferencing
ATTACH;FMTTYPE=image/jpeg:https://kamloopsvineyard.com/wp-content/uploads/2021/04/BandofBrotherImage@350PM.jpg
END:VEVENT
BEGIN:VEVENT
DTSTART;TZID=America/Vancouver:20210603T190000
DTEND;TZID=America/Vancouver:20210603T200000
DTSTAMP:20260421T094701
CREATED:20210602T190128Z
LAST-MODIFIED:20210602T190128Z
UID:2526-1622746800-1622750400@kamloopsvineyard.com
SUMMARY:Band of Brothers 'PM Company' Thursday evenings
DESCRIPTION:Band of Brothers is a group of men connecting IN-PERSON and ONLINE. Our primary purposes is to support one another in life and faith. \n“We’re called to journey together because we’re not supposed to do it alone.” \nTo be included in a weekly ZOOM invitation to the\nBand of Brothers PM COMPANY please email Merve Fedrau\,\nmerve_fedrau@writeontherock.com
URL:https://kamloopsvineyard.com/event/band-of-brothers-pm-company-thursday-evenings-7/
LOCATION:VIDEO CONFERENCING Kamloops Vineyard Church\, Kamloops\, British Columbia\, Canada
CATEGORIES:Men's Fellowship,Video Conferencing
ATTACH;FMTTYPE=image/jpeg:https://kamloopsvineyard.com/wp-content/uploads/2021/04/BandofBrotherImage@350PM.jpg
END:VEVENT
BEGIN:VEVENT
DTSTART;TZID=America/Vancouver:20210601T083000
DTEND;TZID=America/Vancouver:20210601T093000
DTSTAMP:20260421T094701
CREATED:20210529T153950Z
LAST-MODIFIED:20210529T153950Z
UID:2501-1622536200-1622539800@kamloopsvineyard.com
SUMMARY:Band of Brothers 'AM Company' Tuesday mornings
DESCRIPTION:Band of Brothers is a group of men connecting IN-PERSON and ONLINE. Our primary purposes is to support one another in life and faith. \n“We’re called to journey together because we’re not supposed to do it alone.” \nTo be included in a weekly ZOOM invitation to the\nBand of Brothers AM COMPANY please email David Tombe.\ndavid@kamloopsvineyard.com
URL:https://kamloopsvineyard.com/event/band-of-brothers-am-company-tuesday-mornings/
LOCATION:VIDEO CONFERENCING Kamloops Vineyard Church\, Kamloops\, British Columbia\, Canada
CATEGORIES:Men's Fellowship,Video Conferencing
ATTACH;FMTTYPE=image/jpeg:https://kamloopsvineyard.com/wp-content/uploads/2021/04/BandofBrotherImage@350AM.jpg
END:VEVENT
BEGIN:VEVENT
DTSTART;TZID=America/Vancouver:20210529T130000
DTEND;TZID=America/Vancouver:20210529T150000
DTSTAMP:20260421T094701
CREATED:20210410T163020Z
LAST-MODIFIED:20210515T231849Z
UID:2336-1622293200-1622300400@kamloopsvineyard.com
SUMMARY:Vineyard Prayer Summit 2021
DESCRIPTION:Vineyard Prayer Summit 2021 ONLINE! May 27-29. \nAll sessions will be held via Zoom and led by different regions from across Canada!\n \nZOOM link to be announced (tba). Visit vineyardsummit.ca to register. \nSince 2003 the Canadian Vineyard family has gathered together every year to simply seek the face of the Lord and worship Him. Come join us this year and take the opportunity to devote time together for this very purpose. \nSummit Schedule\nMay 27 – 29\, 2021 \nThursday (MAY 27) \nEvening Session\n4:30pm(PST) – 5:30pm(MST) – 6:30pm(CST) – 7:30pm(EST) – 8:30pm(AST) \n— \nFriday (MAY 28) \nEvening Session\n4:30pm(PST) – 5:30pm(MST) – 6:30pm(CST) – 7:30pm(EST) – 8:30pm(AST) \n— \nSaturday (MAY 29) \nMorning Session\n9am(PST) – 10am(MST) – 11am(CST) – 12pm(EST) – 1pm(AST) \nAfternoon Session\n1pm(PST) – 2pm(MST) – 3pm(CST) – 4pm(EST) – 5pm(AST)
URL:https://kamloopsvineyard.com/event/vineyard-prayer-summit-2021-4/
LOCATION:ZOOM\, Canada
CATEGORIES:Video Conferencing
ATTACH;FMTTYPE=image/jpeg:https://kamloopsvineyard.com/wp-content/uploads/2021/04/PrayerSummit2021.jpg
END:VEVENT
BEGIN:VEVENT
DTSTART;TZID=America/Vancouver:20210529T090000
DTEND;TZID=America/Vancouver:20210529T120000
DTSTAMP:20260421T094701
CREATED:20210410T162221Z
LAST-MODIFIED:20210515T231822Z
UID:2333-1622278800-1622289600@kamloopsvineyard.com
SUMMARY:Vineyard Prayer Summit 2021
DESCRIPTION:Vineyard Prayer Summit 2021 ONLINE! May 27-29. \nAll sessions will be held via Zoom and led by different regions from across Canada!\n \nZOOM link to be announced (tba). Visit vineyardsummit.ca to register. \nSince 2003 the Canadian Vineyard family has gathered together every year to simply seek the face of the Lord and worship Him. Come join us this year and take the opportunity to devote time together for this very purpose. \nSummit Schedule\nMay 27 – 29\, 2021 \nThursday (MAY 27) \nEvening Session\n4:30pm(PST) – 5:30pm(MST) – 6:30pm(CST) – 7:30pm(EST) – 8:30pm(AST) \n— \nFriday (MAY 28) \nEvening Session\n4:30pm(PST) – 5:30pm(MST) – 6:30pm(CST) – 7:30pm(EST) – 8:30pm(AST) \n— \nSaturday (MAY 29) \nMorning Session\n9am(PST) – 10am(MST) – 11am(CST) – 12pm(EST) – 1pm(AST) \nAfternoon Session\n1pm(PST) – 2pm(MST) – 3pm(CST) – 4pm(EST) – 5pm(AST)
URL:https://kamloopsvineyard.com/event/vineyard-prayer-summit-2021-3/
LOCATION:ZOOM\, Canada
CATEGORIES:Video Conferencing
ATTACH;FMTTYPE=image/jpeg:https://kamloopsvineyard.com/wp-content/uploads/2021/04/PrayerSummit2021.jpg
END:VEVENT
BEGIN:VEVENT
DTSTART;TZID=America/Vancouver:20210528T163000
DTEND;TZID=America/Vancouver:20210528T183000
DTSTAMP:20260421T094701
CREATED:20210410T161950Z
LAST-MODIFIED:20210515T231720Z
UID:2331-1622219400-1622226600@kamloopsvineyard.com
SUMMARY:Vineyard Prayer Summit 2021
DESCRIPTION:Vineyard Prayer Summit 2021 ONLINE! May 27-29. \nAll sessions will be held via Zoom and led by different regions from across Canada!\n \nZOOM link to be announced (tba). Visit vineyardsummit.ca to register. \nSince 2003 the Canadian Vineyard family has gathered together every year to simply seek the face of the Lord and worship Him. Come join us this year and take the opportunity to devote time together for this very purpose. \nSummit Schedule\nMay 27 – 29\, 2021 \nThursday (MAY 27) \nEvening Session\n4:30pm(PST) – 5:30pm(MST) – 6:30pm(CST) – 7:30pm(EST) – 8:30pm(AST) \n— \nFriday (MAY 28) \nEvening Session\n4:30pm(PST) – 5:30pm(MST) – 6:30pm(CST) – 7:30pm(EST) – 8:30pm(AST) \n— \nSaturday (MAY 29) \nMorning Session\n9am(PST) – 10am(MST) – 11am(CST) – 12pm(EST) – 1pm(AST) \nAfternoon Session\n1pm(PST) – 2pm(MST) – 3pm(CST) – 4pm(EST) – 5pm(AST)
URL:https://kamloopsvineyard.com/event/vineyard-prayer-summit-2021-2/
LOCATION:ZOOM\, Canada
CATEGORIES:Video Conferencing
ATTACH;FMTTYPE=image/jpeg:https://kamloopsvineyard.com/wp-content/uploads/2021/04/PrayerSummit2021.jpg
END:VEVENT
BEGIN:VEVENT
DTSTART;TZID=America/Vancouver:20210527T163000
DTEND;TZID=America/Vancouver:20210527T183000
DTSTAMP:20260421T094701
CREATED:20210410T161855Z
LAST-MODIFIED:20210515T231654Z
UID:2328-1622133000-1622140200@kamloopsvineyard.com
SUMMARY:Vineyard Prayer Summit 2021
DESCRIPTION:Vineyard Prayer Summit 2021 ONLINE! May 27-29. \nAll sessions will be held via Zoom and led by different regions from across Canada!\n \nZOOM link to be announced (tba). Visit vineyardsummit.ca to register. \nSince 2003 the Canadian Vineyard family has gathered together every year to simply seek the face of the Lord and worship Him. Come join us this year and take the opportunity to devote time together for this very purpose. \nSummit Schedule\nMay 27 – 29\, 2021 \nThursday (MAY 27) \nEvening Session\n4:30pm(PST) – 5:30pm(MST) – 6:30pm(CST) – 7:30pm(EST) – 8:30pm(AST) \n— \nFriday (MAY 28) \nEvening Session\n4:30pm(PST) – 5:30pm(MST) – 6:30pm(CST) – 7:30pm(EST) – 8:30pm(AST) \n— \nSaturday (MAY 29) \nMorning Session\n9am(PST) – 10am(MST) – 11am(CST) – 12pm(EST) – 1pm(AST) \nAfternoon Session\n1pm(PST) – 2pm(MST) – 3pm(CST) – 4pm(EST) – 5pm(AST)
URL:https://kamloopsvineyard.com/event/vineyard-prayer-summit-2021/
LOCATION:ZOOM\, Canada
CATEGORIES:Video Conferencing
ATTACH;FMTTYPE=image/jpeg:https://kamloopsvineyard.com/wp-content/uploads/2021/04/PrayerSummit2021.jpg
END:VEVENT
BEGIN:VEVENT
DTSTART;TZID=America/Vancouver:20210513T190000
DTEND;TZID=America/Vancouver:20210513T200000
DTSTAMP:20260421T094701
CREATED:20210428T235006Z
LAST-MODIFIED:20210428T235006Z
UID:2438-1620932400-1620936000@kamloopsvineyard.com
SUMMARY:Band of Brothers 'PM Company' Thursday evenings
DESCRIPTION:Band of Brothers is a group of men connecting IN-PERSON and ONLINE. Our primary purposes is to support one another in life and faith. \n“We’re called to journey together because we’re not supposed to do it alone.” \nTo be included in a weekly ZOOM invitation to the\nBand of Brothers PM COMPANY please email Merve Fedrau\,\nmerve_fedrau@writeontherock.com
URL:https://kamloopsvineyard.com/event/band-of-brothers-pm-company-thursday-evenings-4/
LOCATION:VIDEO CONFERENCING Kamloops Vineyard Church\, Kamloops\, British Columbia\, Canada
CATEGORIES:Men's Fellowship,Video Conferencing
ATTACH;FMTTYPE=image/jpeg:https://kamloopsvineyard.com/wp-content/uploads/2021/04/BandofBrotherImage@350PM.jpg
END:VEVENT
BEGIN:VEVENT
DTSTART;TZID=America/Vancouver:20210506T190000
DTEND;TZID=America/Vancouver:20210506T200000
DTSTAMP:20260421T094701
CREATED:20210428T234422Z
LAST-MODIFIED:20210428T234422Z
UID:2428-1620327600-1620331200@kamloopsvineyard.com
SUMMARY:Band of Brothers 'PM Company' Thursday evenings
DESCRIPTION:Band of Brothers is a group of men connecting IN-PERSON and ONLINE. Our primary purposes is to support one another in life and faith. \n“We’re called to journey together because we’re not supposed to do it alone.” \nTo be included in a weekly ZOOM invitation to the\nBand of Brothers PM COMPANY please email Merve Fedrau\,\nmerve_fedrau@writeontherock.com
URL:https://kamloopsvineyard.com/event/band-of-brothers-pm-company-thursday-evenings-3/
LOCATION:VIDEO CONFERENCING Kamloops Vineyard Church\, Kamloops\, British Columbia\, Canada
CATEGORIES:Men's Fellowship,Video Conferencing
ATTACH;FMTTYPE=image/jpeg:https://kamloopsvineyard.com/wp-content/uploads/2021/04/BandofBrotherImage@350PM.jpg
END:VEVENT
BEGIN:VEVENT
DTSTART;TZID=America/Vancouver:20210504T083000
DTEND;TZID=America/Vancouver:20210504T093000
DTSTAMP:20260421T094701
CREATED:20210421T155216Z
LAST-MODIFIED:20210421T160233Z
UID:2382-1620117000-1620120600@kamloopsvineyard.com
SUMMARY:Band of Brothers 'AM Company' Tuesday mornings
DESCRIPTION:Band of Brothers is a group of men connecting IN-PERSON and ONLINE. Our primary purposes is to support one another in life and faith. \n“We’re called to journey together because we’re not supposed to do it alone.” \nTo be included in a weekly ZOOM invitation to the\nBand of Brothers AM COMPANY please email David Tombe.\ndavid@kamloopsvineyard.com
URL:https://kamloopsvineyard.com/event/band-of-brothers-am-company-2/
LOCATION:VIDEO CONFERENCING Kamloops Vineyard Church\, Kamloops\, British Columbia\, Canada
CATEGORIES:Men's Fellowship,Video Conferencing
ATTACH;FMTTYPE=image/jpeg:https://kamloopsvineyard.com/wp-content/uploads/2021/04/BandofBrotherImage@350AM.jpg
END:VEVENT
BEGIN:VEVENT
DTSTART;TZID=America/Vancouver:20210429T190000
DTEND;TZID=America/Vancouver:20210429T200000
DTSTAMP:20260421T094701
CREATED:20210421T160404Z
LAST-MODIFIED:20210421T160404Z
UID:2389-1619722800-1619726400@kamloopsvineyard.com
SUMMARY:Band of Brothers 'PM Company' Thursday evenings
DESCRIPTION:Band of Brothers is a group of men connecting IN-PERSON and ONLINE. Our primary purposes is to support one another in life and faith. \n“We’re called to journey together because we’re not supposed to do it alone.” \nTo be included in a weekly ZOOM invitation to the\nBand of Brothers PM COMPANY please email Merve Fedrau\,\nmerve_fedrau@writeontherock.com
URL:https://kamloopsvineyard.com/event/band-of-brothers-pm-company-thursday-evenings-2/
LOCATION:VIDEO CONFERENCING Kamloops Vineyard Church\, Kamloops\, British Columbia\, Canada
CATEGORIES:Men's Fellowship,Video Conferencing
ATTACH;FMTTYPE=image/jpeg:https://kamloopsvineyard.com/wp-content/uploads/2021/04/BandofBrotherImage@350PM.jpg
END:VEVENT
BEGIN:VEVENT
DTSTART;TZID=America/Vancouver:20210427T083000
DTEND;TZID=America/Vancouver:20210427T093000
DTSTAMP:20260421T094701
CREATED:20210421T155104Z
LAST-MODIFIED:20210421T160046Z
UID:2379-1619512200-1619515800@kamloopsvineyard.com
SUMMARY:Band of Brothers 'AM Company' Tuesday mornings
DESCRIPTION:Band of Brothers is a group of men connecting IN-PERSON and ONLINE. Our primary purposes is to support one another in life and faith. \n“We’re called to journey together because we’re not supposed to do it alone.” \nTo be included in a weekly ZOOM invitation to the\nBand of Brothers AM COMPANY please email David Tombe.\ndavid@kamloopsvineyard.com
URL:https://kamloopsvineyard.com/event/band-of-brothers-am-company/
LOCATION:VIDEO CONFERENCING Kamloops Vineyard Church\, Kamloops\, British Columbia\, Canada
CATEGORIES:Men's Fellowship,Video Conferencing
ATTACH;FMTTYPE=image/jpeg:https://kamloopsvineyard.com/wp-content/uploads/2021/04/BandofBrotherImage@350AM.jpg
END:VEVENT
BEGIN:VEVENT
DTSTART;TZID=America/Vancouver:20210422T190000
DTEND;TZID=America/Vancouver:20210422T200000
DTSTAMP:20260421T094701
CREATED:20210421T155836Z
LAST-MODIFIED:20210421T155836Z
UID:2384-1619118000-1619121600@kamloopsvineyard.com
SUMMARY:Band of Brothers 'PM Company' Thursday evenings
DESCRIPTION:Band of Brothers is a group of men connecting IN-PERSON and ONLINE. Our primary purposes is to support one another in life and faith. \n“We’re called to journey together because we’re not supposed to do it alone.” \nTo be included in a weekly ZOOM invitation to the\nBand of Brothers PM COMPANY please email Merve Fedrau\,\nmerve_fedrau@writeontherock.com
URL:https://kamloopsvineyard.com/event/band-of-brothers-pm-company-thursday-evenings/
LOCATION:VIDEO CONFERENCING Kamloops Vineyard Church\, Kamloops\, British Columbia\, Canada
CATEGORIES:Men's Fellowship,Video Conferencing
ATTACH;FMTTYPE=image/jpeg:https://kamloopsvineyard.com/wp-content/uploads/2021/04/BandofBrotherImage@350PM.jpg
END:VEVENT
BEGIN:VEVENT
DTSTART;TZID=America/Vancouver:20210408T190000
DTEND;TZID=America/Vancouver:20210408T210000
DTSTAMP:20260421T094701
CREATED:20210402T184619Z
LAST-MODIFIED:20210402T184948Z
UID:2278-1617908400-1617915600@kamloopsvineyard.com
SUMMARY:Emotionally Healthy Relationships Course
DESCRIPTION:April 8th we complete the last session of our eight week journey in a ‘discipleship that deeply changes our relationship with others’. \nJoin David and Debbie ONLINE from their home in Barnhartvale!\nIt been eight sessions over eight weeks that began on the second Thursday in February. \nThe course itself is offered at no cost.\nCourse materials included two paperback books:\n(1) — EHS Relationships Workbook and\,\n(1) — EHS Relationships Day-by-Day devotional. \nWe sourced this great Emotionally Healthy Relationships Participant’s Pack\nfrom AMAZON.CA for an advertised cost of $33.69 Cdn. \nIF you’d like to find out more about future Emotionally Healthy Spiritual Courses please email us info@kamloopsvineyard.com and let us know that you’d like to know more.
URL:https://kamloopsvineyard.com/event/emotionally-healthy-relationships-course-2/
LOCATION:VIDEO CONFERENCING Kamloops Vineyard Church\, Kamloops\, British Columbia\, Canada
CATEGORIES:Discipleship Course,Video Conferencing
ATTACH;FMTTYPE=image/jpeg:https://kamloopsvineyard.com/wp-content/uploads/2021/01/EHRelationships@1000.jpeg
END:VEVENT
BEGIN:VEVENT
DTSTART;TZID=America/Vancouver:20210311T190000
DTEND;TZID=America/Vancouver:20210311T210000
DTSTAMP:20260421T094701
CREATED:20210121T012758Z
LAST-MODIFIED:20210310T141629Z
UID:2132-1615489200-1615496400@kamloopsvineyard.com
SUMMARY:Emotionally Healthy Relationships Course. CANCELLED THIS WEEK ONLY.
DESCRIPTION:Join us on an eight week journey of ‘Discipleship that Deeply Changes Our Relationship with Others’ \nONLINE ZOOM gatherings are every Thursday evening @ 7pm. \nJoin David and Debbie ONLINE from their home in Barnhartvale!\nEight sessions over eight weeks beginning the second Thursday in February. \nThe course itself is offered at no cost.\nYou purchase two paperback books:\n(1) — EHS Relationships Workbook and\,\n(1) — EHS Relationships Day-by-Day devotional. \nWe sourced this great Emotionally Healthy Relationships Participant’s Pack\nfrom AMAZON.CA for an advertised cost of $33.69 Cdn. \nIF you’d like your name included in our EHS Group Connections List please email us info@kamloopsvineyard.com and let us know that you’d like to know more.
URL:https://kamloopsvineyard.com/event/emotionally-healthy-relationships-course-2021-03-11/
LOCATION:British Columbia
CATEGORIES:Discipleship Course,Video Conferencing
ATTACH;FMTTYPE=image/jpeg:https://kamloopsvineyard.com/wp-content/uploads/2021/01/EHRelationships@1000.jpeg
END:VEVENT
BEGIN:VEVENT
DTSTART;TZID=America/Vancouver:20210211T190000
DTEND;TZID=America/Vancouver:20210211T210000
DTSTAMP:20260421T094701
CREATED:20210121T012758Z
LAST-MODIFIED:20210123T211820Z
UID:2126-1613070000-1613077200@kamloopsvineyard.com
SUMMARY:Emotionally Healthy Relationships Course.
DESCRIPTION:Join us on an eight week journey of ‘Discipleship that Deeply Changes Our Relationship with Others’ \nONLINE ZOOM gatherings are every Thursday evening @ 7pm. \nJoin David and Debbie ONLINE from their home in Barnhartvale!\nEight sessions over eight weeks beginning the second Thursday in February. \nThe course itself is offered at no cost.\nYou purchase two paperback books:\n(1) — EHS Relationships Workbook and\,\n(1) — EHS Relationships Day-by-Day devotional. \nWe sourced this great Emotionally Healthy Relationships Participant’s Pack\nfrom AMAZON.CA for an advertised cost of $33.69 Cdn. \nIF you’d like your name included in our EHS Group Connections List please email us info@kamloopsvineyard.com and let us know that you’d like to know more.
URL:https://kamloopsvineyard.com/event/emotionally-healthy-relationships-course/2021-02-11/
LOCATION:British Columbia
CATEGORIES:Discipleship Course,Video Conferencing
ATTACH;FMTTYPE=image/jpeg:https://kamloopsvineyard.com/wp-content/uploads/2021/01/EHRelationships@1000.jpeg
END:VEVENT
END:VCALENDAR