BEGIN:VCALENDAR
VERSION:2.0
PRODID:-//Kamloops Vineyard Church - ECPv6.15.16//NONSGML v1.0//EN
CALSCALE:GREGORIAN
METHOD:PUBLISH
X-WR-CALNAME:Kamloops Vineyard Church
X-ORIGINAL-URL:https://kamloopsvineyard.com
X-WR-CALDESC:Events for Kamloops Vineyard Church
REFRESH-INTERVAL;VALUE=DURATION:PT1H
X-Robots-Tag:noindex
X-PUBLISHED-TTL:PT1H
BEGIN:VTIMEZONE
TZID:America/Vancouver
BEGIN:DAYLIGHT
TZOFFSETFROM:-0800
TZOFFSETTO:-0700
TZNAME:PDT
DTSTART:20240310T100000
END:DAYLIGHT
BEGIN:STANDARD
TZOFFSETFROM:-0700
TZOFFSETTO:-0800
TZNAME:PST
DTSTART:20241103T090000
END:STANDARD
BEGIN:DAYLIGHT
TZOFFSETFROM:-0800
TZOFFSETTO:-0700
TZNAME:PDT
DTSTART:20250309T100000
END:DAYLIGHT
BEGIN:STANDARD
TZOFFSETFROM:-0700
TZOFFSETTO:-0800
TZNAME:PST
DTSTART:20251102T090000
END:STANDARD
BEGIN:DAYLIGHT
TZOFFSETFROM:-0800
TZOFFSETTO:-0700
TZNAME:PDT
DTSTART:20260308T100000
END:DAYLIGHT
BEGIN:STANDARD
TZOFFSETFROM:-0700
TZOFFSETTO:-0800
TZNAME:PST
DTSTART:20261101T090000
END:STANDARD
END:VTIMEZONE
BEGIN:VEVENT
DTSTART;VALUE=DATE:20250105
DTEND;VALUE=DATE:20250106
DTSTAMP:20260421T115826
CREATED:20241229T190801Z
LAST-MODIFIED:20241229T190801Z
UID:6850-1736035200-1736121599@kamloopsvineyard.com
SUMMARY:Vineyard House Church and Feast Sunday @ the Tombe's. Sunday Jan 5th @ 10 am.
DESCRIPTION:Kamloops Vineyard House Church and Feast Sunday\n\n\nDebbie shares\, “It’s our First Sunday gathering of 2025 and we’re kicking off the new year with a Shared Meal. This Sunday David and I are hosting Vineyard House Church and Feast Sunday here at our home in Barnhartvale. Celebrations begin at 10 am. I will be making a large pot of soup and pulling out a loaf of Sourdough Bread. Please bring whatever you would like to share. We’re looking forward to connecting with you all! Everyone is welcome!*’ \nHave you got any questions? You can reach out to Debbie\, by emailing her debbie@kamloopsvineyard.com. \n* Are you new to area\, new to church\, or merely wanting to check things out? By all means we’d love to connect with you\, please reach out to us\, David and Debbie Tombe @ info@kamloopsvineyard.com.
URL:https://kamloopsvineyard.com/event/vineyard-house-church-and-feast-sunday-the-tombes-sunday-jan-5th-10-am/
LOCATION:Tombe’s Home\, 1266 Pine Grove Rd\, Kamloops\, British Columbia\, V2C 6V6\, Canada
CATEGORIES:Families,House Church,In-House Connections,In-Person Worship Service,Sunday In-Person Worship,Vineyard House Church
ATTACH;FMTTYPE=image/jpeg:https://kamloopsvineyard.com/wp-content/uploads/2024/12/HouseChurch_Jan0525@1000.jpeg
END:VEVENT
BEGIN:VEVENT
DTSTART;VALUE=DATE:20250112
DTEND;VALUE=DATE:20250113
DTSTAMP:20260421T115826
CREATED:20250104T205334Z
LAST-MODIFIED:20250104T205334Z
UID:6849-1736640000-1736726399@kamloopsvineyard.com
SUMMARY:Vineyard House Church @ the Tombe's in Barnhartvale. Sunday Jan 12th @ 10 am.
DESCRIPTION:Kamloops Vineyard House Church\nSunday mornings @ 10 am\nWe meet in various houses and venues week-to-week.\n\n\n\nWe’re fostering a meaningful connectedness with Jesus and one-another throughout the week and House Church gatherings on Sunday mornings. Keep checking in on our calendar of events to stay current with information on events taking place through the week. \n\n\nIF you would like to make more personal connections then you can contact us @ info@kamloopsvineyard.com or call us @ 250-828-1690. \n\n\nAre you receiving weekly emails? If you’re not already receiving a weekly update (Vineyard newsletter called the Vineline) then we encourage you to SUBSCRIBE to receive a Vineyard newsletter that we like to call Vineline.
URL:https://kamloopsvineyard.com/event/vineyard-house-church-the-tombes-in-barnhartvale-sunday-jan-12th-10-am/
LOCATION:Tombe’s Home\, 1266 Pine Grove Rd\, Kamloops\, British Columbia\, V2C 6V6\, Canada
CATEGORIES:Families,House Church,In-House Connections,In-Person Worship Service,Sunday In-Person Worship,Vineyard House Church
ATTACH;FMTTYPE=image/jpeg:https://kamloopsvineyard.com/wp-content/uploads/2024/05/KVCHouseChurch_2024@1000.jpeg
END:VEVENT
BEGIN:VEVENT
DTSTART;VALUE=DATE:20250119
DTEND;VALUE=DATE:20250120
DTSTAMP:20260421T115826
CREATED:20250114T203124Z
LAST-MODIFIED:20250114T203145Z
UID:6920-1737244800-1737331199@kamloopsvineyard.com
SUMMARY:Vineyard House Church @ the Tombe's in Barnhartvale. Sunday Jan 19th @ 10 am.
DESCRIPTION:Kamloops Vineyard House Church\nSunday mornings @ 10 am\nWe meet in various houses and venues week-to-week.\n\n\n\nWe’re fostering a meaningful connectedness with Jesus and one-another throughout the week and House Church gatherings on Sunday mornings. Keep checking in on our calendar of events to stay current with information on events taking place through the week. \n\n\nIF you would like to make more personal connections then you can contact us @ info@kamloopsvineyard.com or call us @ 250-828-1690. \n\n\nAre you receiving weekly emails? If you’re not already receiving a weekly update (Vineyard newsletter called the Vineline) then we encourage you to SUBSCRIBE to receive a Vineyard newsletter that we like to call Vineline.
URL:https://kamloopsvineyard.com/event/vineyard-house-church-the-tombes-in-barnhartvale-sunday-jan-19th-10-am-2/
LOCATION:Tombe’s Home\, 1266 Pine Grove Rd\, Kamloops\, British Columbia\, V2C 6V6\, Canada
CATEGORIES:Families,House Church,In-House Connections,In-Person Worship Service,Sunday In-Person Worship,Vineyard House Church
ATTACH;FMTTYPE=image/jpeg:https://kamloopsvineyard.com/wp-content/uploads/2024/05/KVCHouseChurch_2024@1000.jpeg
END:VEVENT
BEGIN:VEVENT
DTSTART;VALUE=DATE:20250126
DTEND;VALUE=DATE:20250127
DTSTAMP:20260421T115826
CREATED:20250114T201144Z
LAST-MODIFIED:20250114T202044Z
UID:6914-1737849600-1737935999@kamloopsvineyard.com
SUMMARY:Vineyard House Church @ the Bylsma's in Barnhartvale. Sunday Jan 26th @ 10 am.
DESCRIPTION:Kamloops Vineyard House Church\nSunday mornings @ 10 am\nWe meet in various houses and venues week-to-week.\n\n\n\nWe’re fostering a meaningful connectedness with Jesus and one-another throughout the week and House Church gatherings on Sunday mornings. Keep checking in on our calendar of events to stay current with information on events taking place through the week. \n\n\nIF you would like to make more personal connections then you can contact us @ info@kamloopsvineyard.com or call us @ 250-828-1690. \n\n\nAre you receiving weekly emails? If you’re not already receiving a weekly update (Vineyard newsletter called the Vineline) then we encourage you to SUBSCRIBE to receive a Vineyard newsletter that we like to call Vineline.
URL:https://kamloopsvineyard.com/event/vineyard-house-church-the-bylsmas-in-barnhartvale-sunday-jan-26th-10-am/
LOCATION:Bylsma’s Home\, 2650 Long Lake Rd\, Kamloops\, BC\, Canada
CATEGORIES:Families,House Church,In-House Connections,In-Person Worship Service,Sunday In-Person Worship,Vineyard House Church
ATTACH;FMTTYPE=image/jpeg:https://kamloopsvineyard.com/wp-content/uploads/2024/05/KVCHouseChurch_2024@1000.jpeg
END:VEVENT
END:VCALENDAR