BEGIN:VCALENDAR
VERSION:2.0
PRODID:-//Kamloops Vineyard Church - ECPv6.15.16//NONSGML v1.0//EN
CALSCALE:GREGORIAN
METHOD:PUBLISH
X-ORIGINAL-URL:https://kamloopsvineyard.com
X-WR-CALDESC:Events for Kamloops Vineyard Church
REFRESH-INTERVAL;VALUE=DURATION:PT1H
X-Robots-Tag:noindex
X-PUBLISHED-TTL:PT1H
BEGIN:VTIMEZONE
TZID:America/Vancouver
BEGIN:DAYLIGHT
TZOFFSETFROM:-0800
TZOFFSETTO:-0700
TZNAME:PDT
DTSTART:20240310T100000
END:DAYLIGHT
BEGIN:STANDARD
TZOFFSETFROM:-0700
TZOFFSETTO:-0800
TZNAME:PST
DTSTART:20241103T090000
END:STANDARD
BEGIN:DAYLIGHT
TZOFFSETFROM:-0800
TZOFFSETTO:-0700
TZNAME:PDT
DTSTART:20250309T100000
END:DAYLIGHT
BEGIN:STANDARD
TZOFFSETFROM:-0700
TZOFFSETTO:-0800
TZNAME:PST
DTSTART:20251102T090000
END:STANDARD
BEGIN:DAYLIGHT
TZOFFSETFROM:-0800
TZOFFSETTO:-0700
TZNAME:PDT
DTSTART:20260308T100000
END:DAYLIGHT
BEGIN:STANDARD
TZOFFSETFROM:-0700
TZOFFSETTO:-0800
TZNAME:PST
DTSTART:20261101T090000
END:STANDARD
END:VTIMEZONE
BEGIN:VEVENT
DTSTART;VALUE=DATE:20250603
DTEND;VALUE=DATE:20250604
DTSTAMP:20260419T122344
CREATED:20250618T230441Z
LAST-MODIFIED:20250618T230441Z
UID:7589-1748908800-1748995199@kamloopsvineyard.com
SUMMARY:IRON Men's Group . Tuesday mornings 6:30 am — 7:30 am @ the Lighthouse.
DESCRIPTION:Proverbs 27:17 — “As iron sharpens iron\, so one man sharpens the countenance of another.” \nThe Lighthouse and Vineyard Partner to host IRON.\nOpen to every man — wherever they are at in their quest for peace in this life. \nJourneying together in life and faith.\nWe were never meant to do it alone. \nCoffee will be on. Be prepared to listen and ‘sometimes’ to share\, to reflect on God’s word and\, quite possibly\, to pray. Bring your bibles (paperback or electronic). \nThe Lighthouse Christian Fellowship\n702 Columbia St\, Kamloops\, BC V2C 2V4 \nFor more information please contact\nBrandon Linse\, kamloopsnazarene@gmail.com\nor David Tombe\, david@kamloopsvineyard.com
URL:https://kamloopsvineyard.com/event/iron-mens-group-tuesday-mornings-630-am-730-am-the-lighthouse-3/2025-06-03/
LOCATION:Lighthouse Christian Fellowship\, 702 Columbia St\, Kamloops\, British Columbia\, V2C 2V4\, Canada
CATEGORIES:Men's Fellowship,Vineyard Life Group
ATTACH;FMTTYPE=image/jpeg:https://kamloopsvineyard.com/wp-content/uploads/2024/06/IRON_BrotherInLifeandFaith@1000.jpeg
END:VEVENT
BEGIN:VEVENT
DTSTART;VALUE=DATE:20250610
DTEND;VALUE=DATE:20250611
DTSTAMP:20260419T122344
CREATED:20250618T230441Z
LAST-MODIFIED:20250618T230441Z
UID:7591-1749513600-1749599999@kamloopsvineyard.com
SUMMARY:IRON Men's Group . Tuesday mornings 6:30 am — 7:30 am @ the Lighthouse.
DESCRIPTION:Proverbs 27:17 — “As iron sharpens iron\, so one man sharpens the countenance of another.” \nThe Lighthouse and Vineyard Partner to host IRON.\nOpen to every man — wherever they are at in their quest for peace in this life. \nJourneying together in life and faith.\nWe were never meant to do it alone. \nCoffee will be on. Be prepared to listen and ‘sometimes’ to share\, to reflect on God’s word and\, quite possibly\, to pray. Bring your bibles (paperback or electronic). \nThe Lighthouse Christian Fellowship\n702 Columbia St\, Kamloops\, BC V2C 2V4 \nFor more information please contact\nBrandon Linse\, kamloopsnazarene@gmail.com\nor David Tombe\, david@kamloopsvineyard.com
URL:https://kamloopsvineyard.com/event/iron-mens-group-tuesday-mornings-630-am-730-am-the-lighthouse-3/2025-06-10/
LOCATION:Lighthouse Christian Fellowship\, 702 Columbia St\, Kamloops\, British Columbia\, V2C 2V4\, Canada
CATEGORIES:Men's Fellowship,Vineyard Life Group
ATTACH;FMTTYPE=image/jpeg:https://kamloopsvineyard.com/wp-content/uploads/2024/06/IRON_BrotherInLifeandFaith@1000.jpeg
END:VEVENT
BEGIN:VEVENT
DTSTART;VALUE=DATE:20250617
DTEND;VALUE=DATE:20250618
DTSTAMP:20260419T122344
CREATED:20250618T230441Z
LAST-MODIFIED:20250618T230614Z
UID:7592-1750118400-1750204799@kamloopsvineyard.com
SUMMARY:IRON Men's Group . Tuesday mornings 6:30 am — 7:30 am @ the Lighthouse. (Final session. On pause through the Summer.)
DESCRIPTION:Proverbs 27:17 — “As iron sharpens iron\, so one man sharpens the countenance of another.” \nThe Lighthouse and Vineyard Partner to host IRON.\nOpen to every man — wherever they are at in their quest for peace in this life. \nJourneying together in life and faith.\nWe were never meant to do it alone. \nCoffee will be on. Be prepared to listen and ‘sometimes’ to share\, to reflect on God’s word and\, quite possibly\, to pray. Bring your bibles (paperback or electronic). \nThe Lighthouse Christian Fellowship\n702 Columbia St\, Kamloops\, BC V2C 2V4 \nFor more information please contact\nBrandon Linse\, kamloopsnazarene@gmail.com\nor David Tombe\, david@kamloopsvineyard.com
URL:https://kamloopsvineyard.com/event/iron-mens-group-tuesday-mornings-630-am-730-am-the-lighthouse-3-2025-06-17/
LOCATION:Lighthouse Christian Fellowship\, 702 Columbia St\, Kamloops\, British Columbia\, V2C 2V4\, Canada
CATEGORIES:Men's Fellowship,Vineyard Life Group
ATTACH;FMTTYPE=image/jpeg:https://kamloopsvineyard.com/wp-content/uploads/2024/06/IRON_BrotherInLifeandFaith@1000.jpeg
END:VEVENT
BEGIN:VEVENT
DTSTART;VALUE=DATE:20250621
DTEND;VALUE=DATE:20250622
DTSTAMP:20260419T122344
CREATED:20250529T213117Z
LAST-MODIFIED:20250618T173909Z
UID:6905-1750464000-1750550399@kamloopsvineyard.com
SUMMARY:Men's Night @ the Bylsma's (Knutsford).  Saturday June 21st @ 7:30 pm.
DESCRIPTION:‘We’re better together!’\nTypically an evening of random fun\, snacks and conversation. Once a month men are gathering in a home\, around a fire\, or somewhere out in nature. all of it with the intention to build up and encourage one another. \nFor more details contact Monte Campbell at 778-220-3296 or montecampbell@gmail.com\nor Brent Bylsma\, brent@culturecare.ca.
URL:https://kamloopsvineyard.com/event/mens-night-saturday-mar-21st-730-pm-location-tba/
LOCATION:Bylsma’s Home\, 2650 Long Lake Rd\, Kamloops\, BC\, Canada
CATEGORIES:Men's Fellowship,Vineyard Life Group
ATTACH;FMTTYPE=image/jpeg:https://kamloopsvineyard.com/wp-content/uploads/2024/10/MensNight_nodate.jpg
END:VEVENT
END:VCALENDAR