BEGIN:VCALENDAR
VERSION:2.0
PRODID:-//Kamloops Vineyard Church - ECPv6.15.16//NONSGML v1.0//EN
CALSCALE:GREGORIAN
METHOD:PUBLISH
X-ORIGINAL-URL:https://kamloopsvineyard.com
X-WR-CALDESC:Events for Kamloops Vineyard Church
REFRESH-INTERVAL;VALUE=DURATION:PT1H
X-Robots-Tag:noindex
X-PUBLISHED-TTL:PT1H
BEGIN:VTIMEZONE
TZID:America/Vancouver
BEGIN:DAYLIGHT
TZOFFSETFROM:-0800
TZOFFSETTO:-0700
TZNAME:PDT
DTSTART:20220313T100000
END:DAYLIGHT
BEGIN:STANDARD
TZOFFSETFROM:-0700
TZOFFSETTO:-0800
TZNAME:PST
DTSTART:20221106T090000
END:STANDARD
BEGIN:DAYLIGHT
TZOFFSETFROM:-0800
TZOFFSETTO:-0700
TZNAME:PDT
DTSTART:20230312T100000
END:DAYLIGHT
BEGIN:STANDARD
TZOFFSETFROM:-0700
TZOFFSETTO:-0800
TZNAME:PST
DTSTART:20231105T090000
END:STANDARD
BEGIN:DAYLIGHT
TZOFFSETFROM:-0800
TZOFFSETTO:-0700
TZNAME:PDT
DTSTART:20240310T100000
END:DAYLIGHT
BEGIN:STANDARD
TZOFFSETFROM:-0700
TZOFFSETTO:-0800
TZNAME:PST
DTSTART:20241103T090000
END:STANDARD
END:VTIMEZONE
BEGIN:VEVENT
DTSTART;VALUE=DATE:20230314
DTEND;VALUE=DATE:20230315
DTSTAMP:20260419T085553
CREATED:20230224T192215Z
LAST-MODIFIED:20230224T192215Z
UID:4355-1678752000-1678838399@kamloopsvineyard.com
SUMMARY:Emotionally Healthy Discipleship Course. Tuesday Evening Group. March 14th @ 7 pm. (Session 5)
DESCRIPTION:Emotionally Healthy Discipleship Course\nSession 5 of 8 \nMoving from Shallow Christianity to Deep Transformation \nDownload the KVC EHS Promotional Information Sheet\, click here. \nDavid and Debbie are opening up their home to lead a discipleship group over 2 months. It’s called Emotionally Healthy Spirituality (EHS). In a nutshell\, EHS offers us foundational training in discipleship and an important building block for aspiring leaders in our Vineyard community. The training is focused on growing in our love for God. \nThe course presents members with personal tools and session exercises to better explore the state of our hearts and God’s love for us. God cares about the maturing of our faith and emotional health. By understanding family roots\, making peace with the past\, and learning rhythms of going to God in a 1-on-1 conversation\, we’re hoping to foster an Emotionally Healthy Spirituality where our loving Father is at the forefront.
URL:https://kamloopsvineyard.com/event/emotionally-healthy-discipleship-course-tuesday-evening-group-march-14th-7-pm-session-5/
LOCATION:Tombe’s Home\, 1266 Pine Grove Rd\, Kamloops\, British Columbia\, V2C 6V6\, Canada
CATEGORIES:Discipleship Course,In-House Connections,Vineyard Life Group
ATTACH;FMTTYPE=image/jpeg:https://kamloopsvineyard.com/wp-content/uploads/2023/01/EHS_KVCEventsPage@1000.jpeg
END:VEVENT
BEGIN:VEVENT
DTSTART;VALUE=DATE:20230314
DTEND;VALUE=DATE:20230315
DTSTAMP:20260419T085553
CREATED:20230203T211347Z
LAST-MODIFIED:20230224T192253Z
UID:4237-1678752000-1678838399@kamloopsvineyard.com
SUMMARY:Emotionally Healthy Discipleship Course. Tuesday Daytime Group. March 14th @ 2:30 pm. (Session 5)
DESCRIPTION:Emotionally Healthy Discipleship Course\nSession 5 of 8 \nMoving from Shallow Christianity to Deep Transformation \nDownload the KVC EHS Promotional Information Sheet\, click here. \nDavid and Debbie are opening up their home to lead a discipleship group over 2 months. It’s called Emotionally Healthy Spirituality (EHS). In a nutshell\, EHS offers us foundational training in discipleship and an important building block for aspiring leaders in our Vineyard community. The training is focused on growing in our love for God. \nThe course presents members with personal tools and session exercises to better explore the state of our hearts and God’s love for us. God cares about the maturing of our faith and emotional health. By understanding family roots\, making peace with the past\, and learning rhythms of going to God in a 1-on-1 conversation\, we’re hoping to foster an Emotionally Healthy Spirituality where our loving Father is at the forefront.
URL:https://kamloopsvineyard.com/event/emotionally-healthy-discipleship-course-tuesday-march-7th-7-pm/
LOCATION:Tombe’s Home\, 1266 Pine Grove Rd\, Kamloops\, British Columbia\, V2C 6V6\, Canada
CATEGORIES:Discipleship Course,In-House Connections,Vineyard Life Group
ATTACH;FMTTYPE=image/jpeg:https://kamloopsvineyard.com/wp-content/uploads/2023/01/EHS_KVCEventsPage@1000.jpeg
END:VEVENT
BEGIN:VEVENT
DTSTART;VALUE=DATE:20230307
DTEND;VALUE=DATE:20230308
DTSTAMP:20260419T085553
CREATED:20230224T191937Z
LAST-MODIFIED:20230224T191937Z
UID:4351-1678147200-1678233599@kamloopsvineyard.com
SUMMARY:Emotionally Healthy Discipleship Course. Tuesday Evening Group. Mar 7th @ 7 pm. (Session 4)
DESCRIPTION:Emotionally Healthy Discipleship Course\nSession 4 of 8 \nMoving from Shallow Christianity to Deep Transformation \nDownload the KVC EHS Promotional Information Sheet\, click here. \nDavid and Debbie are opening up their home to lead a discipleship group over 2 months. It’s called Emotionally Healthy Spirituality (EHS). In a nutshell\, EHS offers us foundational training in discipleship and an important building block for aspiring leaders in our Vineyard community. The training is focused on growing in our love for God. \nThe course presents members with personal tools and session exercises to better explore the state of our hearts and God’s love for us. God cares about the maturing of our faith and emotional health. By understanding family roots\, making peace with the past\, and learning rhythms of going to God in a 1-on-1 conversation\, we’re hoping to foster an Emotionally Healthy Spirituality where our loving Father is at the forefront.
URL:https://kamloopsvineyard.com/event/emotionally-healthy-discipleship-course-tuesday-evening-group-mar-7th-7-pm-session-4/
LOCATION:Tombe’s Home\, 1266 Pine Grove Rd\, Kamloops\, British Columbia\, V2C 6V6\, Canada
CATEGORIES:Discipleship Course,In-House Connections,Vineyard Life Group
ATTACH;FMTTYPE=image/jpeg:https://kamloopsvineyard.com/wp-content/uploads/2023/01/EHS_KVCEventsPage@1000.jpeg
END:VEVENT
BEGIN:VEVENT
DTSTART;VALUE=DATE:20230307
DTEND;VALUE=DATE:20230308
DTSTAMP:20260419T085553
CREATED:20230106T190116Z
LAST-MODIFIED:20230224T192032Z
UID:4173-1678147200-1678233599@kamloopsvineyard.com
SUMMARY:Emotionally Healthy Discipleship Course. Tuesday Daytime Group. Mar 7th @ 2:30 pm. (Session 4)
DESCRIPTION:Emotionally Healthy Discipleship Course\nSession 4 of 8 \nMoving from Shallow Christianity to Deep Transformation \nDownload the KVC EHS Promotional Information Sheet\, click here. \nDavid and Debbie are opening up their home to lead a discipleship group over 2 months. It’s called Emotionally Healthy Spirituality (EHS). In a nutshell\, EHS offers us foundational training in discipleship and an important building block for aspiring leaders in our Vineyard community. The training is focused on growing in our love for God. \nThe course presents members with personal tools and session exercises to better explore the state of our hearts and God’s love for us. God cares about the maturing of our faith and emotional health. By understanding family roots\, making peace with the past\, and learning rhythms of going to God in a 1-on-1 conversation\, we’re hoping to foster an Emotionally Healthy Spirituality where our loving Father is at the forefront.
URL:https://kamloopsvineyard.com/event/emotionally-healthy-discipleship-course-tuesday-feb-28th-7-pm/
LOCATION:Tombe’s Home\, 1266 Pine Grove Rd\, Kamloops\, British Columbia\, V2C 6V6\, Canada
CATEGORIES:Discipleship Course,In-House Connections,Vineyard Life Group
ATTACH;FMTTYPE=image/jpeg:https://kamloopsvineyard.com/wp-content/uploads/2023/01/EHS_KVCEventsPage@1000.jpeg
END:VEVENT
BEGIN:VEVENT
DTSTART;VALUE=DATE:20230304
DTEND;VALUE=DATE:20230305
DTSTAMP:20260419T085553
CREATED:20230203T214128Z
LAST-MODIFIED:20230203T214128Z
UID:4280-1677888000-1677974399@kamloopsvineyard.com
SUMMARY:Men's Night.  Saturday Mar 4th @ 7:30 pm
DESCRIPTION:Men’s Night. Saturday Feb 4th @ 7:30 pm.\n1st Saturday of every month.\nMen of all ages gathering in a home\, around a fire\, or somewhere out in nature. Typically an evening of random fun\, snacks and conversation . . . all of it with the intention to build up and encourage one another. ‘We’re better together!’ \nContact Monte Campbell at 778-220-3296 or montecampbell@gmail.com for more details and location information.
URL:https://kamloopsvineyard.com/event/mens-night-saturday-mar-4th-730-pm/
LOCATION:British Columbia
CATEGORIES:Men's Fellowship,Vineyard Life Group
ATTACH;FMTTYPE=image/jpeg:https://kamloopsvineyard.com/wp-content/uploads/2022/12/MensNight_Jan2023@1000.jpeg
END:VEVENT
BEGIN:VEVENT
DTSTART;VALUE=DATE:20230228
DTEND;VALUE=DATE:20230301
DTSTAMP:20260419T085553
CREATED:20230224T191600Z
LAST-MODIFIED:20230224T191600Z
UID:4348-1677542400-1677628799@kamloopsvineyard.com
SUMMARY:Emotionally Healthy Discipleship Course. Tuesday Evening Group. Feb 28th @ 7 pm. (Session 3)
DESCRIPTION:Emotionally Healthy Discipleship Course\nSession 3 of 8 \nMoving from Shallow Christianity to Deep Transformation \nDownload the KVC EHS Promotional Information Sheet\, click here. \nDavid and Debbie are opening up their home to lead a discipleship group over 2 months. It’s called Emotionally Healthy Spirituality (EHS). In a nutshell\, EHS offers us foundational training in discipleship and an important building block for aspiring leaders in our Vineyard community. The training is focused on growing in our love for God. \nThe course presents members with personal tools and session exercises to better explore the state of our hearts and God’s love for us. God cares about the maturing of our faith and emotional health. By understanding family roots\, making peace with the past\, and learning rhythms of going to God in a 1-on-1 conversation\, we’re hoping to foster an Emotionally Healthy Spirituality where our loving Father is at the forefront.
URL:https://kamloopsvineyard.com/event/emotionally-healthy-discipleship-course-tuesday-evening-group-feb-28th-7-pm-session-3/
LOCATION:Tombe’s Home\, 1266 Pine Grove Rd\, Kamloops\, British Columbia\, V2C 6V6\, Canada
CATEGORIES:Discipleship Course,In-House Connections,Vineyard Life Group
ATTACH;FMTTYPE=image/jpeg:https://kamloopsvineyard.com/wp-content/uploads/2023/01/EHS_KVCEventsPage@1000.jpeg
END:VEVENT
BEGIN:VEVENT
DTSTART;VALUE=DATE:20230228
DTEND;VALUE=DATE:20230301
DTSTAMP:20260419T085553
CREATED:20230106T185806Z
LAST-MODIFIED:20230224T191741Z
UID:4169-1677542400-1677628799@kamloopsvineyard.com
SUMMARY:Emotionally Healthy Discipleship Course. Tuesday Daytime Group Feb 28th @ 2:30 pm. (Session 3)
DESCRIPTION:Emotionally Healthy Discipleship Course\nSession 3 of 8 \nMoving from Shallow Christianity to Deep Transformation \nDownload the KVC EHS Promotional Information Sheet\, click here. \nDavid and Debbie are opening up their home to lead a discipleship group over 2 months. It’s called Emotionally Healthy Spirituality (EHS). In a nutshell\, EHS offers us foundational training in discipleship and an important building block for aspiring leaders in our Vineyard community. The training is focused on growing in our love for God. \nThe course presents members with personal tools and session exercises to better explore the state of our hearts and God’s love for us. God cares about the maturing of our faith and emotional health. By understanding family roots\, making peace with the past\, and learning rhythms of going to God in a 1-on-1 conversation\, we’re hoping to foster an Emotionally Healthy Spirituality where our loving Father is at the forefront.
URL:https://kamloopsvineyard.com/event/emotionally-healthy-discipleship-course-tuesday-feb-21st-7-pm/
LOCATION:Tombe’s Home\, 1266 Pine Grove Rd\, Kamloops\, British Columbia\, V2C 6V6\, Canada
CATEGORIES:Discipleship Course,In-House Connections,Vineyard Life Group
ATTACH;FMTTYPE=image/jpeg:https://kamloopsvineyard.com/wp-content/uploads/2023/01/EHS_KVCEventsPage@1000.jpeg
END:VEVENT
BEGIN:VEVENT
DTSTART;VALUE=DATE:20230221
DTEND;VALUE=DATE:20230222
DTSTAMP:20260419T085553
CREATED:20230221T213022Z
LAST-MODIFIED:20230221T213406Z
UID:4342-1676937600-1677023999@kamloopsvineyard.com
SUMMARY:Emotionally Healthy Discipleship Course. Tuesday Evening Group. Feb 21st @ 7 pm.  (Session 2)
DESCRIPTION:Emotionally Healthy Discipleship Course\nSession 2 of 8 \nMoving from Shallow Christianity to Deep Transformation \nDownload the KVC EHS Promotional Information Sheet\, click here. \nDavid and Debbie are opening up their home to lead a discipleship group over 2 months. It’s called Emotionally Healthy Spirituality (EHS). In a nutshell\, EHS offers us foundational training in discipleship and an important building block for aspiring leaders in our Vineyard community. The training is focused on growing in our love for God. \nThe course presents members with personal tools and session exercises to better explore the state of our hearts and God’s love for us. God cares about the maturing of our faith and emotional health. By understanding family roots\, making peace with the past\, and learning rhythms of going to God in a 1-on-1 conversation\, we’re hoping to foster an Emotionally Healthy Spirituality where our loving Father is at the forefront. \nThree steps to involving yourselves in the\nEmotionally Healthy Spirituality course; \n\nOrder you EHS Participant’s Pack TODAY.\nAmazon Books (click here)\nEmail Debbie and tell her that you want to attend\, debbie@kamloopsvineyard.com.\nImmerse yourself in the course and curriculum\,\nit’s an investment that keeps paying forward: \n\nSet aside time to practice Daily Office\n(practice the Day-By-Day prayer and devotional\, 10 – 15 min.\, 2 times a day).\nRead the EHS trade book and workbook introductions\nin tandem with the 8 sessions.
URL:https://kamloopsvineyard.com/event/emotionally-healthy-discipleship-course-tuesday-evening-feb-21st-7-pm-session-2/
LOCATION:Tombe’s Home\, 1266 Pine Grove Rd\, Kamloops\, British Columbia\, V2C 6V6\, Canada
CATEGORIES:Discipleship Course,In-House Connections,Vineyard Life Group
ATTACH;FMTTYPE=image/jpeg:https://kamloopsvineyard.com/wp-content/uploads/2023/01/EHS_KVCEventsPage@1000.jpeg
END:VEVENT
BEGIN:VEVENT
DTSTART;VALUE=DATE:20230221
DTEND;VALUE=DATE:20230222
DTSTAMP:20260419T085553
CREATED:20230114T184841Z
LAST-MODIFIED:20230221T213547Z
UID:4160-1676937600-1677023999@kamloopsvineyard.com
SUMMARY:Emotionally Healthy Discipleship Course. Tuesday Daytime Group. Feb 21st @ 2:30 pm.  (Session 2)
DESCRIPTION:Emotionally Healthy Discipleship Course\nSession 2 of 8 \nMoving from Shallow Christianity to Deep Transformation \nDownload the KVC EHS Promotional Information Sheet\, click here. \nDavid and Debbie are opening up their home to lead a discipleship group over 2 months. It’s called Emotionally Healthy Spirituality (EHS). In a nutshell\, EHS offers us foundational training in discipleship and an important building block for aspiring leaders in our Vineyard community. The training is focused on growing in our love for God. \nThe course presents members with personal tools and session exercises to better explore the state of our hearts and God’s love for us. God cares about the maturing of our faith and emotional health. By understanding family roots\, making peace with the past\, and learning rhythms of going to God in a 1-on-1 conversation\, we’re hoping to foster an Emotionally Healthy Spirituality where our loving Father is at the forefront. \nThree steps to involving yourselves in the\nEmotionally Healthy Spirituality course; \n\nOrder you EHS Participant’s Pack TODAY.\nAmazon Books (click here)\nEmail Debbie and tell her that you want to attend\, debbie@kamloopsvineyard.com.\nImmerse yourself in the course and curriculum\,\nit’s an investment that keeps paying forward: \n\nSet aside time to practice Daily Office\n(practice the Day-By-Day prayer and devotional\, 10 – 15 min.\, 2 times a day).\nRead the EHS trade book and workbook introductions\nin tandem with the 8 sessions.
URL:https://kamloopsvineyard.com/event/emotionally-healthy-discipleship-course-feb-7th-7-pm/
LOCATION:Tombe’s Home\, 1266 Pine Grove Rd\, Kamloops\, British Columbia\, V2C 6V6\, Canada
CATEGORIES:Discipleship Course,In-House Connections,Vineyard Life Group
ATTACH;FMTTYPE=image/jpeg:https://kamloopsvineyard.com/wp-content/uploads/2023/01/EHS_KVCEventsPage@1000.jpeg
END:VEVENT
BEGIN:VEVENT
DTSTART;VALUE=DATE:20230214
DTEND;VALUE=DATE:20230215
DTSTAMP:20260419T085553
CREATED:20230106T185719Z
LAST-MODIFIED:20230208T171927Z
UID:4167-1676332800-1676419199@kamloopsvineyard.com
SUMMARY:Emotionally Healthy Discipleship Course. Tuesday Feb 14th @ 7 pm.  (Session 1)
DESCRIPTION:Emotionally Healthy Discipleship Course\nSession 1 of 8 \nMoving from Shallow Christianity to Deep Transformation \nDownload the KVC EHS Promotional Information Sheet\, click here. \nBeginning Tues. evening February 7th @ 7pm\, David and Debbie are opening up their home to lead an 8 sessions course over 2 months. It’s called Emotionally Healthy Spirituality (EHS). In a nutshell\, EHS offers us foundational training in discipleship and an important building block for aspiring leaders in our Vineyard community. The training is focused on growing in our love for God. \nThe course presents members with personal tools and session exercises to better explore the state of our hearts and God’s love for us. God cares about the maturing of our faith and emotional health. By understanding family roots\, making peace with the past\, and learning rhythms of going to God in a 1-on-1 conversation\, we’re hoping to foster an Emotionally Healthy Spirituality where our loving Father is at the forefront. \nIF you haven’t already done so\, you can order your EHS Participant’s Pack TODAY.\nAmazon Books (click here)
URL:https://kamloopsvineyard.com/event/emotionally-healthy-discipleship-course-tuesday-feb-14th-7-pm/
LOCATION:Tombe’s Home\, 1266 Pine Grove Rd\, Kamloops\, British Columbia\, V2C 6V6\, Canada
CATEGORIES:Discipleship Course,In-House Connections,Vineyard Life Group
ATTACH;FMTTYPE=image/jpeg:https://kamloopsvineyard.com/wp-content/uploads/2023/01/EHS_KVCEventsPage@1000.jpeg
END:VEVENT
BEGIN:VEVENT
DTSTART;VALUE=DATE:20230211
DTEND;VALUE=DATE:20230212
DTSTAMP:20260419T085553
CREATED:20230211T160517Z
LAST-MODIFIED:20230211T160551Z
UID:4318-1676073600-1676159999@kamloopsvineyard.com
SUMMARY:Ladies' Night.  Saturday Feb 11th @ 6:30 pm.
DESCRIPTION:Ladies’ Night (the Second Tuesday of every month)\nWomen of all ages gather in a home for an evening of appys and conversation.  Often\, an activity is shared\, appropriate to the season at hand. \nContact Bonnie Bylsma at 250-318-9377 or bonnie@kamloopsvineyard.com for more details and location information.
URL:https://kamloopsvineyard.com/event/ladies-night-saturday-feb-11th-630-pm/
LOCATION:British Columbia
CATEGORIES:Ladies Night,Vineyard Life Group,Women's Group
ATTACH;FMTTYPE=image/jpeg:https://kamloopsvineyard.com/wp-content/uploads/2022/10/KVC-LADIES-NIGHT.jpg
END:VEVENT
BEGIN:VEVENT
DTSTART;VALUE=DATE:20230207
DTEND;VALUE=DATE:20230208
DTSTAMP:20260419T085553
CREATED:20230208T165228Z
LAST-MODIFIED:20230208T165930Z
UID:4284-1675728000-1675814399@kamloopsvineyard.com
SUMMARY:Emotionally Healthy Discipleship Course. Tuesday Feb 7th @ 7 pm.  (Introduction)
DESCRIPTION:Emotionally Healthy Discipleship Course\nCOURSE INTRODUCTION \nMoving from Shallow Christianity to Deep Transformation \nDownload the KVC EHS Promotional Information Sheet\, click here. \nBeginning Tues. evening February 7th @ 7pm\, David and Debbie are opening up their home to lead a discipleship group over 2 months. It’s called Emotionally Healthy Spirituality (EHS). In a nutshell\, EHS offers us foundational training in discipleship and an important building block for aspiring leaders in our Vineyard community. The training is focused on growing in our love for God. \nThe course presents members with personal tools and session exercises to better explore the state of our hearts and God’s love for us. God cares about the maturing of our faith and emotional health. By understanding family roots\, making peace with the past\, and learning rhythms of going to God in a 1-on-1 conversation\, we’re hoping to foster an Emotionally Healthy Spirituality where our loving Father is at the forefront. \nThree steps to involving yourselves in the\nEmotionally Healthy Spirituality course; \n\nOrder you EHS Participant’s Pack TODAY.\nAmazon Books (click here)\nEmail Debbie and tell her that you want to attend\, debbie@kamloopsvineyard.com.\nImmerse yourself in the course and curriculum\,\nit’s an investment that keeps paying forward: \n\nSet aside time to practice Daily Office\n(practice the Day-By-Day prayer and devotional\, 10 – 15 min.\, 2 times a day).\nRead the EHS trade book and workbook introductions\nin tandem with the 8 sessions.
URL:https://kamloopsvineyard.com/event/emotionally-healthy-discipleship-course-tuesday-feb-7th-7-pm/
LOCATION:Tombe’s Home\, 1266 Pine Grove Rd\, Kamloops\, British Columbia\, V2C 6V6\, Canada
CATEGORIES:Discipleship Course,In-House Connections,Vineyard Life Group
ATTACH;FMTTYPE=image/jpeg:https://kamloopsvineyard.com/wp-content/uploads/2023/01/EHS_KVCEventsPage@1000.jpeg
END:VEVENT
BEGIN:VEVENT
DTSTART;VALUE=DATE:20230204
DTEND;VALUE=DATE:20230205
DTSTAMP:20260419T085553
CREATED:20230203T214042Z
LAST-MODIFIED:20230203T214042Z
UID:4278-1675468800-1675555199@kamloopsvineyard.com
SUMMARY:Men's Night.  Saturday Feb 4th @ 7:30 pm
DESCRIPTION:Men’s Night. Saturday Feb 4th @ 7:30 pm.\n1st Saturday of every month.\nMen of all ages gathering in a home\, around a fire\, or somewhere out in nature. Typically an evening of random fun\, snacks and conversation . . . all of it with the intention to build up and encourage one another. ‘We’re better together!’ \nContact Monte Campbell at 778-220-3296 or montecampbell@gmail.com for more details and location information.
URL:https://kamloopsvineyard.com/event/mens-night-saturday-feb-4th-730-pm/
LOCATION:British Columbia
CATEGORIES:Men's Fellowship,Vineyard Life Group
ATTACH;FMTTYPE=image/jpeg:https://kamloopsvineyard.com/wp-content/uploads/2022/12/MensNight_Jan2023@1000.jpeg
END:VEVENT
BEGIN:VEVENT
DTSTART;VALUE=DATE:20230107
DTEND;VALUE=DATE:20230108
DTSTAMP:20260419T085553
CREATED:20221228T220056Z
LAST-MODIFIED:20221228T220658Z
UID:4134-1673049600-1673135999@kamloopsvineyard.com
SUMMARY:Men's Night.  Saturday Jan 7th @ 7:30 pm
DESCRIPTION:Men’s Night. Saturday Jan 7th @ 7:30 pm.\n1st Saturday of every month.\nMen of all ages gathering in a home\, around a fire\, or somewhere out in nature. Typically an evening of random fun\, snacks and conversation . . . all of it with the intention to build up and encourage one another. ‘We’re better together!’ \nContact Monte Campbell at 778-220-3296 or montecampbell@gmail.com for more details and location information.
URL:https://kamloopsvineyard.com/event/mens-night-saturday-jan-7th-730-pm-every-1st-saturday/
LOCATION:British Columbia
CATEGORIES:Men's Fellowship,Vineyard Life Group
ATTACH;FMTTYPE=image/jpeg:https://kamloopsvineyard.com/wp-content/uploads/2022/12/MensNight_Jan2023@1000.jpeg
END:VEVENT
END:VCALENDAR