BEGIN:VCALENDAR
VERSION:2.0
PRODID:-//Kamloops Vineyard Church - ECPv6.15.16//NONSGML v1.0//EN
CALSCALE:GREGORIAN
METHOD:PUBLISH
X-WR-CALNAME:Kamloops Vineyard Church
X-ORIGINAL-URL:https://kamloopsvineyard.com
X-WR-CALDESC:Events for Kamloops Vineyard Church
REFRESH-INTERVAL;VALUE=DURATION:PT1H
X-Robots-Tag:noindex
X-PUBLISHED-TTL:PT1H
BEGIN:VTIMEZONE
TZID:America/Vancouver
BEGIN:DAYLIGHT
TZOFFSETFROM:-0800
TZOFFSETTO:-0700
TZNAME:PDT
DTSTART:20200308T100000
END:DAYLIGHT
BEGIN:STANDARD
TZOFFSETFROM:-0700
TZOFFSETTO:-0800
TZNAME:PST
DTSTART:20201101T090000
END:STANDARD
BEGIN:DAYLIGHT
TZOFFSETFROM:-0800
TZOFFSETTO:-0700
TZNAME:PDT
DTSTART:20210314T100000
END:DAYLIGHT
BEGIN:STANDARD
TZOFFSETFROM:-0700
TZOFFSETTO:-0800
TZNAME:PST
DTSTART:20211107T090000
END:STANDARD
BEGIN:DAYLIGHT
TZOFFSETFROM:-0800
TZOFFSETTO:-0700
TZNAME:PDT
DTSTART:20220313T100000
END:DAYLIGHT
BEGIN:STANDARD
TZOFFSETFROM:-0700
TZOFFSETTO:-0800
TZNAME:PST
DTSTART:20221106T090000
END:STANDARD
END:VTIMEZONE
BEGIN:VEVENT
DTSTART;TZID=America/Vancouver:20211205T140000
DTEND;TZID=America/Vancouver:20211205T153000
DTSTAMP:20260424T090743
CREATED:20211019T191219Z
LAST-MODIFIED:20211203T181829Z
UID:3021-1638712800-1638718200@kamloopsvineyard.com
SUMMARY:Sunday Advent Worship Service. Dec 5th @ 2 pm.
DESCRIPTION:Join us this Sunday Dec 5th @ 2pm\nJourney through Advent Series No 2. — PEACE\nGateway City Church\, Valleyview. \nThis Sunday the Kids and families are joining us for the entire worship. Together\, we’re celebrating and light the second Advent Christmas Candle for PEACE. \nFor access to our AUDIO recordings of this Advent Sermon Series\, please visit our Audio Resources Page. \nWe’re Streaming LIVE\nIF you can’t meet with us in-person\, join us ONLINE.\nFacebook Public\nFacebook Group\nYouTube \n__________________________ \nMany hands help lighten the workload. We’re looking for people to help with setup\, takedown\, cleanup\, greeting. Please contact Connie Smith and Debbie Tombe to find out how you can help serve. Please email\, info@kamloopsvineyard.com or call the office at 250-828-1690. \n__________________________ \n\n\n\n\nIMPORTANT BC HEALTH AUTHORITY ANNOUNCEMENT: \nThe BC Provincial Health Office has lifted exemptions for all worshippers\, which requires people to wear face coverings in public spaces. Effective Tuesday night\, Nov 30th\, all participants attending worship services must wear a mask. \n\nFor more information please visit this link. \n\n\n\nAnd finally\, IF you or anyone from your household is experiencing cold\nor flu-like symptoms you are encouraged to remain at home.
URL:https://kamloopsvineyard.com/event/sunday-worship-service-nov-28th-2-pm/
LOCATION:British Columbia
CATEGORIES:Advent,Special Event,Streaming LIVE,Sunday In-Person Worship
ATTACH;FMTTYPE=image/jpeg:https://kamloopsvineyard.com/wp-content/uploads/2021/10/SundayWorship_Advent2021@1000.jpeg
END:VEVENT
BEGIN:VEVENT
DTSTART;TZID=America/Vancouver:20211207T083000
DTEND;TZID=America/Vancouver:20211207T093000
DTSTAMP:20260424T090743
CREATED:20211130T204428Z
LAST-MODIFIED:20211130T204428Z
UID:3214-1638865800-1638869400@kamloopsvineyard.com
SUMMARY:Band of Brothers 'AM Company' Tuesday Dec 7th @ 8:30 am.
DESCRIPTION:Band of Brothers is a group of men connecting IN-PERSON and ONLINE. Our primary purpose is to support one another in life and faith. \n“We’re called to journey together because we’re not supposed to do it alone.” \nTo be included in a weekly ZOOM invitation to the please email David Tombe.\ndavid@kamloopsvineyard.com
URL:https://kamloopsvineyard.com/event/band-of-brothers-am-company-tuesday-dec-7th-830-am/
LOCATION:VIDEO CONFERENCING Kamloops Vineyard Church\, Kamloops\, British Columbia\, Canada
CATEGORIES:Men's Fellowship,Video Conferencing
ATTACH;FMTTYPE=image/jpeg:https://kamloopsvineyard.com/wp-content/uploads/2021/04/BandofBrotherImage@350AM.jpg
END:VEVENT
BEGIN:VEVENT
DTSTART;TZID=America/Vancouver:20211212T140000
DTEND;TZID=America/Vancouver:20211212T153000
DTSTAMP:20260424T090743
CREATED:20211130T200419Z
LAST-MODIFIED:20211203T182021Z
UID:3211-1639317600-1639323000@kamloopsvineyard.com
SUMMARY:Sunday Advent Worship Service. Dec 12th @ 2 pm.
DESCRIPTION:Join us this Sunday Dec 12th @ 2pm\nJourney through Advent Series No 3. — JOY\nGateway City Church\, Valleyview. \nWe’re celebrating and light the third Advent Christmas Candle for Joy. \nFor access to our AUDIO recordings of this Advent Sermon Series\, please visit our Audio Resources Page. \nWe’re Streaming LIVE\nIF you can’t meet with us in-person\, join us ONLINE.\nFacebook Public\nFacebook Group\nYouTube \n__________________________ \nMany hands help lighten the workload. We’re looking for people to help with setup\, takedown\, cleanup\, greeting. Please contact Connie Smith and Debbie Tombe to find out how you can help serve. Please email\, info@kamloopsvineyard.com or call the office at 250-828-1690. \n__________________________ \n\nIMPORTANT BC HEALTH AUTHORITY ANNOUNCEMENT: \nThe BC Provincial Health Office has lifted exemptions for all worshippers\, which requires people to wear face coverings in public spaces. Effective Tuesday night\, Nov 30th\, all participants attending worship services must wear a mask. \n\nFor more information please visit this link. \nAnd finally\, IF you or anyone from your household is experiencing cold\nor flu-like symptoms you are encouraged to remain at home.
URL:https://kamloopsvineyard.com/event/sunday-advent-worship-service-dec-12th-2-pm/
LOCATION:British Columbia
CATEGORIES:Advent,Special Event,Streaming LIVE,Sunday In-Person Worship
ATTACH;FMTTYPE=image/jpeg:https://kamloopsvineyard.com/wp-content/uploads/2021/10/SundayWorship_Advent2021@1000.jpeg
END:VEVENT
BEGIN:VEVENT
DTSTART;TZID=America/Vancouver:20211214T083000
DTEND;TZID=America/Vancouver:20211214T093000
DTSTAMP:20260424T090743
CREATED:20211130T204509Z
LAST-MODIFIED:20211130T204509Z
UID:3213-1639470600-1639474200@kamloopsvineyard.com
SUMMARY:Band of Brothers 'AM Company' Tuesday Dec 14th @ 8:30 am.
DESCRIPTION:Band of Brothers is a group of men connecting IN-PERSON and ONLINE. Our primary purpose is to support one another in life and faith. \n“We’re called to journey together because we’re not supposed to do it alone.” \nTo be included in a weekly ZOOM invitation to the please email David Tombe.\ndavid@kamloopsvineyard.com
URL:https://kamloopsvineyard.com/event/band-of-brothers-am-company-tuesday-dec-14th-830-am/
LOCATION:VIDEO CONFERENCING Kamloops Vineyard Church\, Kamloops\, British Columbia\, Canada
CATEGORIES:Men's Fellowship,Video Conferencing
ATTACH;FMTTYPE=image/jpeg:https://kamloopsvineyard.com/wp-content/uploads/2021/04/BandofBrotherImage@350AM.jpg
END:VEVENT
BEGIN:VEVENT
DTSTART;TZID=America/Vancouver:20211219T153000
DTEND;TZID=America/Vancouver:20211219T210000
DTSTAMP:20260424T090743
CREATED:20211209T191854Z
LAST-MODIFIED:20211216T174021Z
UID:3257-1639927800-1639947600@kamloopsvineyard.com
SUMMARY:CANCELLED. Vineyard Family Christmas Celebration. Sunday Dec 19th.
DESCRIPTION:We’ve CANCELLED this year’s Open House. \nVineyard Family Christmas Celebration\nOpen House is ‘CANCELLED’\nSunday Dec 19th. \n— \nIf you have any questions please contact: \nDebbie Tombe (Vineyard Administration)\ndebbie@kamloopsvineyard.com\n250-320-4563
URL:https://kamloopsvineyard.com/event/vineyard-family-christmas-celebration-the-enns-third-sunday-dec-19th-beginning-330-pm/
LOCATION:British Columbia
ATTACH;FMTTYPE=image/jpeg:https://kamloopsvineyard.com/wp-content/uploads/2021/12/Cancelled_kvcopenhouse@1000.jpeg
END:VEVENT
BEGIN:VEVENT
DTSTART;TZID=America/Vancouver:20211221T083000
DTEND;TZID=America/Vancouver:20211221T093000
DTSTAMP:20260424T090743
CREATED:20211216T174331Z
LAST-MODIFIED:20211216T174331Z
UID:3290-1640075400-1640079000@kamloopsvineyard.com
SUMMARY:Band of Brothers 'AM Company' Tuesday Dec 21st @ 8:30 am.
DESCRIPTION:Band of Brothers is a group of men connecting IN-PERSON and ONLINE. Our primary purpose is to support one another in life and faith. \n“We’re called to journey together because we’re not supposed to do it alone.” \nTo be included in a weekly ZOOM invitation to the please email David Tombe.\ndavid@kamloopsvineyard.com
URL:https://kamloopsvineyard.com/event/band-of-brothers-am-company-tuesday-dec-21st-830-am/
LOCATION:VIDEO CONFERENCING Kamloops Vineyard Church\, Kamloops\, British Columbia\, Canada
CATEGORIES:Men's Fellowship,Video Conferencing
ATTACH;FMTTYPE=image/jpeg:https://kamloopsvineyard.com/wp-content/uploads/2021/04/BandofBrotherImage@350AM.jpg
END:VEVENT
BEGIN:VEVENT
DTSTART;TZID=America/Vancouver:20211224T160000
DTEND;TZID=America/Vancouver:20211224T170000
DTSTAMP:20260424T090743
CREATED:20211209T180307Z
LAST-MODIFIED:20211223T000506Z
UID:3250-1640361600-1640365200@kamloopsvineyard.com
SUMMARY:Christmas Eve Service. Dec 24th @ 4 pm.
DESCRIPTION:‘Christmas Eve—A Weary World Rejoices!’\nJoin us  Friday Evening Dec 24th @ 4 pm or 6 pm.\nGateway and Vineyard Churches are joining to celebrate. \nWe’re Streaming LIVE\nIF you can’t meet with us in-person or join us ONLINE. \nStreaming LIVE to Youtube @ 4 pm (click here).\nStreaming LIVE to Youtube @ 6 pm (click here). \n__________________________ \n\nIMPORTANT BC HEALTH AUTHORITY ANNOUNCEMENT: \nThe BC Provincial Health Office has lifted exemptions for all worshippers\, which requires people to wear face coverings in public spaces. Effective Tuesday night\, Nov 30th\, all participants attending worship services must wear a mask. \n\nFor more information please click here. \nAnd finally\, IF you or anyone from your household is experiencing cold\nor flu-like symptoms you are encouraged to remain at home and join us online.
URL:https://kamloopsvineyard.com/event/christmas-eve-service-dec-24th-4-pm/
LOCATION:British Columbia
CATEGORIES:Christmas Eve,In-Person Worship Service,Special Event,Streaming LIVE
ATTACH;FMTTYPE=image/jpeg:https://kamloopsvineyard.com/wp-content/uploads/2021/12/christmaseve_gcckvc@640.jpg
END:VEVENT
BEGIN:VEVENT
DTSTART;TZID=America/Vancouver:20211224T180000
DTEND;TZID=America/Vancouver:20211224T190000
DTSTAMP:20260424T090743
CREATED:20211209T180803Z
LAST-MODIFIED:20211223T000406Z
UID:3255-1640368800-1640372400@kamloopsvineyard.com
SUMMARY:Christmas Eve Service. Dec 24th @ 6 pm.
DESCRIPTION:‘Christmas Eve—A Weary World Rejoices!’\nJoin us  Friday Evening Dec 24th @ 4 pm or 6 pm.\nGateway and Vineyard Churches are joining to celebrate. \nWe’re Streaming LIVE\nIF you can’t meet with us in-person or join us ONLINE. \nStreaming LIVE to Youtube @ 4 pm (click here).\nStreaming LIVE to Youtube @ 6 pm (click here). \n__________________________ \n\nIMPORTANT BC HEALTH AUTHORITY ANNOUNCEMENT: \nThe BC Provincial Health Office has lifted exemptions for all worshippers\, which requires people to wear face coverings in public spaces. Effective Tuesday night\, Nov 30th\, all participants attending worship services must wear a mask. \n\nFor more information please visit this link. \nAnd finally\, IF you or anyone from your household is experiencing cold\nor flu-like symptoms you are encouraged to remain at home and join us online.
URL:https://kamloopsvineyard.com/event/christmas-eve-service-dec-24th-6-pm/
LOCATION:British Columbia
CATEGORIES:Advent,In-Person Worship Service,Special Event,Streaming LIVE
ATTACH;FMTTYPE=image/jpeg:https://kamloopsvineyard.com/wp-content/uploads/2021/12/christmaseve_gcckvc@640.jpg
END:VEVENT
BEGIN:VEVENT
DTSTART;VALUE=DATE:20211226
DTEND;VALUE=DATE:20211227
DTSTAMP:20260424T090743
CREATED:20211209T200658Z
LAST-MODIFIED:20211226T183940Z
UID:3261-1640476800-1640563199@kamloopsvineyard.com
SUMMARY:Online Worship Gathering with David and Anita Ruis. Sunday Dec 26th @ 10 am.
DESCRIPTION:Boxing Day Sunday Dec 26th @ 10 am.\n \nVineyard Canada’s National Directors\, David and Anita Ruis\, are creating a simple worship\, reflection\, and prayer service to share with our Canadian churches on Sunday December 26th. Lending their pastoral strength and wisdom to our Vineyard family\, the Ruis’s are going to reflect on the past year and orient us toward the year ahead. \nKamloops Vineyard Streaming\nYouTube
URL:https://kamloopsvineyard.com/event/vineyard-canada-national-worship-gathering-dec-26th/
LOCATION:Kamloops Vineyard Streaming\, Canada
CATEGORIES:Streaming ONLINE,Vineyard Canada Gathering
ATTACH;FMTTYPE=image/png:https://kamloopsvineyard.com/wp-content/uploads/2021/12/VC_NationalWorshipGathering_Dec26@1000.png
END:VEVENT
END:VCALENDAR