BEGIN:VCALENDAR
VERSION:2.0
PRODID:-//Kamloops Vineyard Church - ECPv6.15.16//NONSGML v1.0//EN
CALSCALE:GREGORIAN
METHOD:PUBLISH
X-ORIGINAL-URL:https://kamloopsvineyard.com
X-WR-CALDESC:Events for Kamloops Vineyard Church
REFRESH-INTERVAL;VALUE=DURATION:PT1H
X-Robots-Tag:noindex
X-PUBLISHED-TTL:PT1H
BEGIN:VTIMEZONE
TZID:America/Vancouver
BEGIN:DAYLIGHT
TZOFFSETFROM:-0800
TZOFFSETTO:-0700
TZNAME:PDT
DTSTART:20210314T100000
END:DAYLIGHT
BEGIN:STANDARD
TZOFFSETFROM:-0700
TZOFFSETTO:-0800
TZNAME:PST
DTSTART:20211107T090000
END:STANDARD
BEGIN:DAYLIGHT
TZOFFSETFROM:-0800
TZOFFSETTO:-0700
TZNAME:PDT
DTSTART:20220313T100000
END:DAYLIGHT
BEGIN:STANDARD
TZOFFSETFROM:-0700
TZOFFSETTO:-0800
TZNAME:PST
DTSTART:20221106T090000
END:STANDARD
BEGIN:DAYLIGHT
TZOFFSETFROM:-0800
TZOFFSETTO:-0700
TZNAME:PDT
DTSTART:20230312T100000
END:DAYLIGHT
BEGIN:STANDARD
TZOFFSETFROM:-0700
TZOFFSETTO:-0800
TZNAME:PST
DTSTART:20231105T090000
END:STANDARD
END:VTIMEZONE
BEGIN:VEVENT
DTSTART;VALUE=DATE:20220410
DTEND;VALUE=DATE:20220411
DTSTAMP:20260424T004729
CREATED:20220409T030104Z
LAST-MODIFIED:20220409T030104Z
UID:3466-1649548800-1649635199@kamloopsvineyard.com
SUMMARY:Palm Sunday Worship Service. April 10th @ 2 pm.
DESCRIPTION:Join us Sunday April 10th @ 2 pm.\nGateway City Church\, Valleyview. \nFollowing corporate worship the children break out for Kids’ Church on the 2nd and 4th Sundays of every month. \nWe’re Streaming LIVE\nIF you can’t meet with us in-person\, join us ONLINE.\nFacebook Public\nFacebook Group\nYouTube \nMany hands help lighten the workload. We’re looking for people to help with setup\, takedown\, cleanup\, greeting. Please contact Connie Smith and Debbie Tombe to find out how you can help serve. Please email\, info@kamloopsvineyard.com or call the office at 250-828-1690.
URL:https://kamloopsvineyard.com/event/palm-sunday-worship-service-april-10th-2-pm/
LOCATION:British Columbia
CATEGORIES:Palm Sunday,Streaming LIVE,Sunday In-Person Worship
ATTACH;FMTTYPE=image/jpeg:https://kamloopsvineyard.com/wp-content/uploads/2022/04/PalmSunday2022@1000.jpeg
END:VEVENT
BEGIN:VEVENT
DTSTART;VALUE=DATE:20220415
DTEND;VALUE=DATE:20220416
DTSTAMP:20260424T004729
CREATED:20220325T210417Z
LAST-MODIFIED:20220325T211004Z
UID:3459-1649980800-1650067199@kamloopsvineyard.com
SUMMARY:A Good Friday Event. Stations of the Cross. April 15th @ 10:30 am.
DESCRIPTION:Gateway City Church and the Kamloops Vineyard \nJESUS’ journey to the cross was a powerful and raw public demonstration of GOD’S LOVE and victory over the destructive powers of SIN and DEATH at work in this world. \nThe Good Friday and Stations of the Cross event being held at Riverside Park on April 15th\, draws us together as God’s precious family. It presents us with a welcoming and public devotion that commemorates our Saviour’s journey to the cross and HIS last days on Earth as a man. \nBeginning with JESUS’ temptation in the garden\, the stations focus our attention on specific events of HIS journey to the cross. Scriptures will be read aloud at each station\, a complementary narrative will summarize the attributes of things learned and a moment of prayer and silence will invite the Spirit of God to draw us even deeper into a revelation of HIS LOVE in our hearts. \nFollowing a time of shared communion and public worship\, everyone gathered will be welcomed to enjoy a free brunch (pancakes and fruit\, maybe even some breakfast sausages). \nThis public and outdoor event affords us a great opportunity to invite and welcome friends and family\, neighbours and strangers alike. Won’t you consider bringing someone with you.  LIKEWISE\, this event presents us with an opportunity to be served and to serve others.\nWould you like to join the small group of volunteers who are helping in this event?\nWe’re looking for people to help us with the following; \n\nSetup and teardown of tables\, chairs\, mini-tents\, cooking and serving areas\, music and sound equipment\, and station displays.\nHave you got a truck and/or truck and trailer that you would like to use in our efforts to move things around? We’re estimating that four trucks and their drivers will be needed for the event.\nCooking and Serving.\nHosts and Greeters.\nStations of the Cross Leaders and Narrators.\nMinistry teams to take to the streets to connect with people and invite them to the Riverside celebration and free brunch.\nMaybe you would like to give yourself to praying for this event. You can do this during your private times of prayer or you can jump online with our Community Prayer team on Wednesday evenings or join us in-person during our pre-service Intercessory Prayer times on Sunday afternoons (beginning @ 1:30 pm).\n\nTo find out how you can help at this extraordinary event please contact KVC Administration\, info@kamloopsvineyard.com\, or call (250) 828-1690.
URL:https://kamloopsvineyard.com/event/a-good-friday-event-stations-of-the-cross-april-15th-1030-am/
LOCATION:Riverside Park\, 100 Lorne St\, Kamloops\, BC\, \,V2C 1V9\, Canada
CATEGORIES:Special Event
ATTACH;FMTTYPE=image/jpeg:https://kamloopsvineyard.com/wp-content/uploads/2022/03/SOTC2022.jpg
END:VEVENT
BEGIN:VEVENT
DTSTART;VALUE=DATE:20220417
DTEND;VALUE=DATE:20220418
DTSTAMP:20260424T004729
CREATED:20220417T141540Z
LAST-MODIFIED:20220417T141642Z
UID:3473-1650153600-1650239999@kamloopsvineyard.com
SUMMARY:Easter Sunday Morning. April 17th @ 10 am.
DESCRIPTION:10 AM EASTER SUNDAY MORNING\nApril 17th with Gateway City Church\n\n\nOur partners in the joy of fellowship and in the work of ministry\, Gateway City Church\, have opened their doors to join them this EASTER SUNDAY MORNING\, April 17th @ 10 AM. Debbie and I encourage you to join us in the worship and celebration of our RISEN SAVIOUR ‘KING JESUS’. \nGateway City Church @ 10 AM\n163 Oriole Rd\, Kamloops\, BC V2C 4N8
URL:https://kamloopsvineyard.com/event/easter-sunday-morning-april-17th-10-am/
LOCATION:British Columbia
CATEGORIES:Special Event
ATTACH;FMTTYPE=image/jpeg:https://kamloopsvineyard.com/wp-content/uploads/2022/04/EasterSunday@1000.001.jpeg
END:VEVENT
BEGIN:VEVENT
DTSTART;VALUE=DATE:20220419
DTEND;VALUE=DATE:20220420
DTSTAMP:20260424T004729
CREATED:20220417T150407Z
LAST-MODIFIED:20220417T153803Z
UID:3477-1650326400-1650412799@kamloopsvineyard.com
SUMMARY:Sacred Rhythms Course. Session 1. Tuesday April 19th @ 7 pm. (Barnhartvale)
DESCRIPTION:Welcome to the Vineyard’s Sacred Rhythms Course.\nSix Sessions over Six Weeks. \n\n\n\n\nThe Kamloops Vineyard welcomes the teaching and practice of ‘Sacred Rhythms – Arranging Our Lives for Spiritual Transformation’. \nDo you long for a deep\, fundamental change in your life with God?\nDo you desire a greater intimacy with Him? Do you wonder how you might truly live your life as God created you to live it? \nSpiritual disciplines are activities that open us to God’s transforming love and into changes that only God can bring about in our lives. Reflective of valued practices and ancient pathways\, Monastic traditions welcomed the creation of a “rule of life” with the singular purpose to create space for ongoing encounter with God. \nIn her book and study guide\, Sacred Rhythms\, Ruth Haley Barton presents us with well- thought-out offerings of wisdom and practical exercises—seven core disciplines that we can meaningfully weave into our everyday life. Ultimately\, our goal is to take everything learned to help fashion a rule for living that welcomes spiritual transformation in our personal lives. \n\nFor more information on this and other groups meeting at other locations and to include your name on a list of people planning to take this course in the FALL\, please contact please contact Debbie Tombe\, debbie@kamloopsvineyard.com\, 250-828-1690.
URL:https://kamloopsvineyard.com/event/sacred-rhythms-course-session-1-7-pm-barnhartvale/
LOCATION:Tombe’s Home\, 1266 Pine Grove Rd\, Kamloops\, British Columbia\, V2C 6V6\, Canada
ATTACH;FMTTYPE=image/jpeg:https://kamloopsvineyard.com/wp-content/uploads/2022/04/SacredRhythms_02@1000.jpeg
END:VEVENT
BEGIN:VEVENT
DTSTART;VALUE=DATE:20220419
DTEND;VALUE=DATE:20220420
DTSTAMP:20260424T004729
CREATED:20220417T154727Z
LAST-MODIFIED:20220417T154727Z
UID:3529-1650326400-1650412799@kamloopsvineyard.com
SUMMARY:Band of Brothers 'AM Company' Tuesday April 19th @ 8:30 am.
DESCRIPTION:Band of Brothers is a group of men connecting IN-PERSON and ONLINE. Our primary purpose is to support one another in life and faith. \n“We’re called to journey together because we’re not supposed to do it alone.” \nTo be included in a weekly ZOOM invitation to the please email David Tombe.\ndavid@kamloopsvineyard.com
URL:https://kamloopsvineyard.com/event/band-of-brothers-am-company-tuesday-april-19th-830-am/
LOCATION:VIDEO CONFERENCING Kamloops Vineyard Church\, Kamloops\, British Columbia\, Canada
CATEGORIES:Men's Fellowship,Video Conferencing
ATTACH;FMTTYPE=image/jpeg:https://kamloopsvineyard.com/wp-content/uploads/2021/04/BandofBrotherImage@350AM.jpg
END:VEVENT
BEGIN:VEVENT
DTSTART;VALUE=DATE:20220424
DTEND;VALUE=DATE:20220425
DTSTAMP:20260424T004729
CREATED:20220417T155700Z
LAST-MODIFIED:20220417T155715Z
UID:3539-1650758400-1650844799@kamloopsvineyard.com
SUMMARY:Sunday Worship Service. April 24th @ 2 pm.
DESCRIPTION:Join us Sunday April 24th @ 2 pm.\nGateway City Church\, Valleyview. \nFollowing corporate worship the children break out for Kids’ Church on the 2nd and 4th Sundays of every month. \nWe’re Streaming LIVE\nIF you can’t meet with us in-person\, join us ONLINE.\nFacebook Public\nFacebook Group\nYouTube \nMany hands help lighten the workload. We’re looking for people to help with setup\, takedown\, cleanup\, greeting. Please contact Connie Smith and Debbie Tombe to find out how you can help serve. Please email\, info@kamloopsvineyard.com or call the office at 250-828-1690.
URL:https://kamloopsvineyard.com/event/sunday-worship-service-april-24th-2-pm/
LOCATION:British Columbia
CATEGORIES:Streaming LIVE,Sunday In-Person Worship
ATTACH;FMTTYPE=image/jpeg:https://kamloopsvineyard.com/wp-content/uploads/2021/10/SundayWorship@1000.jpeg
END:VEVENT
BEGIN:VEVENT
DTSTART;VALUE=DATE:20220426
DTEND;VALUE=DATE:20220427
DTSTAMP:20260424T004729
CREATED:20220417T154854Z
LAST-MODIFIED:20220417T154854Z
UID:3531-1650931200-1651017599@kamloopsvineyard.com
SUMMARY:Band of Brothers 'AM Company' Tuesday April 26th @ 8:30 am.
DESCRIPTION:Band of Brothers is a group of men connecting IN-PERSON and ONLINE. Our primary purpose is to support one another in life and faith. \n“We’re called to journey together because we’re not supposed to do it alone.” \nTo be included in a weekly ZOOM invitation to the please email David Tombe.\ndavid@kamloopsvineyard.com
URL:https://kamloopsvineyard.com/event/band-of-brothers-am-company-tuesday-april-26th-830-am/
LOCATION:VIDEO CONFERENCING Kamloops Vineyard Church\, Kamloops\, British Columbia\, Canada
CATEGORIES:Men's Fellowship,Video Conferencing
ATTACH;FMTTYPE=image/jpeg:https://kamloopsvineyard.com/wp-content/uploads/2021/04/BandofBrotherImage@350AM.jpg
END:VEVENT
END:VCALENDAR